Workbook

Sheet ORDEN DE CUARENTENA
AF1: Página | AH1: 1 | AI1: de | AJ1: =AM1+1 -> 1 | AM1: =IF(ISBLANK(ANEXO!R14),0,1) -> 0 | AN1: Cuenta CITES blanco | AO1: =AG59+ANEXO!AG59 -> 180 | BL1: País Exportador | BM1: Ambiente | BN1: XV - Arica y Parinacota | BO1: Pez | BP1: Cnidaria | BQ1: Porifera | BR1: Arthropoda | BS1: Annelida | BT1: Echinodermata | BU1: Mollusca | BV1: Alga | BW1: Plantas | BY1: Cites | BZ1: SituacionCITES | CA1: Columna1 | CC1: SuscepEARs | CD1: EARs | CF1: Este fomulario incluye en sus listas desplegables a especies para fines ornamentales
AB2: Región de la Estación | AE2: XIII - Metropolitana | AN2: Cuenta EARs blanco | AO2: =AI59+ANEXO!AI59 -> 180 | BL2: Argentina | BM2: Dulceacuícola | BN2: I - Tarapacá | BO2: Abramites | BP2: Acanthastrea | BQ2: Acanthella cavernosa | BR2: Alpheus armatus | BS2: Bispira brunnea | BT2: Diadema setosum | BU2: Ampullaria cuprina | BV2: Halimeda discoidea | BW2: Anubias barteri | BY2: Arapaima gigas | BZ2: SI | CA2: Arapaima gigas (A II) | CC2: Anabas testudineus | CD2: SUE | CF2: listadas en nómina de especies hidrobiológicas vivas de importación autorizada
AB3: N° Acta de Internación asociada | BL3: Brasil | BM3: Marino | BN3: II - Antofagasta | BO3: Abudefduf | BP3: Acropora | BQ3: Agelas sceptrum | BR3: Alpheus randalli | BS3: Protula bispiralis | BT3: Echinometra mathaei | BU3: Aplysia dactylomela | BV3: Halimeda goreaui | BW3: Aponogeton rigidifolius | BY3: Barbus pahangensis | BZ3: SI | CA3: Barbus pahangensis sinínimo de Probarbus jullieni (A I) | CC3: Arius acutirostris | CD3: SUE | CF3: según R. EXENTA N° 02359/2026, de la Subsecretaría de Pesca y Acuicultura.
N4: ORDEN DE CUARENTENA | BL4: Colombia | BN4: III - Atacama | BO4: Acanthicus | BP4: Actinodiscus | BQ4: Ectyoplasia ferox | BR4: Artemia salina | BS4: Sabellastarte magnifica | BT4: Echinometra viridis | BU4: Astraea tecta | BV4: Penicillus capitatus | BW4: Cryptocoryne wendtii | BY4: Carcharhinus | BZ4: SI | CA4: A II | CC4: Arius africanus | CD4: SUE
M5: Especies ornamentales | BL5: Holanda | BN5: IV - Coquimbo | BO5: Acanthodoras | BP5: Alcyonium | BQ5: Niphates digitalis | BR5: Atyopsis spinipes | BS5: Spirobranchus giganteus | BT5: Eucidaris tribuloides | BU5: Cerithium litteratum | BW5: Echinodorus amazonicus | BY5: Carcharhinus acronotus | BZ5: SI | CA5: A II | CC5: Arius arenarius | CD5: SUE
B6: Inicio cuarentena | O6: Día 15: | Q6: =I6+14 -> 14 | BL6: Kenia | BN6: V - Valparaíso | BO6: Acanthostracion | BP6: Alveopora | BQ6: Pseudoceratina crassa | BR6: Atyopsis moluccensis | BT6: Linckia guildingii | BU6: Lima scabra | BW6: Echinodorus bleheri | BY6: Carcharhinus albimarginatus | BZ6: SI | CA6: A II | CC6: Arius arius | CD6: SUE
B7: Titular Est. Cuarentena | O7: RUT: | W7: Total declarado | AB7: Anexo | AE7: CITES | AH7: EARs | BL7: Israel | BN7: XIII - Metropolitana | BO7: Acanthurus | BP7: Anthelia | BR7: Calcinus elegans | BT7: Lytechinus variegatus | BU7: Lithopoma tectum | BW7: Echinodorus horizontalis | BY7: Carcharhinus altimus | BZ7: SI | CA7: A II | CC7: Arius brunellii | CD7: SUE
B8: Dirección | O8: N° Resolución: | W8: =AD59+ANEXO!AD59 -> 0 | AB8: =IF(ANEXO!AD59>0,"SI","") | AE8: =IF(AO1<180,"SI","") | AH8: =IF(AO2<180,"SI","") | BL8: Perú | BN8: VI - O'Higgins | BO8: Acarichthys | BP8: Antinodiscus | BR8: Calcinus tibicen | BT8: Ophioderma brevicaudum | BU8: Octopus vulgaris | BW8: Echinodorus oriental | BY8: Carcharhinus amblyrhynchoides | BZ8: SI | CA8: A II | CC8: Arius cous | CD8: SUE
B9: Nombre del Proveedor | O9: PAIS | AE9: =180-AO1 -> 0 | AH9: =180-AO2 -> 0 | BL9: EEUU | BN9: VII - Maule | BO9: Acaronia | BP9: Bartholomea | BR9: Caridina gracilirostris | BT9: Oreaster reticulatus | BU9: Tridachia crispata | BW9: Echinodorus quadricostatus | BY9: Carcharhinus amblyrhynchos | BZ9: SI | CA9: A II | CC9: Arius dispar | CD9: SUE
BN10: XVI - Ñuble | BO10: Acestrorhynchus | BP10: Blastomussa | BR10: Caridina multidentata | BT10: Tripneustes ventricosus | BU10: Tridacna crocea | BW10: Echinodorus schlueteri | BY10: Carcharhinus amboinensis | BZ10: SI | CA10: A II | CC10: Arius gagora | CD10: SUE
C11: Información declarada para solicitar autorización de Acta de Internación y de inicio de cuarentena | AG11: Consideraciones | BN11: VIII - Biobío | BO11: Achirus | BP11: Briareum | BR11: Ciliopagurus strigatus | BU11: Tridacna derasa | BW11: Eusteralis stellata | BY11: Carcharhinus borneensis | BZ11: SI | CA11: A II | CC11: Arius gigas | CD11: SUE
B12: Item | C12: Nombre común o variedad (lote de especie ornamental) | J12: Categoría (según Res. Ex.) | N12: Ambiente | R12: Seleccione de lista(s) desplegable(s) el nombre científico | AD12: Cantidad Declarada | AG12: CITES | AI12: Pez susceptible EARs | AM12: 1 | AN12: 2 | AO12: 3 | AP12: 4 | AQ12: 5 | AR12: 6 | AS12: 7 | AT12: 8 | AU12: 9 | AV12: 10 | AW12: 11 | AX12: 12 | AY12: 13 | AZ12: 14 | BA12: 15 | BB12: 16 | BC12: 17 | BD12: 18 | BN12: IX - Araucanía | BO12: Acreichthys | BP12: Catalaphyllia | BR12: Clibanarius tricolor | BU12: Tridacna maxima | BW12: Nymphaea lotus | BY12: Carcharhinus brachyurus | BZ12: SI | CA12: A II | CC12: Arius harmandi | CD12: SUE
R13: Género o especie (Autorizada) | Y13: Especie (pez o cnidaria) | AM13: Item | AN13: Concatenado | AO13: nombre comun | AP13: grupo | AQ13: ambiente | AR13: cantidad arribada | AS13: mortalidad acumulada | AT13: saldo | AU13: porcentaje mortalidad | AV13: Arribada resumen | AW13: Tratamiento Si o No | AX13: Mortalidad dia 1 | AY13: Mortalidad 2 a 8 (Sem 1) | AZ13: Mortalidad 9 a 15 (Sem 2) | BA13: % mort dia 1 | BB13: % mort sem 1 | BC13: % mort sem 2 | BD13: Estadío desarrollo | BF13: cantidad arribada | BG13: mortalidad acumulada | BH13: saldo | BI13: Mortalidad dia 1 | BJ13: Mortalidad 2 a 8 (Sem 1) | BK13: Mortalidad 9 a 15 (Sem 2) | BM13: CITES | BN13: XIV - Los Ríos | BO13: Aequidens | BP13: Caulastraea | BR13: Dardanus calidus | BU13: Tridacna squamosa | BW13: Rhizophora mangle | BY13: Carcharhinus brevipinna | BZ13: SI | CA13: A II | CC13: Arius heudelotii | CD13: SUE
B14: 1 | N14: =INDEX(AMBIENTE!D$2:D$797,MATCH(R14,AMBIENTE!C$2:C$797,0)) -> #N/A | AG14: =IFERROR(VLOOKUP(Item[[#This Row],[Concatenado]],CITES[],2,FALSE),"") | AI14: =IFERROR(VLOOKUP(Item[[#This Row],[Concatenado]],SuscepEARs[],2,FALSE),"") | AM14: 1 | AN14: =CONCATENATE(R14," ",Y14) | AO14: =C14 -> 0 | AP14: =J14 -> 0 | AQ14: =IFERROR(N14,"") | AR14: =SUMIF('Acuario (Arribado - mortalidad)'!$B$15:$B$244,'ORDEN DE CUARENTENA'!B14,'Acuario (Arribado - mortalidad)'!$F$15:$F$244) -> 0 | AS14: =IF(AR14>0, IF(SUMIF('Acuario (Arribado - mortalidad)'!$B$15:$B$244,'ORDEN DE CUARENTENA'!B14,'Acuario (Arribado - mortalidad)'!$K$15:$K$244)=0, "0", SUMIF('Acuario (Arribado - mortalidad)'!$B$15:$B$244,'ORDEN DE CUARENTENA'!B14,'Acuario (Arribado - mortalidad)'!$K$15:$K$244)),"") | AT14: =IF(AR14 = AS14,"0", SUMIF('Acuario (Arribado - mortalidad)'!$B$15:$B$244,'ORDEN DE CUARENTENA'!B14,'Acuario (Arribado - mortalidad)'!$G$15:$G$244)) -> 0 | AU14: =IFERROR(Item[[#This Row],[mortalidad acumulada]]/Item[[#This Row],[cantidad arribada]],"") | AV14: =IF(ISTEXT(R14),IF(Item[[#This Row],[cantidad arribada]]=0,"No llega",Item[[#This Row],[cantidad arribada]]),) -> 0 | AW14: =IFERROR(VLOOKUP(B14,'Tratamientos-Eventos'!$B$9:$S$20,19,FALSE),"") | AX14: =SUMIF('Acuario (Arribado - mortalidad)'!$B$15:$B$244,'ORDEN DE CUARENTENA'!B14,'Acuario (Arribado - mortalidad)'!$O$15:$O$244) -> 0 | AY14: =SUMIF('Acuario (Arribado - mortalidad)'!$B$15:$B$244,'ORDEN DE CUARENTENA'!B14,'Acuario (Arribado - mortalidad)'!$BG$15:$BG$244) -> 0 | AZ14: =SUMIF('Acuario (Arribado - mortalidad)'!$B$15:$B$244,'ORDEN DE CUARENTENA'!B14,'Acuario (Arribado - mortalidad)'!$BH$15:$BH$244) -> 0 | BA14: =IFERROR(Item[[#This Row],[Mortalidad dia 1]]/Item[[#This Row],[cantidad arribada]],"") | BB14: =IFERROR(Item[[#This Row],[Mortalidad 2 a 8 (Sem 1)]]/Item[[#This Row],[cantidad arribada]],"") | BC14: =IFERROR(Item[[#This Row],[Mortalidad 9 a 15 (Sem 2)]]/Item[[#This Row],[cantidad arribada]],"") | BD14: =AC14 -> 0 | BF14: =SUMIF('Acuario (Arribado - mortalidad)'!$B$15:$B$244,'ORDEN DE CUARENTENA'!B14,'Acuario (Arribado - mortalidad)'!$F$15:$F$244) -> 0 | BG14: =SUMIF('Acuario (Arribado - mortalidad)'!$B$15:$B$244,'ORDEN DE CUARENTENA'!B14,'Acuario (Arribado - mortalidad)'!$K$15:$K$244) -> 0 | BH14: =SUMIF('Acuario (Arribado - mortalidad)'!$B$15:$B$244,'ORDEN DE CUARENTENA'!B14,'Acuario (Arribado - mortalidad)'!$G$15:$G$244) -> 0 | BI14: =SUMIF('Acuario (Arribado - mortalidad)'!$B$15:$B$244,'ORDEN DE CUARENTENA'!B14,'Acuario (Arribado - mortalidad)'!$O$15:$O$244) -> 0 | BJ14: =SUMIF('Acuario (Arribado - mortalidad)'!$B$15:$B$244,'ORDEN DE CUARENTENA'!B14,'Acuario (Arribado - mortalidad)'!$BG$15:$BG$244) -> 0 | BK14: =SUMIF('Acuario (Arribado - mortalidad)'!$B$15:$B$244,'ORDEN DE CUARENTENA'!B14,'Acuario (Arribado - mortalidad)'!$BH$15:$BH$244) -> 0 | BM14: =IFERROR(VLOOKUP(R14:AC14,CITES[],2,FALSE),"") | BN14: X - Los Lagos | BO14: Agamyxis | BP14: Cerianthus | BR14: Dardanus pedunculatus | BU14: Turbo fluctuosus | BY14: Carcharhinus cautus | BZ14: SI | CA14: A II | CC14: Arius jatius | CD14: SUE
B15: 2 | N15: =INDEX(AMBIENTE!D$2:D$797,MATCH(R15,AMBIENTE!C$2:C$797,0)) -> #N/A | AG15: =IFERROR(VLOOKUP(Item[[#This Row],[Concatenado]],CITES[],2,FALSE),"") | AI15: =IFERROR(VLOOKUP(Item[[#This Row],[Concatenado]],SuscepEARs[],2,FALSE),"") | AM15: 2 | AN15: =CONCATENATE(R15," ",Y15) | AO15: =C15 -> 0 | AP15: =J15 -> 0 | AQ15: =IFERROR(N15,"") | AR15: =SUMIF('Acuario (Arribado - mortalidad)'!$B$15:$B$244,'ORDEN DE CUARENTENA'!B15,'Acuario (Arribado - mortalidad)'!$F$15:$F$244) -> 0 | AS15: =IF(AR15>0, IF(SUMIF('Acuario (Arribado - mortalidad)'!$B$15:$B$244,'ORDEN DE CUARENTENA'!B15,'Acuario (Arribado - mortalidad)'!$K$15:$K$244)=0, "0", SUMIF('Acuario (Arribado - mortalidad)'!$B$15:$B$244,'ORDEN DE CUARENTENA'!B15,'Acuario (Arribado - mortalidad)'!$K$15:$K$244)),"") | AT15: =IF(AR15 = AS15,"0", SUMIF('Acuario (Arribado - mortalidad)'!$B$15:$B$244,'ORDEN DE CUARENTENA'!B15,'Acuario (Arribado - mortalidad)'!$G$15:$G$244)) -> 0 | AU15: =IFERROR(Item[[#This Row],[mortalidad acumulada]]/Item[[#This Row],[cantidad arribada]],"") | AV15: =IF(ISTEXT(R15),IF(Item[[#This Row],[cantidad arribada]]=0,"No llega",Item[[#This Row],[cantidad arribada]]),) -> 0 | AW15: =IFERROR(VLOOKUP(B15,'Tratamientos-Eventos'!$B$9:$S$20,19,FALSE),"") | AX15: =SUMIF('Acuario (Arribado - mortalidad)'!$B$15:$B$244,'ORDEN DE CUARENTENA'!B15,'Acuario (Arribado - mortalidad)'!$O$15:$O$244) -> 0 | AY15: =SUMIF('Acuario (Arribado - mortalidad)'!$B$15:$B$244,'ORDEN DE CUARENTENA'!B15,'Acuario (Arribado - mortalidad)'!$BG$15:$BG$244) -> 0 | AZ15: =SUMIF('Acuario (Arribado - mortalidad)'!$B$15:$B$244,'ORDEN DE CUARENTENA'!B15,'Acuario (Arribado - mortalidad)'!$BH$15:$BH$244) -> 0 | BA15: =IFERROR(Item[[#This Row],[Mortalidad dia 1]]/Item[[#This Row],[cantidad arribada]],"") | BB15: =IFERROR(Item[[#This Row],[Mortalidad 2 a 8 (Sem 1)]]/Item[[#This Row],[cantidad arribada]],"") | BC15: =IFERROR(Item[[#This Row],[Mortalidad 9 a 15 (Sem 2)]]/Item[[#This Row],[cantidad arribada]],"") | BD15: =AC15 -> 0 | BF15: =SUMIF('Acuario (Arribado - mortalidad)'!$B$15:$B$244,'ORDEN DE CUARENTENA'!B15,'Acuario (Arribado - mortalidad)'!$F$15:$F$244) -> 0 | BG15: =SUMIF('Acuario (Arribado - mortalidad)'!$B$15:$B$244,'ORDEN DE CUARENTENA'!B15,'Acuario (Arribado - mortalidad)'!$K$15:$K$244) -> 0 | BH15: =SUMIF('Acuario (Arribado - mortalidad)'!$B$15:$B$244,'ORDEN DE CUARENTENA'!B15,'Acuario (Arribado - mortalidad)'!$G$15:$G$244) -> 0 | BI15: =SUMIF('Acuario (Arribado - mortalidad)'!$B$15:$B$244,'ORDEN DE CUARENTENA'!B15,'Acuario (Arribado - mortalidad)'!$O$15:$O$244) -> 0 | BJ15: =SUMIF('Acuario (Arribado - mortalidad)'!$B$15:$B$244,'ORDEN DE CUARENTENA'!B15,'Acuario (Arribado - mortalidad)'!$BG$15:$BG$244) -> 0 | BK15: =SUMIF('Acuario (Arribado - mortalidad)'!$B$15:$B$244,'ORDEN DE CUARENTENA'!B15,'Acuario (Arribado - mortalidad)'!$BH$15:$BH$244) -> 0 | BM15: =IFERROR(VLOOKUP(AN15,CITES[],2,FALSE),"") | BN15: XI - Aysén | BO15: Alectis | BP15: Cladiella | BR15: Hymenocera picta | BY15: Carcharhinus cerdale | BZ15: SI | CA15: A II | CC15: Arius jordani | CD15: SUE
B16: 3 | N16: =INDEX(AMBIENTE!D$2:D$797,MATCH(R16,AMBIENTE!C$2:C$797,0)) -> #N/A | AG16: =IFERROR(VLOOKUP(Item[[#This Row],[Concatenado]],CITES[],2,FALSE),"") | AI16: =IFERROR(VLOOKUP(Item[[#This Row],[Concatenado]],SuscepEARs[],2,FALSE),"") | AM16: 3 | AN16: =CONCATENATE(R16," ",Y16) | AO16: =C16 -> 0 | AP16: =J16 -> 0 | AQ16: =IFERROR(N16,"") | AR16: =SUMIF('Acuario (Arribado - mortalidad)'!$B$15:$B$244,'ORDEN DE CUARENTENA'!B16,'Acuario (Arribado - mortalidad)'!$F$15:$F$244) -> 0 | AS16: =IF(AR16>0, IF(SUMIF('Acuario (Arribado - mortalidad)'!$B$15:$B$244,'ORDEN DE CUARENTENA'!B16,'Acuario (Arribado - mortalidad)'!$K$15:$K$244)=0, "0", SUMIF('Acuario (Arribado - mortalidad)'!$B$15:$B$244,'ORDEN DE CUARENTENA'!B16,'Acuario (Arribado - mortalidad)'!$K$15:$K$244)),"") | AT16: =IF(AR16 = AS16,"0", SUMIF('Acuario (Arribado - mortalidad)'!$B$15:$B$244,'ORDEN DE CUARENTENA'!B16,'Acuario (Arribado - mortalidad)'!$G$15:$G$244)) -> 0 | AU16: =IFERROR(Item[[#This Row],[mortalidad acumulada]]/Item[[#This Row],[cantidad arribada]],"") | AV16: =IF(ISTEXT(R16),IF(Item[[#This Row],[cantidad arribada]]=0,"No llega",Item[[#This Row],[cantidad arribada]]),) -> 0 | AW16: =IFERROR(VLOOKUP(B16,'Tratamientos-Eventos'!$B$9:$S$20,19,FALSE),"") | AX16: =SUMIF('Acuario (Arribado - mortalidad)'!$B$15:$B$244,'ORDEN DE CUARENTENA'!B16,'Acuario (Arribado - mortalidad)'!$O$15:$O$244) -> 0 | AY16: =SUMIF('Acuario (Arribado - mortalidad)'!$B$15:$B$244,'ORDEN DE CUARENTENA'!B16,'Acuario (Arribado - mortalidad)'!$BG$15:$BG$244) -> 0 | AZ16: =SUMIF('Acuario (Arribado - mortalidad)'!$B$15:$B$244,'ORDEN DE CUARENTENA'!B16,'Acuario (Arribado - mortalidad)'!$BH$15:$BH$244) -> 0 | BA16: =IFERROR(Item[[#This Row],[Mortalidad dia 1]]/Item[[#This Row],[cantidad arribada]],"") | BB16: =IFERROR(Item[[#This Row],[Mortalidad 2 a 8 (Sem 1)]]/Item[[#This Row],[cantidad arribada]],"") | BC16: =IFERROR(Item[[#This Row],[Mortalidad 9 a 15 (Sem 2)]]/Item[[#This Row],[cantidad arribada]],"") | BD16: =AC16 -> 0 | BF16: =SUMIF('Acuario (Arribado - mortalidad)'!$B$15:$B$244,'ORDEN DE CUARENTENA'!B16,'Acuario (Arribado - mortalidad)'!$F$15:$F$244) -> 0 | BG16: =SUMIF('Acuario (Arribado - mortalidad)'!$B$15:$B$244,'ORDEN DE CUARENTENA'!B16,'Acuario (Arribado - mortalidad)'!$K$15:$K$244) -> 0 | BH16: =SUMIF('Acuario (Arribado - mortalidad)'!$B$15:$B$244,'ORDEN DE CUARENTENA'!B16,'Acuario (Arribado - mortalidad)'!$G$15:$G$244) -> 0 | BI16: =SUMIF('Acuario (Arribado - mortalidad)'!$B$15:$B$244,'ORDEN DE CUARENTENA'!B16,'Acuario (Arribado - mortalidad)'!$O$15:$O$244) -> 0 | BJ16: =SUMIF('Acuario (Arribado - mortalidad)'!$B$15:$B$244,'ORDEN DE CUARENTENA'!B16,'Acuario (Arribado - mortalidad)'!$BG$15:$BG$244) -> 0 | BK16: =SUMIF('Acuario (Arribado - mortalidad)'!$B$15:$B$244,'ORDEN DE CUARENTENA'!B16,'Acuario (Arribado - mortalidad)'!$BH$15:$BH$244) -> 0 | BM16: =IFERROR(VLOOKUP(AN16,CITES[],2,FALSE),"") | BN16: XII - Magallanes | BO16: Altolamprologus | BP16: Clavularia | BR16: Hymenocera elegans | BY16: Carcharhinus coatesi | BZ16: SI | CA16: A II | CC16: Arius latiscutatus | CD16: SUE
B17: 4 | N17: =INDEX(AMBIENTE!D$2:D$797,MATCH(R17,AMBIENTE!C$2:C$797,0)) -> #N/A | AG17: =IFERROR(VLOOKUP(Item[[#This Row],[Concatenado]],CITES[],2,FALSE),"") | AI17: =IFERROR(VLOOKUP(Item[[#This Row],[Concatenado]],SuscepEARs[],2,FALSE),"") | AM17: 4 | AN17: =CONCATENATE(R17," ",Y17) | AO17: =C17 -> 0 | AP17: =J17 -> 0 | AQ17: =IFERROR(N17,"") | AR17: =SUMIF('Acuario (Arribado - mortalidad)'!$B$15:$B$244,'ORDEN DE CUARENTENA'!B17,'Acuario (Arribado - mortalidad)'!$F$15:$F$244) -> 0 | AS17: =IF(AR17>0, IF(SUMIF('Acuario (Arribado - mortalidad)'!$B$15:$B$244,'ORDEN DE CUARENTENA'!B17,'Acuario (Arribado - mortalidad)'!$K$15:$K$244)=0, "0", SUMIF('Acuario (Arribado - mortalidad)'!$B$15:$B$244,'ORDEN DE CUARENTENA'!B17,'Acuario (Arribado - mortalidad)'!$K$15:$K$244)),"") | AT17: =IF(AR17 = AS17,"0", SUMIF('Acuario (Arribado - mortalidad)'!$B$15:$B$244,'ORDEN DE CUARENTENA'!B17,'Acuario (Arribado - mortalidad)'!$G$15:$G$244)) -> 0 | AU17: =IFERROR(Item[[#This Row],[mortalidad acumulada]]/Item[[#This Row],[cantidad arribada]],"") | AV17: =IF(ISTEXT(R17),IF(Item[[#This Row],[cantidad arribada]]=0,"No llega",Item[[#This Row],[cantidad arribada]]),) -> 0 | AW17: =IFERROR(VLOOKUP(B17,'Tratamientos-Eventos'!$B$9:$S$20,19,FALSE),"") | AX17: =SUMIF('Acuario (Arribado - mortalidad)'!$B$15:$B$244,'ORDEN DE CUARENTENA'!B17,'Acuario (Arribado - mortalidad)'!$O$15:$O$244) -> 0 | AY17: =SUMIF('Acuario (Arribado - mortalidad)'!$B$15:$B$244,'ORDEN DE CUARENTENA'!B17,'Acuario (Arribado - mortalidad)'!$BG$15:$BG$244) -> 0 | AZ17: =SUMIF('Acuario (Arribado - mortalidad)'!$B$15:$B$244,'ORDEN DE CUARENTENA'!B17,'Acuario (Arribado - mortalidad)'!$BH$15:$BH$244) -> 0 | BA17: =IFERROR(Item[[#This Row],[Mortalidad dia 1]]/Item[[#This Row],[cantidad arribada]],"") | BB17: =IFERROR(Item[[#This Row],[Mortalidad 2 a 8 (Sem 1)]]/Item[[#This Row],[cantidad arribada]],"") | BC17: =IFERROR(Item[[#This Row],[Mortalidad 9 a 15 (Sem 2)]]/Item[[#This Row],[cantidad arribada]],"") | BD17: =AC17 -> 0 | BF17: =SUMIF('Acuario (Arribado - mortalidad)'!$B$15:$B$244,'ORDEN DE CUARENTENA'!B17,'Acuario (Arribado - mortalidad)'!$F$15:$F$244) -> 0 | BG17: =SUMIF('Acuario (Arribado - mortalidad)'!$B$15:$B$244,'ORDEN DE CUARENTENA'!B17,'Acuario (Arribado - mortalidad)'!$K$15:$K$244) -> 0 | BH17: =SUMIF('Acuario (Arribado - mortalidad)'!$B$15:$B$244,'ORDEN DE CUARENTENA'!B17,'Acuario (Arribado - mortalidad)'!$G$15:$G$244) -> 0 | BI17: =SUMIF('Acuario (Arribado - mortalidad)'!$B$15:$B$244,'ORDEN DE CUARENTENA'!B17,'Acuario (Arribado - mortalidad)'!$O$15:$O$244) -> 0 | BJ17: =SUMIF('Acuario (Arribado - mortalidad)'!$B$15:$B$244,'ORDEN DE CUARENTENA'!B17,'Acuario (Arribado - mortalidad)'!$BG$15:$BG$244) -> 0 | BK17: =SUMIF('Acuario (Arribado - mortalidad)'!$B$15:$B$244,'ORDEN DE CUARENTENA'!B17,'Acuario (Arribado - mortalidad)'!$BH$15:$BH$244) -> 0 | BM17: =IFERROR(VLOOKUP(AN17,CITES[],2,FALSE),"") | BO17: Amblydoras | BP17: Condylactis | BR17: Limulus polyphemus | BY17: Carcharhinus dussumieri | BZ17: SI | CA17: A II | CC17: Arius leptonotacanthus | CD17: SUE
B18: 5 | N18: =INDEX(AMBIENTE!D$2:D$797,MATCH(R18,AMBIENTE!C$2:C$797,0)) -> #N/A | AG18: =IFERROR(VLOOKUP(Item[[#This Row],[Concatenado]],CITES[],2,FALSE),"") | AI18: =IFERROR(VLOOKUP(Item[[#This Row],[Concatenado]],SuscepEARs[],2,FALSE),"") | AM18: 5 | AN18: =CONCATENATE(R18," ",Y18) | AO18: =C18 -> 0 | AP18: =J18 -> 0 | AQ18: =IFERROR(N18,"") | AR18: =SUMIF('Acuario (Arribado - mortalidad)'!$B$15:$B$244,'ORDEN DE CUARENTENA'!B18,'Acuario (Arribado - mortalidad)'!$F$15:$F$244) -> 0 | AS18: =IF(AR18>0, IF(SUMIF('Acuario (Arribado - mortalidad)'!$B$15:$B$244,'ORDEN DE CUARENTENA'!B18,'Acuario (Arribado - mortalidad)'!$K$15:$K$244)=0, "0", SUMIF('Acuario (Arribado - mortalidad)'!$B$15:$B$244,'ORDEN DE CUARENTENA'!B18,'Acuario (Arribado - mortalidad)'!$K$15:$K$244)),"") | AT18: =IF(AR18 = AS18,"0", SUMIF('Acuario (Arribado - mortalidad)'!$B$15:$B$244,'ORDEN DE CUARENTENA'!B18,'Acuario (Arribado - mortalidad)'!$G$15:$G$244)) -> 0 | AU18: =IFERROR(Item[[#This Row],[mortalidad acumulada]]/Item[[#This Row],[cantidad arribada]],"") | AV18: =IF(ISTEXT(R18),IF(Item[[#This Row],[cantidad arribada]]=0,"No llega",Item[[#This Row],[cantidad arribada]]),) -> 0 | AW18: =IFERROR(VLOOKUP(B18,'Tratamientos-Eventos'!$B$9:$S$20,19,FALSE),"") | AX18: =SUMIF('Acuario (Arribado - mortalidad)'!$B$15:$B$244,'ORDEN DE CUARENTENA'!B18,'Acuario (Arribado - mortalidad)'!$O$15:$O$244) -> 0 | AY18: =SUMIF('Acuario (Arribado - mortalidad)'!$B$15:$B$244,'ORDEN DE CUARENTENA'!B18,'Acuario (Arribado - mortalidad)'!$BG$15:$BG$244) -> 0 | AZ18: =SUMIF('Acuario (Arribado - mortalidad)'!$B$15:$B$244,'ORDEN DE CUARENTENA'!B18,'Acuario (Arribado - mortalidad)'!$BH$15:$BH$244) -> 0 | BA18: =IFERROR(Item[[#This Row],[Mortalidad dia 1]]/Item[[#This Row],[cantidad arribada]],"") | BB18: =IFERROR(Item[[#This Row],[Mortalidad 2 a 8 (Sem 1)]]/Item[[#This Row],[cantidad arribada]],"") | BC18: =IFERROR(Item[[#This Row],[Mortalidad 9 a 15 (Sem 2)]]/Item[[#This Row],[cantidad arribada]],"") | BD18: =AC18 -> 0 | BF18: =SUMIF('Acuario (Arribado - mortalidad)'!$B$15:$B$244,'ORDEN DE CUARENTENA'!B18,'Acuario (Arribado - mortalidad)'!$F$15:$F$244) -> 0 | BG18: =SUMIF('Acuario (Arribado - mortalidad)'!$B$15:$B$244,'ORDEN DE CUARENTENA'!B18,'Acuario (Arribado - mortalidad)'!$K$15:$K$244) -> 0 | BH18: =SUMIF('Acuario (Arribado - mortalidad)'!$B$15:$B$244,'ORDEN DE CUARENTENA'!B18,'Acuario (Arribado - mortalidad)'!$G$15:$G$244) -> 0 | BI18: =SUMIF('Acuario (Arribado - mortalidad)'!$B$15:$B$244,'ORDEN DE CUARENTENA'!B18,'Acuario (Arribado - mortalidad)'!$O$15:$O$244) -> 0 | BJ18: =SUMIF('Acuario (Arribado - mortalidad)'!$B$15:$B$244,'ORDEN DE CUARENTENA'!B18,'Acuario (Arribado - mortalidad)'!$BG$15:$BG$244) -> 0 | BK18: =SUMIF('Acuario (Arribado - mortalidad)'!$B$15:$B$244,'ORDEN DE CUARENTENA'!B18,'Acuario (Arribado - mortalidad)'!$BH$15:$BH$244) -> 0 | BM18: =IFERROR(VLOOKUP(AN18,CITES[],2,FALSE),"") | BO18: Amblyeleotris | BP18: Cynarina | BR18: Lysmata amboinensis | BY18: Carcharhinus falciformis | BZ18: SI | CA18: A II | CC18: Arius macracanthus | CD18: SUE
B19: 6 | N19: =INDEX(AMBIENTE!D$2:D$797,MATCH(R19,AMBIENTE!C$2:C$797,0)) -> #N/A | AG19: =IFERROR(VLOOKUP(Item[[#This Row],[Concatenado]],CITES[],2,FALSE),"") | AI19: =IFERROR(VLOOKUP(Item[[#This Row],[Concatenado]],SuscepEARs[],2,FALSE),"") | AM19: 6 | AN19: =CONCATENATE(R19," ",Y19) | AO19: =C19 -> 0 | AP19: =J19 -> 0 | AQ19: =IFERROR(N19,"") | AR19: =SUMIF('Acuario (Arribado - mortalidad)'!$B$15:$B$244,'ORDEN DE CUARENTENA'!B19,'Acuario (Arribado - mortalidad)'!$F$15:$F$244) -> 0 | AS19: =IF(AR19>0, IF(SUMIF('Acuario (Arribado - mortalidad)'!$B$15:$B$244,'ORDEN DE CUARENTENA'!B19,'Acuario (Arribado - mortalidad)'!$K$15:$K$244)=0, "0", SUMIF('Acuario (Arribado - mortalidad)'!$B$15:$B$244,'ORDEN DE CUARENTENA'!B19,'Acuario (Arribado - mortalidad)'!$K$15:$K$244)),"") | AT19: =IF(AR19 = AS19,"0", SUMIF('Acuario (Arribado - mortalidad)'!$B$15:$B$244,'ORDEN DE CUARENTENA'!B19,'Acuario (Arribado - mortalidad)'!$G$15:$G$244)) -> 0 | AU19: =IFERROR(Item[[#This Row],[mortalidad acumulada]]/Item[[#This Row],[cantidad arribada]],"") | AV19: =IF(ISTEXT(R19),IF(Item[[#This Row],[cantidad arribada]]=0,"No llega",Item[[#This Row],[cantidad arribada]]),) -> 0 | AW19: =IFERROR(VLOOKUP(B19,'Tratamientos-Eventos'!$B$9:$S$20,19,FALSE),"") | AX19: =SUMIF('Acuario (Arribado - mortalidad)'!$B$15:$B$244,'ORDEN DE CUARENTENA'!B19,'Acuario (Arribado - mortalidad)'!$O$15:$O$244) -> 0 | AY19: =SUMIF('Acuario (Arribado - mortalidad)'!$B$15:$B$244,'ORDEN DE CUARENTENA'!B19,'Acuario (Arribado - mortalidad)'!$BG$15:$BG$244) -> 0 | AZ19: =SUMIF('Acuario (Arribado - mortalidad)'!$B$15:$B$244,'ORDEN DE CUARENTENA'!B19,'Acuario (Arribado - mortalidad)'!$BH$15:$BH$244) -> 0 | BA19: =IFERROR(Item[[#This Row],[Mortalidad dia 1]]/Item[[#This Row],[cantidad arribada]],"") | BB19: =IFERROR(Item[[#This Row],[Mortalidad 2 a 8 (Sem 1)]]/Item[[#This Row],[cantidad arribada]],"") | BC19: =IFERROR(Item[[#This Row],[Mortalidad 9 a 15 (Sem 2)]]/Item[[#This Row],[cantidad arribada]],"") | BD19: =AC19 -> 0 | BF19: =SUMIF('Acuario (Arribado - mortalidad)'!$B$15:$B$244,'ORDEN DE CUARENTENA'!B19,'Acuario (Arribado - mortalidad)'!$F$15:$F$244) -> 0 | BG19: =SUMIF('Acuario (Arribado - mortalidad)'!$B$15:$B$244,'ORDEN DE CUARENTENA'!B19,'Acuario (Arribado - mortalidad)'!$K$15:$K$244) -> 0 | BH19: =SUMIF('Acuario (Arribado - mortalidad)'!$B$15:$B$244,'ORDEN DE CUARENTENA'!B19,'Acuario (Arribado - mortalidad)'!$G$15:$G$244) -> 0 | BI19: =SUMIF('Acuario (Arribado - mortalidad)'!$B$15:$B$244,'ORDEN DE CUARENTENA'!B19,'Acuario (Arribado - mortalidad)'!$O$15:$O$244) -> 0 | BJ19: =SUMIF('Acuario (Arribado - mortalidad)'!$B$15:$B$244,'ORDEN DE CUARENTENA'!B19,'Acuario (Arribado - mortalidad)'!$BG$15:$BG$244) -> 0 | BK19: =SUMIF('Acuario (Arribado - mortalidad)'!$B$15:$B$244,'ORDEN DE CUARENTENA'!B19,'Acuario (Arribado - mortalidad)'!$BH$15:$BH$244) -> 0 | BM19: =IFERROR(VLOOKUP(AN19,CITES[],2,FALSE),"") | BO19: Amblygobius | BP19: Dendronephthya | BR19: Lysmata debelius | BY19: Carcharhinus fitzroyensis | BZ19: SI | CA19: A II | CC19: Arius macrorhynchus | CD19: SUE
B20: 7 | N20: =INDEX(AMBIENTE!D$2:D$797,MATCH(R20,AMBIENTE!C$2:C$797,0)) -> #N/A | AG20: =IFERROR(VLOOKUP(Item[[#This Row],[Concatenado]],CITES[],2,FALSE),"") | AI20: =IFERROR(VLOOKUP(Item[[#This Row],[Concatenado]],SuscepEARs[],2,FALSE),"") | AM20: 7 | AN20: =CONCATENATE(R20," ",Y20) | AO20: =C20 -> 0 | AP20: =J20 -> 0 | AQ20: =IFERROR(N20,"") | AR20: =SUMIF('Acuario (Arribado - mortalidad)'!$B$15:$B$244,'ORDEN DE CUARENTENA'!B20,'Acuario (Arribado - mortalidad)'!$F$15:$F$244) -> 0 | AS20: =IF(AR20>0, IF(SUMIF('Acuario (Arribado - mortalidad)'!$B$15:$B$244,'ORDEN DE CUARENTENA'!B20,'Acuario (Arribado - mortalidad)'!$K$15:$K$244)=0, "0", SUMIF('Acuario (Arribado - mortalidad)'!$B$15:$B$244,'ORDEN DE CUARENTENA'!B20,'Acuario (Arribado - mortalidad)'!$K$15:$K$244)),"") | AT20: =IF(AR20 = AS20,"0", SUMIF('Acuario (Arribado - mortalidad)'!$B$15:$B$244,'ORDEN DE CUARENTENA'!B20,'Acuario (Arribado - mortalidad)'!$G$15:$G$244)) -> 0 | AU20: =IFERROR(Item[[#This Row],[mortalidad acumulada]]/Item[[#This Row],[cantidad arribada]],"") | AV20: =IF(ISTEXT(R20),IF(Item[[#This Row],[cantidad arribada]]=0,"No llega",Item[[#This Row],[cantidad arribada]]),) -> 0 | AW20: =IFERROR(VLOOKUP(B20,'Tratamientos-Eventos'!$B$9:$S$20,19,FALSE),"") | AX20: =SUMIF('Acuario (Arribado - mortalidad)'!$B$15:$B$244,'ORDEN DE CUARENTENA'!B20,'Acuario (Arribado - mortalidad)'!$O$15:$O$244) -> 0 | AY20: =SUMIF('Acuario (Arribado - mortalidad)'!$B$15:$B$244,'ORDEN DE CUARENTENA'!B20,'Acuario (Arribado - mortalidad)'!$BG$15:$BG$244) -> 0 | AZ20: =SUMIF('Acuario (Arribado - mortalidad)'!$B$15:$B$244,'ORDEN DE CUARENTENA'!B20,'Acuario (Arribado - mortalidad)'!$BH$15:$BH$244) -> 0 | BA20: =IFERROR(Item[[#This Row],[Mortalidad dia 1]]/Item[[#This Row],[cantidad arribada]],"") | BB20: =IFERROR(Item[[#This Row],[Mortalidad 2 a 8 (Sem 1)]]/Item[[#This Row],[cantidad arribada]],"") | BC20: =IFERROR(Item[[#This Row],[Mortalidad 9 a 15 (Sem 2)]]/Item[[#This Row],[cantidad arribada]],"") | BD20: =AC20 -> 0 | BF20: =SUMIF('Acuario (Arribado - mortalidad)'!$B$15:$B$244,'ORDEN DE CUARENTENA'!B20,'Acuario (Arribado - mortalidad)'!$F$15:$F$244) -> 0 | BG20: =SUMIF('Acuario (Arribado - mortalidad)'!$B$15:$B$244,'ORDEN DE CUARENTENA'!B20,'Acuario (Arribado - mortalidad)'!$K$15:$K$244) -> 0 | BH20: =SUMIF('Acuario (Arribado - mortalidad)'!$B$15:$B$244,'ORDEN DE CUARENTENA'!B20,'Acuario (Arribado - mortalidad)'!$G$15:$G$244) -> 0 | BI20: =SUMIF('Acuario (Arribado - mortalidad)'!$B$15:$B$244,'ORDEN DE CUARENTENA'!B20,'Acuario (Arribado - mortalidad)'!$O$15:$O$244) -> 0 | BJ20: =SUMIF('Acuario (Arribado - mortalidad)'!$B$15:$B$244,'ORDEN DE CUARENTENA'!B20,'Acuario (Arribado - mortalidad)'!$BG$15:$BG$244) -> 0 | BK20: =SUMIF('Acuario (Arribado - mortalidad)'!$B$15:$B$244,'ORDEN DE CUARENTENA'!B20,'Acuario (Arribado - mortalidad)'!$BH$15:$BH$244) -> 0 | BM20: =IFERROR(VLOOKUP(AN20,CITES[],2,FALSE),"") | BO20: Amphilophus | BP20: Diodogorgia | BR20: Lysmata grabhami | BY20: Carcharhinus galapagensis | BZ20: SI | CA20: A II | CC20: Arius maculatus | CD20: SUE
B21: 8 | N21: =INDEX(AMBIENTE!D$2:D$797,MATCH(R21,AMBIENTE!C$2:C$797,0)) -> #N/A | AG21: =IFERROR(VLOOKUP(Item[[#This Row],[Concatenado]],CITES[],2,FALSE),"") | AI21: =IFERROR(VLOOKUP(Item[[#This Row],[Concatenado]],SuscepEARs[],2,FALSE),"") | AM21: 8 | AN21: =CONCATENATE(R21," ",Y21) | AO21: =C21 -> 0 | AP21: =J21 -> 0 | AQ21: =IFERROR(N21,"") | AR21: =SUMIF('Acuario (Arribado - mortalidad)'!$B$15:$B$244,'ORDEN DE CUARENTENA'!B21,'Acuario (Arribado - mortalidad)'!$F$15:$F$244) -> 0 | AS21: =IF(AR21>0, IF(SUMIF('Acuario (Arribado - mortalidad)'!$B$15:$B$244,'ORDEN DE CUARENTENA'!B21,'Acuario (Arribado - mortalidad)'!$K$15:$K$244)=0, "0", SUMIF('Acuario (Arribado - mortalidad)'!$B$15:$B$244,'ORDEN DE CUARENTENA'!B21,'Acuario (Arribado - mortalidad)'!$K$15:$K$244)),"") | AT21: =IF(AR21 = AS21,"0", SUMIF('Acuario (Arribado - mortalidad)'!$B$15:$B$244,'ORDEN DE CUARENTENA'!B21,'Acuario (Arribado - mortalidad)'!$G$15:$G$244)) -> 0 | AU21: =IFERROR(Item[[#This Row],[mortalidad acumulada]]/Item[[#This Row],[cantidad arribada]],"") | AV21: =IF(ISTEXT(R21),IF(Item[[#This Row],[cantidad arribada]]=0,"No llega",Item[[#This Row],[cantidad arribada]]),) -> 0 | AW21: =IFERROR(VLOOKUP(B21,'Tratamientos-Eventos'!$B$9:$S$20,19,FALSE),"") | AX21: =SUMIF('Acuario (Arribado - mortalidad)'!$B$15:$B$244,'ORDEN DE CUARENTENA'!B21,'Acuario (Arribado - mortalidad)'!$O$15:$O$244) -> 0 | AY21: =SUMIF('Acuario (Arribado - mortalidad)'!$B$15:$B$244,'ORDEN DE CUARENTENA'!B21,'Acuario (Arribado - mortalidad)'!$BG$15:$BG$244) -> 0 | AZ21: =SUMIF('Acuario (Arribado - mortalidad)'!$B$15:$B$244,'ORDEN DE CUARENTENA'!B21,'Acuario (Arribado - mortalidad)'!$BH$15:$BH$244) -> 0 | BA21: =IFERROR(Item[[#This Row],[Mortalidad dia 1]]/Item[[#This Row],[cantidad arribada]],"") | BB21: =IFERROR(Item[[#This Row],[Mortalidad 2 a 8 (Sem 1)]]/Item[[#This Row],[cantidad arribada]],"") | BC21: =IFERROR(Item[[#This Row],[Mortalidad 9 a 15 (Sem 2)]]/Item[[#This Row],[cantidad arribada]],"") | BD21: =AC21 -> 0 | BF21: =SUMIF('Acuario (Arribado - mortalidad)'!$B$15:$B$244,'ORDEN DE CUARENTENA'!B21,'Acuario (Arribado - mortalidad)'!$F$15:$F$244) -> 0 | BG21: =SUMIF('Acuario (Arribado - mortalidad)'!$B$15:$B$244,'ORDEN DE CUARENTENA'!B21,'Acuario (Arribado - mortalidad)'!$K$15:$K$244) -> 0 | BH21: =SUMIF('Acuario (Arribado - mortalidad)'!$B$15:$B$244,'ORDEN DE CUARENTENA'!B21,'Acuario (Arribado - mortalidad)'!$G$15:$G$244) -> 0 | BI21: =SUMIF('Acuario (Arribado - mortalidad)'!$B$15:$B$244,'ORDEN DE CUARENTENA'!B21,'Acuario (Arribado - mortalidad)'!$O$15:$O$244) -> 0 | BJ21: =SUMIF('Acuario (Arribado - mortalidad)'!$B$15:$B$244,'ORDEN DE CUARENTENA'!B21,'Acuario (Arribado - mortalidad)'!$BG$15:$BG$244) -> 0 | BK21: =SUMIF('Acuario (Arribado - mortalidad)'!$B$15:$B$244,'ORDEN DE CUARENTENA'!B21,'Acuario (Arribado - mortalidad)'!$BH$15:$BH$244) -> 0 | BM21: =IFERROR(VLOOKUP(AN21,CITES[],2,FALSE),"") | BO21: Amphiprion | BP21: Discosoma | BR21: Lysmata wurdemanni | BY21: Carcharhinus hemiodon | BZ21: SI | CA21: A II | CC21: Arius malabaricus | CD21: SUE
B22: 9 | N22: =INDEX(AMBIENTE!D$2:D$797,MATCH(R22,AMBIENTE!C$2:C$797,0)) -> #N/A | AG22: =IFERROR(VLOOKUP(Item[[#This Row],[Concatenado]],CITES[],2,FALSE),"") | AI22: =IFERROR(VLOOKUP(Item[[#This Row],[Concatenado]],SuscepEARs[],2,FALSE),"") | AM22: 9 | AN22: =CONCATENATE(R22," ",Y22) | AO22: =C22 -> 0 | AP22: =J22 -> 0 | AQ22: =IFERROR(N22,"") | AR22: =SUMIF('Acuario (Arribado - mortalidad)'!$B$15:$B$244,'ORDEN DE CUARENTENA'!B22,'Acuario (Arribado - mortalidad)'!$F$15:$F$244) -> 0 | AS22: =IF(AR22>0, IF(SUMIF('Acuario (Arribado - mortalidad)'!$B$15:$B$244,'ORDEN DE CUARENTENA'!B22,'Acuario (Arribado - mortalidad)'!$K$15:$K$244)=0, "0", SUMIF('Acuario (Arribado - mortalidad)'!$B$15:$B$244,'ORDEN DE CUARENTENA'!B22,'Acuario (Arribado - mortalidad)'!$K$15:$K$244)),"") | AT22: =IF(AR22 = AS22,"0", SUMIF('Acuario (Arribado - mortalidad)'!$B$15:$B$244,'ORDEN DE CUARENTENA'!B22,'Acuario (Arribado - mortalidad)'!$G$15:$G$244)) -> 0 | AU22: =IFERROR(Item[[#This Row],[mortalidad acumulada]]/Item[[#This Row],[cantidad arribada]],"") | AV22: =IF(ISTEXT(R22),IF(Item[[#This Row],[cantidad arribada]]=0,"No llega",Item[[#This Row],[cantidad arribada]]),) -> 0 | AW22: =IFERROR(VLOOKUP(B22,'Tratamientos-Eventos'!$B$9:$S$20,19,FALSE),"") | AX22: =SUMIF('Acuario (Arribado - mortalidad)'!$B$15:$B$244,'ORDEN DE CUARENTENA'!B22,'Acuario (Arribado - mortalidad)'!$O$15:$O$244) -> 0 | AY22: =SUMIF('Acuario (Arribado - mortalidad)'!$B$15:$B$244,'ORDEN DE CUARENTENA'!B22,'Acuario (Arribado - mortalidad)'!$BG$15:$BG$244) -> 0 | AZ22: =SUMIF('Acuario (Arribado - mortalidad)'!$B$15:$B$244,'ORDEN DE CUARENTENA'!B22,'Acuario (Arribado - mortalidad)'!$BH$15:$BH$244) -> 0 | BA22: =IFERROR(Item[[#This Row],[Mortalidad dia 1]]/Item[[#This Row],[cantidad arribada]],"") | BB22: =IFERROR(Item[[#This Row],[Mortalidad 2 a 8 (Sem 1)]]/Item[[#This Row],[cantidad arribada]],"") | BC22: =IFERROR(Item[[#This Row],[Mortalidad 9 a 15 (Sem 2)]]/Item[[#This Row],[cantidad arribada]],"") | BD22: =AC22 -> 0 | BF22: =SUMIF('Acuario (Arribado - mortalidad)'!$B$15:$B$244,'ORDEN DE CUARENTENA'!B22,'Acuario (Arribado - mortalidad)'!$F$15:$F$244) -> 0 | BG22: =SUMIF('Acuario (Arribado - mortalidad)'!$B$15:$B$244,'ORDEN DE CUARENTENA'!B22,'Acuario (Arribado - mortalidad)'!$K$15:$K$244) -> 0 | BH22: =SUMIF('Acuario (Arribado - mortalidad)'!$B$15:$B$244,'ORDEN DE CUARENTENA'!B22,'Acuario (Arribado - mortalidad)'!$G$15:$G$244) -> 0 | BI22: =SUMIF('Acuario (Arribado - mortalidad)'!$B$15:$B$244,'ORDEN DE CUARENTENA'!B22,'Acuario (Arribado - mortalidad)'!$O$15:$O$244) -> 0 | BJ22: =SUMIF('Acuario (Arribado - mortalidad)'!$B$15:$B$244,'ORDEN DE CUARENTENA'!B22,'Acuario (Arribado - mortalidad)'!$BG$15:$BG$244) -> 0 | BK22: =SUMIF('Acuario (Arribado - mortalidad)'!$B$15:$B$244,'ORDEN DE CUARENTENA'!B22,'Acuario (Arribado - mortalidad)'!$BH$15:$BH$244) -> 0 | BM22: =IFERROR(VLOOKUP(AN22,CITES[],2,FALSE),"") | BO22: Anableps | BP22: Duncanopsammia | BR22: Macrobrachium assamense | BY22: Carcharhinus humani | BZ22: SI | CA22: A II | CC22: Arius manillensis | CD22: SUE
B23: 10 | N23: =INDEX(AMBIENTE!D$2:D$797,MATCH(R23,AMBIENTE!C$2:C$797,0)) -> #N/A | AG23: =IFERROR(VLOOKUP(Item[[#This Row],[Concatenado]],CITES[],2,FALSE),"") | AI23: =IFERROR(VLOOKUP(Item[[#This Row],[Concatenado]],SuscepEARs[],2,FALSE),"") | AM23: 10 | AN23: =CONCATENATE(R23," ",Y23) | AO23: =C23 -> 0 | AP23: =J23 -> 0 | AQ23: =IFERROR(N23,"") | AR23: =SUMIF('Acuario (Arribado - mortalidad)'!$B$15:$B$244,'ORDEN DE CUARENTENA'!B23,'Acuario (Arribado - mortalidad)'!$F$15:$F$244) -> 0 | AS23: =IF(AR23>0, IF(SUMIF('Acuario (Arribado - mortalidad)'!$B$15:$B$244,'ORDEN DE CUARENTENA'!B23,'Acuario (Arribado - mortalidad)'!$K$15:$K$244)=0, "0", SUMIF('Acuario (Arribado - mortalidad)'!$B$15:$B$244,'ORDEN DE CUARENTENA'!B23,'Acuario (Arribado - mortalidad)'!$K$15:$K$244)),"") | AT23: =IF(AR23 = AS23,"0", SUMIF('Acuario (Arribado - mortalidad)'!$B$15:$B$244,'ORDEN DE CUARENTENA'!B23,'Acuario (Arribado - mortalidad)'!$G$15:$G$244)) -> 0 | AU23: =IFERROR(Item[[#This Row],[mortalidad acumulada]]/Item[[#This Row],[cantidad arribada]],"") | AV23: =IF(ISTEXT(R23),IF(Item[[#This Row],[cantidad arribada]]=0,"No llega",Item[[#This Row],[cantidad arribada]]),) -> 0 | AW23: =IFERROR(VLOOKUP(B23,'Tratamientos-Eventos'!$B$9:$S$20,19,FALSE),"") | AX23: =SUMIF('Acuario (Arribado - mortalidad)'!$B$15:$B$244,'ORDEN DE CUARENTENA'!B23,'Acuario (Arribado - mortalidad)'!$O$15:$O$244) -> 0 | AY23: =SUMIF('Acuario (Arribado - mortalidad)'!$B$15:$B$244,'ORDEN DE CUARENTENA'!B23,'Acuario (Arribado - mortalidad)'!$BG$15:$BG$244) -> 0 | AZ23: =SUMIF('Acuario (Arribado - mortalidad)'!$B$15:$B$244,'ORDEN DE CUARENTENA'!B23,'Acuario (Arribado - mortalidad)'!$BH$15:$BH$244) -> 0 | BA23: =IFERROR(Item[[#This Row],[Mortalidad dia 1]]/Item[[#This Row],[cantidad arribada]],"") | BB23: =IFERROR(Item[[#This Row],[Mortalidad 2 a 8 (Sem 1)]]/Item[[#This Row],[cantidad arribada]],"") | BC23: =IFERROR(Item[[#This Row],[Mortalidad 9 a 15 (Sem 2)]]/Item[[#This Row],[cantidad arribada]],"") | BD23: =AC23 -> 0 | BF23: =SUMIF('Acuario (Arribado - mortalidad)'!$B$15:$B$244,'ORDEN DE CUARENTENA'!B23,'Acuario (Arribado - mortalidad)'!$F$15:$F$244) -> 0 | BG23: =SUMIF('Acuario (Arribado - mortalidad)'!$B$15:$B$244,'ORDEN DE CUARENTENA'!B23,'Acuario (Arribado - mortalidad)'!$K$15:$K$244) -> 0 | BH23: =SUMIF('Acuario (Arribado - mortalidad)'!$B$15:$B$244,'ORDEN DE CUARENTENA'!B23,'Acuario (Arribado - mortalidad)'!$G$15:$G$244) -> 0 | BI23: =SUMIF('Acuario (Arribado - mortalidad)'!$B$15:$B$244,'ORDEN DE CUARENTENA'!B23,'Acuario (Arribado - mortalidad)'!$O$15:$O$244) -> 0 | BJ23: =SUMIF('Acuario (Arribado - mortalidad)'!$B$15:$B$244,'ORDEN DE CUARENTENA'!B23,'Acuario (Arribado - mortalidad)'!$BG$15:$BG$244) -> 0 | BK23: =SUMIF('Acuario (Arribado - mortalidad)'!$B$15:$B$244,'ORDEN DE CUARENTENA'!B23,'Acuario (Arribado - mortalidad)'!$BH$15:$BH$244) -> 0 | BM23: =IFERROR(VLOOKUP(AN23,CITES[],2,FALSE),"") | BO23: Ancistrus | BP23: Echinophyllia | BR23: Macrobrachium carcinus | BY23: Carcharhinus isodon | BZ23: SI | CA23: A II | CC23: Arius microcephalus | CD23: SUE
A24: Octubre 2026 | B24: 11 | N24: =INDEX(AMBIENTE!D$2:D$797,MATCH(R24,AMBIENTE!C$2:C$797,0)) -> #N/A | AG24: =IFERROR(VLOOKUP(Item[[#This Row],[Concatenado]],CITES[],2,FALSE),"") | AI24: =IFERROR(VLOOKUP(Item[[#This Row],[Concatenado]],SuscepEARs[],2,FALSE),"") | AM24: 11 | AN24: =CONCATENATE(R24," ",Y24) | AO24: =C24 -> 0 | AP24: =J24 -> 0 | AQ24: =IFERROR(N24,"") | AR24: =SUMIF('Acuario (Arribado - mortalidad)'!$B$15:$B$244,'ORDEN DE CUARENTENA'!B24,'Acuario (Arribado - mortalidad)'!$F$15:$F$244) -> 0 | AS24: =IF(AR24>0, IF(SUMIF('Acuario (Arribado - mortalidad)'!$B$15:$B$244,'ORDEN DE CUARENTENA'!B24,'Acuario (Arribado - mortalidad)'!$K$15:$K$244)=0, "0", SUMIF('Acuario (Arribado - mortalidad)'!$B$15:$B$244,'ORDEN DE CUARENTENA'!B24,'Acuario (Arribado - mortalidad)'!$K$15:$K$244)),"") | AT24: =IF(AR24 = AS24,"0", SUMIF('Acuario (Arribado - mortalidad)'!$B$15:$B$244,'ORDEN DE CUARENTENA'!B24,'Acuario (Arribado - mortalidad)'!$G$15:$G$244)) -> 0 | AU24: =IFERROR(Item[[#This Row],[mortalidad acumulada]]/Item[[#This Row],[cantidad arribada]],"") | AV24: =IF(ISTEXT(R24),IF(Item[[#This Row],[cantidad arribada]]=0,"No llega",Item[[#This Row],[cantidad arribada]]),) -> 0 | AW24: =IFERROR(VLOOKUP(B24,'Tratamientos-Eventos'!$B$9:$S$20,19,FALSE),"") | AX24: =SUMIF('Acuario (Arribado - mortalidad)'!$B$15:$B$244,'ORDEN DE CUARENTENA'!B24,'Acuario (Arribado - mortalidad)'!$O$15:$O$244) -> 0 | AY24: =SUMIF('Acuario (Arribado - mortalidad)'!$B$15:$B$244,'ORDEN DE CUARENTENA'!B24,'Acuario (Arribado - mortalidad)'!$BG$15:$BG$244) -> 0 | AZ24: =SUMIF('Acuario (Arribado - mortalidad)'!$B$15:$B$244,'ORDEN DE CUARENTENA'!B24,'Acuario (Arribado - mortalidad)'!$BH$15:$BH$244) -> 0 | BA24: =IFERROR(Item[[#This Row],[Mortalidad dia 1]]/Item[[#This Row],[cantidad arribada]],"") | BB24: =IFERROR(Item[[#This Row],[Mortalidad 2 a 8 (Sem 1)]]/Item[[#This Row],[cantidad arribada]],"") | BC24: =IFERROR(Item[[#This Row],[Mortalidad 9 a 15 (Sem 2)]]/Item[[#This Row],[cantidad arribada]],"") | BD24: =AC24 -> 0 | BF24: =SUMIF('Acuario (Arribado - mortalidad)'!$B$15:$B$244,'ORDEN DE CUARENTENA'!B24,'Acuario (Arribado - mortalidad)'!$F$15:$F$244) -> 0 | BG24: =SUMIF('Acuario (Arribado - mortalidad)'!$B$15:$B$244,'ORDEN DE CUARENTENA'!B24,'Acuario (Arribado - mortalidad)'!$K$15:$K$244) -> 0 | BH24: =SUMIF('Acuario (Arribado - mortalidad)'!$B$15:$B$244,'ORDEN DE CUARENTENA'!B24,'Acuario (Arribado - mortalidad)'!$G$15:$G$244) -> 0 | BI24: =SUMIF('Acuario (Arribado - mortalidad)'!$B$15:$B$244,'ORDEN DE CUARENTENA'!B24,'Acuario (Arribado - mortalidad)'!$O$15:$O$244) -> 0 | BJ24: =SUMIF('Acuario (Arribado - mortalidad)'!$B$15:$B$244,'ORDEN DE CUARENTENA'!B24,'Acuario (Arribado - mortalidad)'!$BG$15:$BG$244) -> 0 | BK24: =SUMIF('Acuario (Arribado - mortalidad)'!$B$15:$B$244,'ORDEN DE CUARENTENA'!B24,'Acuario (Arribado - mortalidad)'!$BH$15:$BH$244) -> 0 | BM24: =IFERROR(VLOOKUP(AN24,CITES[],2,FALSE),"") | BO24: Andinoacara | BP24: Entacmaea | BR24: Macrobrachium nipponense | BY24: Carcharhinus leiodon | BZ24: SI | CA24: A II | CC24: Arius oetik | CD24: SUE
B25: 12 | N25: =INDEX(AMBIENTE!D$2:D$797,MATCH(R25,AMBIENTE!C$2:C$797,0)) -> #N/A | AG25: =IFERROR(VLOOKUP(Item[[#This Row],[Concatenado]],CITES[],2,FALSE),"") | AI25: =IFERROR(VLOOKUP(Item[[#This Row],[Concatenado]],SuscepEARs[],2,FALSE),"") | AM25: 12 | AN25: =CONCATENATE(R25," ",Y25) | AO25: =C25 -> 0 | AP25: =J25 -> 0 | AQ25: =IFERROR(N25,"") | AR25: =SUMIF('Acuario (Arribado - mortalidad)'!$B$15:$B$244,'ORDEN DE CUARENTENA'!B25,'Acuario (Arribado - mortalidad)'!$F$15:$F$244) -> 0 | AS25: =IF(AR25>0, IF(SUMIF('Acuario (Arribado - mortalidad)'!$B$15:$B$244,'ORDEN DE CUARENTENA'!B25,'Acuario (Arribado - mortalidad)'!$K$15:$K$244)=0, "0", SUMIF('Acuario (Arribado - mortalidad)'!$B$15:$B$244,'ORDEN DE CUARENTENA'!B25,'Acuario (Arribado - mortalidad)'!$K$15:$K$244)),"") | AT25: =IF(AR25 = AS25,"0", SUMIF('Acuario (Arribado - mortalidad)'!$B$15:$B$244,'ORDEN DE CUARENTENA'!B25,'Acuario (Arribado - mortalidad)'!$G$15:$G$244)) -> 0 | AU25: =IFERROR(Item[[#This Row],[mortalidad acumulada]]/Item[[#This Row],[cantidad arribada]],"") | AV25: =IF(ISTEXT(R25),IF(Item[[#This Row],[cantidad arribada]]=0,"No llega",Item[[#This Row],[cantidad arribada]]),) -> 0 | AW25: =IFERROR(VLOOKUP(B25,'Tratamientos-Eventos'!$B$9:$S$20,19,FALSE),"") | AX25: =SUMIF('Acuario (Arribado - mortalidad)'!$B$15:$B$244,'ORDEN DE CUARENTENA'!B25,'Acuario (Arribado - mortalidad)'!$O$15:$O$244) -> 0 | AY25: =SUMIF('Acuario (Arribado - mortalidad)'!$B$15:$B$244,'ORDEN DE CUARENTENA'!B25,'Acuario (Arribado - mortalidad)'!$BG$15:$BG$244) -> 0 | AZ25: =SUMIF('Acuario (Arribado - mortalidad)'!$B$15:$B$244,'ORDEN DE CUARENTENA'!B25,'Acuario (Arribado - mortalidad)'!$BH$15:$BH$244) -> 0 | BA25: =IFERROR(Item[[#This Row],[Mortalidad dia 1]]/Item[[#This Row],[cantidad arribada]],"") | BB25: =IFERROR(Item[[#This Row],[Mortalidad 2 a 8 (Sem 1)]]/Item[[#This Row],[cantidad arribada]],"") | BC25: =IFERROR(Item[[#This Row],[Mortalidad 9 a 15 (Sem 2)]]/Item[[#This Row],[cantidad arribada]],"") | BD25: =AC25 -> 0 | BF25: =SUMIF('Acuario (Arribado - mortalidad)'!$B$15:$B$244,'ORDEN DE CUARENTENA'!B25,'Acuario (Arribado - mortalidad)'!$F$15:$F$244) -> 0 | BG25: =SUMIF('Acuario (Arribado - mortalidad)'!$B$15:$B$244,'ORDEN DE CUARENTENA'!B25,'Acuario (Arribado - mortalidad)'!$K$15:$K$244) -> 0 | BH25: =SUMIF('Acuario (Arribado - mortalidad)'!$B$15:$B$244,'ORDEN DE CUARENTENA'!B25,'Acuario (Arribado - mortalidad)'!$G$15:$G$244) -> 0 | BI25: =SUMIF('Acuario (Arribado - mortalidad)'!$B$15:$B$244,'ORDEN DE CUARENTENA'!B25,'Acuario (Arribado - mortalidad)'!$O$15:$O$244) -> 0 | BJ25: =SUMIF('Acuario (Arribado - mortalidad)'!$B$15:$B$244,'ORDEN DE CUARENTENA'!B25,'Acuario (Arribado - mortalidad)'!$BG$15:$BG$244) -> 0 | BK25: =SUMIF('Acuario (Arribado - mortalidad)'!$B$15:$B$244,'ORDEN DE CUARENTENA'!B25,'Acuario (Arribado - mortalidad)'!$BH$15:$BH$244) -> 0 | BM25: =IFERROR(VLOOKUP(AN25,CITES[],2,FALSE),"") | BO25: Anisotremus | BP25: Euphyllia | BR25: Neocaridina heteropoda | BY25: Carcharhinus leucas | BZ25: SI | CA25: A II | CC25: Arius parkii | CD25: SUE
B26: 13 | N26: =INDEX(AMBIENTE!D$2:D$797,MATCH(R26,AMBIENTE!C$2:C$797,0)) -> #N/A | AG26: =IFERROR(VLOOKUP(Item[[#This Row],[Concatenado]],CITES[],2,FALSE),"") | AI26: =IFERROR(VLOOKUP(Item[[#This Row],[Concatenado]],SuscepEARs[],2,FALSE),"") | AM26: 13 | AN26: =CONCATENATE(R26," ",Y26) | AO26: =C26 -> 0 | AP26: =J26 -> 0 | AQ26: =IFERROR(N26,"") | AR26: =SUMIF('Acuario (Arribado - mortalidad)'!$B$15:$B$244,'ORDEN DE CUARENTENA'!B26,'Acuario (Arribado - mortalidad)'!$F$15:$F$244) -> 0 | AS26: =IF(AR26>0, IF(SUMIF('Acuario (Arribado - mortalidad)'!$B$15:$B$244,'ORDEN DE CUARENTENA'!B26,'Acuario (Arribado - mortalidad)'!$K$15:$K$244)=0, "0", SUMIF('Acuario (Arribado - mortalidad)'!$B$15:$B$244,'ORDEN DE CUARENTENA'!B26,'Acuario (Arribado - mortalidad)'!$K$15:$K$244)),"") | AT26: =IF(AR26 = AS26,"0", SUMIF('Acuario (Arribado - mortalidad)'!$B$15:$B$244,'ORDEN DE CUARENTENA'!B26,'Acuario (Arribado - mortalidad)'!$G$15:$G$244)) -> 0 | AU26: =IFERROR(Item[[#This Row],[mortalidad acumulada]]/Item[[#This Row],[cantidad arribada]],"") | AV26: =IF(ISTEXT(R26),IF(Item[[#This Row],[cantidad arribada]]=0,"No llega",Item[[#This Row],[cantidad arribada]]),) -> 0 | AW26: =IFERROR(VLOOKUP(B26,'Tratamientos-Eventos'!$B$9:$S$20,19,FALSE),"") | AX26: =SUMIF('Acuario (Arribado - mortalidad)'!$B$15:$B$244,'ORDEN DE CUARENTENA'!B26,'Acuario (Arribado - mortalidad)'!$O$15:$O$244) -> 0 | AY26: =SUMIF('Acuario (Arribado - mortalidad)'!$B$15:$B$244,'ORDEN DE CUARENTENA'!B26,'Acuario (Arribado - mortalidad)'!$BG$15:$BG$244) -> 0 | AZ26: =SUMIF('Acuario (Arribado - mortalidad)'!$B$15:$B$244,'ORDEN DE CUARENTENA'!B26,'Acuario (Arribado - mortalidad)'!$BH$15:$BH$244) -> 0 | BA26: =IFERROR(Item[[#This Row],[Mortalidad dia 1]]/Item[[#This Row],[cantidad arribada]],"") | BB26: =IFERROR(Item[[#This Row],[Mortalidad 2 a 8 (Sem 1)]]/Item[[#This Row],[cantidad arribada]],"") | BC26: =IFERROR(Item[[#This Row],[Mortalidad 9 a 15 (Sem 2)]]/Item[[#This Row],[cantidad arribada]],"") | BD26: =AC26 -> 0 | BF26: =SUMIF('Acuario (Arribado - mortalidad)'!$B$15:$B$244,'ORDEN DE CUARENTENA'!B26,'Acuario (Arribado - mortalidad)'!$F$15:$F$244) -> 0 | BG26: =SUMIF('Acuario (Arribado - mortalidad)'!$B$15:$B$244,'ORDEN DE CUARENTENA'!B26,'Acuario (Arribado - mortalidad)'!$K$15:$K$244) -> 0 | BH26: =SUMIF('Acuario (Arribado - mortalidad)'!$B$15:$B$244,'ORDEN DE CUARENTENA'!B26,'Acuario (Arribado - mortalidad)'!$G$15:$G$244) -> 0 | BI26: =SUMIF('Acuario (Arribado - mortalidad)'!$B$15:$B$244,'ORDEN DE CUARENTENA'!B26,'Acuario (Arribado - mortalidad)'!$O$15:$O$244) -> 0 | BJ26: =SUMIF('Acuario (Arribado - mortalidad)'!$B$15:$B$244,'ORDEN DE CUARENTENA'!B26,'Acuario (Arribado - mortalidad)'!$BG$15:$BG$244) -> 0 | BK26: =SUMIF('Acuario (Arribado - mortalidad)'!$B$15:$B$244,'ORDEN DE CUARENTENA'!B26,'Acuario (Arribado - mortalidad)'!$BH$15:$BH$244) -> 0 | BM26: =IFERROR(VLOOKUP(AN26,CITES[],2,FALSE),"") | BO26: Anomalochromis | BP26: Favia | BR26: Paguristes anomalus | BY26: Carcharhinus limbatus | BZ26: SI | CA26: A II | CC26: Arius phrygiatus | CD26: SUE
B27: 14 | N27: =INDEX(AMBIENTE!D$2:D$797,MATCH(R27,AMBIENTE!C$2:C$797,0)) -> #N/A | AG27: =IFERROR(VLOOKUP(Item[[#This Row],[Concatenado]],CITES[],2,FALSE),"") | AI27: =IFERROR(VLOOKUP(Item[[#This Row],[Concatenado]],SuscepEARs[],2,FALSE),"") | AM27: 14 | AN27: =CONCATENATE(R27," ",Y27) | AO27: =C27 -> 0 | AP27: =J27 -> 0 | AQ27: =IFERROR(N27,"") | AR27: =SUMIF('Acuario (Arribado - mortalidad)'!$B$15:$B$244,'ORDEN DE CUARENTENA'!B27,'Acuario (Arribado - mortalidad)'!$F$15:$F$244) -> 0 | AS27: =IF(AR27>0, IF(SUMIF('Acuario (Arribado - mortalidad)'!$B$15:$B$244,'ORDEN DE CUARENTENA'!B27,'Acuario (Arribado - mortalidad)'!$K$15:$K$244)=0, "0", SUMIF('Acuario (Arribado - mortalidad)'!$B$15:$B$244,'ORDEN DE CUARENTENA'!B27,'Acuario (Arribado - mortalidad)'!$K$15:$K$244)),"") | AT27: =IF(AR27 = AS27,"0", SUMIF('Acuario (Arribado - mortalidad)'!$B$15:$B$244,'ORDEN DE CUARENTENA'!B27,'Acuario (Arribado - mortalidad)'!$G$15:$G$244)) -> 0 | AU27: =IFERROR(Item[[#This Row],[mortalidad acumulada]]/Item[[#This Row],[cantidad arribada]],"") | AV27: =IF(ISTEXT(R27),IF(Item[[#This Row],[cantidad arribada]]=0,"No llega",Item[[#This Row],[cantidad arribada]]),) -> 0 | AW27: =IFERROR(VLOOKUP(B27,'Tratamientos-Eventos'!$B$9:$S$20,19,FALSE),"") | AX27: =SUMIF('Acuario (Arribado - mortalidad)'!$B$15:$B$244,'ORDEN DE CUARENTENA'!B27,'Acuario (Arribado - mortalidad)'!$O$15:$O$244) -> 0 | AY27: =SUMIF('Acuario (Arribado - mortalidad)'!$B$15:$B$244,'ORDEN DE CUARENTENA'!B27,'Acuario (Arribado - mortalidad)'!$BG$15:$BG$244) -> 0 | AZ27: =SUMIF('Acuario (Arribado - mortalidad)'!$B$15:$B$244,'ORDEN DE CUARENTENA'!B27,'Acuario (Arribado - mortalidad)'!$BH$15:$BH$244) -> 0 | BA27: =IFERROR(Item[[#This Row],[Mortalidad dia 1]]/Item[[#This Row],[cantidad arribada]],"") | BB27: =IFERROR(Item[[#This Row],[Mortalidad 2 a 8 (Sem 1)]]/Item[[#This Row],[cantidad arribada]],"") | BC27: =IFERROR(Item[[#This Row],[Mortalidad 9 a 15 (Sem 2)]]/Item[[#This Row],[cantidad arribada]],"") | BD27: =AC27 -> 0 | BF27: =SUMIF('Acuario (Arribado - mortalidad)'!$B$15:$B$244,'ORDEN DE CUARENTENA'!B27,'Acuario (Arribado - mortalidad)'!$F$15:$F$244) -> 0 | BG27: =SUMIF('Acuario (Arribado - mortalidad)'!$B$15:$B$244,'ORDEN DE CUARENTENA'!B27,'Acuario (Arribado - mortalidad)'!$K$15:$K$244) -> 0 | BH27: =SUMIF('Acuario (Arribado - mortalidad)'!$B$15:$B$244,'ORDEN DE CUARENTENA'!B27,'Acuario (Arribado - mortalidad)'!$G$15:$G$244) -> 0 | BI27: =SUMIF('Acuario (Arribado - mortalidad)'!$B$15:$B$244,'ORDEN DE CUARENTENA'!B27,'Acuario (Arribado - mortalidad)'!$O$15:$O$244) -> 0 | BJ27: =SUMIF('Acuario (Arribado - mortalidad)'!$B$15:$B$244,'ORDEN DE CUARENTENA'!B27,'Acuario (Arribado - mortalidad)'!$BG$15:$BG$244) -> 0 | BK27: =SUMIF('Acuario (Arribado - mortalidad)'!$B$15:$B$244,'ORDEN DE CUARENTENA'!B27,'Acuario (Arribado - mortalidad)'!$BH$15:$BH$244) -> 0 | BM27: =IFERROR(VLOOKUP(AN27,CITES[],2,FALSE),"") | BO27: Anostomus | BP27: Favites | BR27: Paguristes cadenati | BY27: Carcharhinus longimanus | BZ27: SI | CA27: A II | CC27: Arius platystomus | CD27: SUE
B28: 15 | N28: =INDEX(AMBIENTE!D$2:D$797,MATCH(R28,AMBIENTE!C$2:C$797,0)) -> #N/A | AG28: =IFERROR(VLOOKUP(Item[[#This Row],[Concatenado]],CITES[],2,FALSE),"") | AI28: =IFERROR(VLOOKUP(Item[[#This Row],[Concatenado]],SuscepEARs[],2,FALSE),"") | AM28: 15 | AN28: =CONCATENATE(R28," ",Y28) | AO28: =C28 -> 0 | AP28: =J28 -> 0 | AQ28: =IFERROR(N28,"") | AR28: =SUMIF('Acuario (Arribado - mortalidad)'!$B$15:$B$244,'ORDEN DE CUARENTENA'!B28,'Acuario (Arribado - mortalidad)'!$F$15:$F$244) -> 0 | AS28: =IF(AR28>0, IF(SUMIF('Acuario (Arribado - mortalidad)'!$B$15:$B$244,'ORDEN DE CUARENTENA'!B28,'Acuario (Arribado - mortalidad)'!$K$15:$K$244)=0, "0", SUMIF('Acuario (Arribado - mortalidad)'!$B$15:$B$244,'ORDEN DE CUARENTENA'!B28,'Acuario (Arribado - mortalidad)'!$K$15:$K$244)),"") | AT28: =IF(AR28 = AS28,"0", SUMIF('Acuario (Arribado - mortalidad)'!$B$15:$B$244,'ORDEN DE CUARENTENA'!B28,'Acuario (Arribado - mortalidad)'!$G$15:$G$244)) -> 0 | AU28: =IFERROR(Item[[#This Row],[mortalidad acumulada]]/Item[[#This Row],[cantidad arribada]],"") | AV28: =IF(ISTEXT(R28),IF(Item[[#This Row],[cantidad arribada]]=0,"No llega",Item[[#This Row],[cantidad arribada]]),) -> 0 | AW28: =IFERROR(VLOOKUP(B28,'Tratamientos-Eventos'!$B$9:$S$20,19,FALSE),"") | AX28: =SUMIF('Acuario (Arribado - mortalidad)'!$B$15:$B$244,'ORDEN DE CUARENTENA'!B28,'Acuario (Arribado - mortalidad)'!$O$15:$O$244) -> 0 | AY28: =SUMIF('Acuario (Arribado - mortalidad)'!$B$15:$B$244,'ORDEN DE CUARENTENA'!B28,'Acuario (Arribado - mortalidad)'!$BG$15:$BG$244) -> 0 | AZ28: =SUMIF('Acuario (Arribado - mortalidad)'!$B$15:$B$244,'ORDEN DE CUARENTENA'!B28,'Acuario (Arribado - mortalidad)'!$BH$15:$BH$244) -> 0 | BA28: =IFERROR(Item[[#This Row],[Mortalidad dia 1]]/Item[[#This Row],[cantidad arribada]],"") | BB28: =IFERROR(Item[[#This Row],[Mortalidad 2 a 8 (Sem 1)]]/Item[[#This Row],[cantidad arribada]],"") | BC28: =IFERROR(Item[[#This Row],[Mortalidad 9 a 15 (Sem 2)]]/Item[[#This Row],[cantidad arribada]],"") | BD28: =AC28 -> 0 | BF28: =SUMIF('Acuario (Arribado - mortalidad)'!$B$15:$B$244,'ORDEN DE CUARENTENA'!B28,'Acuario (Arribado - mortalidad)'!$F$15:$F$244) -> 0 | BG28: =SUMIF('Acuario (Arribado - mortalidad)'!$B$15:$B$244,'ORDEN DE CUARENTENA'!B28,'Acuario (Arribado - mortalidad)'!$K$15:$K$244) -> 0 | BH28: =SUMIF('Acuario (Arribado - mortalidad)'!$B$15:$B$244,'ORDEN DE CUARENTENA'!B28,'Acuario (Arribado - mortalidad)'!$G$15:$G$244) -> 0 | BI28: =SUMIF('Acuario (Arribado - mortalidad)'!$B$15:$B$244,'ORDEN DE CUARENTENA'!B28,'Acuario (Arribado - mortalidad)'!$O$15:$O$244) -> 0 | BJ28: =SUMIF('Acuario (Arribado - mortalidad)'!$B$15:$B$244,'ORDEN DE CUARENTENA'!B28,'Acuario (Arribado - mortalidad)'!$BG$15:$BG$244) -> 0 | BK28: =SUMIF('Acuario (Arribado - mortalidad)'!$B$15:$B$244,'ORDEN DE CUARENTENA'!B28,'Acuario (Arribado - mortalidad)'!$BH$15:$BH$244) -> 0 | BM28: =IFERROR(VLOOKUP(AN28,CITES[],2,FALSE),"") | BO28: Antennarius | BP28: Fungia | BR28: Periclimenes brevicarpalis | BY28: Carcharhinus macloti | BZ28: SI | CA28: A II | CC28: Arius rugispinis | CD28: SUE
A29: Versión | B29: 16 | N29: =INDEX(AMBIENTE!D$2:D$797,MATCH(R29,AMBIENTE!C$2:C$797,0)) -> #N/A | AG29: =IFERROR(VLOOKUP(Item[[#This Row],[Concatenado]],CITES[],2,FALSE),"") | AI29: =IFERROR(VLOOKUP(Item[[#This Row],[Concatenado]],SuscepEARs[],2,FALSE),"") | AM29: 16 | AN29: =CONCATENATE(R29," ",Y29) | AO29: =C29 -> 0 | AP29: =J29 -> 0 | AQ29: =IFERROR(N29,"") | AR29: =SUMIF('Acuario (Arribado - mortalidad)'!$B$15:$B$244,'ORDEN DE CUARENTENA'!B29,'Acuario (Arribado - mortalidad)'!$F$15:$F$244) -> 0 | AS29: =IF(AR29>0, IF(SUMIF('Acuario (Arribado - mortalidad)'!$B$15:$B$244,'ORDEN DE CUARENTENA'!B29,'Acuario (Arribado - mortalidad)'!$K$15:$K$244)=0, "0", SUMIF('Acuario (Arribado - mortalidad)'!$B$15:$B$244,'ORDEN DE CUARENTENA'!B29,'Acuario (Arribado - mortalidad)'!$K$15:$K$244)),"") | AT29: =IF(AR29 = AS29,"0", SUMIF('Acuario (Arribado - mortalidad)'!$B$15:$B$244,'ORDEN DE CUARENTENA'!B29,'Acuario (Arribado - mortalidad)'!$G$15:$G$244)) -> 0 | AU29: =IFERROR(Item[[#This Row],[mortalidad acumulada]]/Item[[#This Row],[cantidad arribada]],"") | AV29: =IF(ISTEXT(R29),IF(Item[[#This Row],[cantidad arribada]]=0,"No llega",Item[[#This Row],[cantidad arribada]]),) -> 0 | AW29: =IFERROR(VLOOKUP(B29,'Tratamientos-Eventos'!$B$9:$S$20,19,FALSE),"") | AX29: =SUMIF('Acuario (Arribado - mortalidad)'!$B$15:$B$244,'ORDEN DE CUARENTENA'!B29,'Acuario (Arribado - mortalidad)'!$O$15:$O$244) -> 0 | AY29: =SUMIF('Acuario (Arribado - mortalidad)'!$B$15:$B$244,'ORDEN DE CUARENTENA'!B29,'Acuario (Arribado - mortalidad)'!$BG$15:$BG$244) -> 0 | AZ29: =SUMIF('Acuario (Arribado - mortalidad)'!$B$15:$B$244,'ORDEN DE CUARENTENA'!B29,'Acuario (Arribado - mortalidad)'!$BH$15:$BH$244) -> 0 | BA29: =IFERROR(Item[[#This Row],[Mortalidad dia 1]]/Item[[#This Row],[cantidad arribada]],"") | BB29: =IFERROR(Item[[#This Row],[Mortalidad 2 a 8 (Sem 1)]]/Item[[#This Row],[cantidad arribada]],"") | BC29: =IFERROR(Item[[#This Row],[Mortalidad 9 a 15 (Sem 2)]]/Item[[#This Row],[cantidad arribada]],"") | BD29: =AC29 -> 0 | BF29: =SUMIF('Acuario (Arribado - mortalidad)'!$B$15:$B$244,'ORDEN DE CUARENTENA'!B29,'Acuario (Arribado - mortalidad)'!$F$15:$F$244) -> 0 | BG29: =SUMIF('Acuario (Arribado - mortalidad)'!$B$15:$B$244,'ORDEN DE CUARENTENA'!B29,'Acuario (Arribado - mortalidad)'!$K$15:$K$244) -> 0 | BH29: =SUMIF('Acuario (Arribado - mortalidad)'!$B$15:$B$244,'ORDEN DE CUARENTENA'!B29,'Acuario (Arribado - mortalidad)'!$G$15:$G$244) -> 0 | BI29: =SUMIF('Acuario (Arribado - mortalidad)'!$B$15:$B$244,'ORDEN DE CUARENTENA'!B29,'Acuario (Arribado - mortalidad)'!$O$15:$O$244) -> 0 | BJ29: =SUMIF('Acuario (Arribado - mortalidad)'!$B$15:$B$244,'ORDEN DE CUARENTENA'!B29,'Acuario (Arribado - mortalidad)'!$BG$15:$BG$244) -> 0 | BK29: =SUMIF('Acuario (Arribado - mortalidad)'!$B$15:$B$244,'ORDEN DE CUARENTENA'!B29,'Acuario (Arribado - mortalidad)'!$BH$15:$BH$244) -> 0 | BM29: =IFERROR(VLOOKUP(AN29,CITES[],2,FALSE),"") | BO29: Aphyocharax | BP29: Galaxea | BR29: Periclimenes pedersoni | BY29: Carcharhinus macrops | BZ29: SI | CA29: A II | CC29: Arius subrostratus | CD29: SUE
B30: 17 | N30: =INDEX(AMBIENTE!D$2:D$797,MATCH(R30,AMBIENTE!C$2:C$797,0)) -> #N/A | AG30: =IFERROR(VLOOKUP(Item[[#This Row],[Concatenado]],CITES[],2,FALSE),"") | AI30: =IFERROR(VLOOKUP(Item[[#This Row],[Concatenado]],SuscepEARs[],2,FALSE),"") | AM30: 17 | AN30: =CONCATENATE(R30," ",Y30) | AO30: =C30 -> 0 | AP30: =J30 -> 0 | AQ30: =IFERROR(N30,"") | AR30: =SUMIF('Acuario (Arribado - mortalidad)'!$B$15:$B$244,'ORDEN DE CUARENTENA'!B30,'Acuario (Arribado - mortalidad)'!$F$15:$F$244) -> 0 | AS30: =IF(AR30>0, IF(SUMIF('Acuario (Arribado - mortalidad)'!$B$15:$B$244,'ORDEN DE CUARENTENA'!B30,'Acuario (Arribado - mortalidad)'!$K$15:$K$244)=0, "0", SUMIF('Acuario (Arribado - mortalidad)'!$B$15:$B$244,'ORDEN DE CUARENTENA'!B30,'Acuario (Arribado - mortalidad)'!$K$15:$K$244)),"") | AT30: =IF(AR30 = AS30,"0", SUMIF('Acuario (Arribado - mortalidad)'!$B$15:$B$244,'ORDEN DE CUARENTENA'!B30,'Acuario (Arribado - mortalidad)'!$G$15:$G$244)) -> 0 | AU30: =IFERROR(Item[[#This Row],[mortalidad acumulada]]/Item[[#This Row],[cantidad arribada]],"") | AV30: =IF(ISTEXT(R30),IF(Item[[#This Row],[cantidad arribada]]=0,"No llega",Item[[#This Row],[cantidad arribada]]),) -> 0 | AW30: =IFERROR(VLOOKUP(B30,'Tratamientos-Eventos'!$B$9:$S$20,19,FALSE),"") | AX30: =SUMIF('Acuario (Arribado - mortalidad)'!$B$15:$B$244,'ORDEN DE CUARENTENA'!B30,'Acuario (Arribado - mortalidad)'!$O$15:$O$244) -> 0 | AY30: =SUMIF('Acuario (Arribado - mortalidad)'!$B$15:$B$244,'ORDEN DE CUARENTENA'!B30,'Acuario (Arribado - mortalidad)'!$BG$15:$BG$244) -> 0 | AZ30: =SUMIF('Acuario (Arribado - mortalidad)'!$B$15:$B$244,'ORDEN DE CUARENTENA'!B30,'Acuario (Arribado - mortalidad)'!$BH$15:$BH$244) -> 0 | BA30: =IFERROR(Item[[#This Row],[Mortalidad dia 1]]/Item[[#This Row],[cantidad arribada]],"") | BB30: =IFERROR(Item[[#This Row],[Mortalidad 2 a 8 (Sem 1)]]/Item[[#This Row],[cantidad arribada]],"") | BC30: =IFERROR(Item[[#This Row],[Mortalidad 9 a 15 (Sem 2)]]/Item[[#This Row],[cantidad arribada]],"") | BD30: =AC30 -> 0 | BF30: =SUMIF('Acuario (Arribado - mortalidad)'!$B$15:$B$244,'ORDEN DE CUARENTENA'!B30,'Acuario (Arribado - mortalidad)'!$F$15:$F$244) -> 0 | BG30: =SUMIF('Acuario (Arribado - mortalidad)'!$B$15:$B$244,'ORDEN DE CUARENTENA'!B30,'Acuario (Arribado - mortalidad)'!$K$15:$K$244) -> 0 | BH30: =SUMIF('Acuario (Arribado - mortalidad)'!$B$15:$B$244,'ORDEN DE CUARENTENA'!B30,'Acuario (Arribado - mortalidad)'!$G$15:$G$244) -> 0 | BI30: =SUMIF('Acuario (Arribado - mortalidad)'!$B$15:$B$244,'ORDEN DE CUARENTENA'!B30,'Acuario (Arribado - mortalidad)'!$O$15:$O$244) -> 0 | BJ30: =SUMIF('Acuario (Arribado - mortalidad)'!$B$15:$B$244,'ORDEN DE CUARENTENA'!B30,'Acuario (Arribado - mortalidad)'!$BG$15:$BG$244) -> 0 | BK30: =SUMIF('Acuario (Arribado - mortalidad)'!$B$15:$B$244,'ORDEN DE CUARENTENA'!B30,'Acuario (Arribado - mortalidad)'!$BH$15:$BH$244) -> 0 | BM30: =IFERROR(VLOOKUP(AN30,CITES[],2,FALSE),"") | BO30: Aphyosemion | BP30: Goniopora | BR30: Periclimenes yucatanicus | BY30: Carcharhinus melanopterus | BZ30: SI | CA30: A II | CC30: Arius sumatranus | CD30: SUE
