Workbook

Sheet RESUMEN 
B2: CONTROL CUOTA GLOBAL LANGOSTINO AMARILLO III-IV AÑO 2026
B3: 46324
B5: UNIDAD DE PESQUERIA | C5: SECTOR | D5: FRACCIONAMIENTO | E5: CUOTA ASIGNADA (TON) | F5: MOVIMIENTO (TON) | G5: CUOTA EFECTIVA (TON) | H5: CAPTURA (TON) | I5: SALDO (TON) | J5: % CONSUMIDO
B6: LANGOSTINO AMARILLO III-IV | C6: ARTESANAL | D6: ARTESANAL III | E6: ='CUOTA ARTESANAL'!L6 -> 9 | F6: ='CUOTA ARTESANAL'!M6 -> 0 | G6: =E6+F6 -> 9 | H6: ='CUOTA ARTESANAL'!O6 -> 0 | I6: =G6-H6 -> 9 | J6: =H6/G6 -> 0
D7: ARTESANAL IV | E7: =SUM('CUOTA ARTESANAL'!L8:L17) -> 419 | F7: =SUM('CUOTA ARTESANAL'!M8:M17) -> -129.079 | G7: =E7+F7 -> 289.921 | H7: =SUM('CUOTA ARTESANAL'!O8:O17) -> 253.083 | I7: =G7-H7 -> 36.838 | J7: =H7/G7 -> 0.8729378
D8: FAUNA ACOMPAÑANTE | E8: 15 | F8: ='CUOTA ARTESANAL'!M18 -> 0 | G8: =E8+F8 -> 15 | H8: ='CUOTA ARTESANAL'!O18 -> 0 | I8: =G8-H8 -> 15 | J8: =H8/G8 -> 0
D9: LEY N°21.752 | E9: ='LEY 21.752 CRUC'!E16 -> 91
D10: FRACCION ARTESANAL | E10: =SUM(E6:E8) -> 443 | F10: =SUM(F6:F8) -> -129.079 | G10: =E10+F10 -> 313.921 | H10: =SUM(H6:H8) -> 253.083 | I10: =G10-H10 -> 60.838 | J10: =H10/G10 -> 0.80619965
C11: INDUSTRIAL | D11: INDUSTRIAL LTP III | E11: =SUM('CUOTA LTP -INDUSTRIAL'!K6:K29) -> 65.00001 | F11: =SUM('CUOTA LTP -INDUSTRIAL'!L6:L29) -> -9.726 | G11: =E11+F11 -> 55.27401 | H11: =SUM('CUOTA LTP -INDUSTRIAL'!N6:N29) -> 0 | I11: =G11-H11 -> 55.27401 | J11: =H11/G11 -> 0
D12: INDUSTRIAL LTP IV | E12: =SUM('CUOTA LTP -INDUSTRIAL'!K30:K53) -> 736.99994 | F12: =SUM('CUOTA LTP -INDUSTRIAL'!L30:L53) -> -51.195 | G12: =E12+F12 -> 685.80494 | H12: =SUM('CUOTA LTP -INDUSTRIAL'!N30:N53) -> 555.281 | I12: =G12-H12 -> 130.52394 | J12: =H12/G12 -> 0.80967775
D13: INDUSTRIAL LTP | E13: =SUM('CUOTA LTP -INDUSTRIAL'!K6:K53) -> 801.99995 | F13: =SUM(F11:F12) -> -60.921 | G13: =E13+F13 -> 741.07895 | H13: =SUM(H11:H12) -> 555.281 | I13: =G13-H13 -> 185.79795 | J13: =H13/G13 -> 0.74928724
C14: INVESTIGACIÓN III-IV | E14: 23 | F14: 0 | G14: =E14+F14 -> 23 | H14: =SUM('PESCA DE INVESTIGACION'!F9:F11) -> 0 | I14: =G14-H14 -> 23 | J14: =H14/G14 -> 0
C15: CESIONES INDIVIDUALES | E15: 0 | F15: ='CUOTA ARTESANAL'!G27 -> 190 | G15: =E15+F15 -> 190 | H15: ='CUOTA ARTESANAL'!H27 -> 166.099 | I15: =G15-H15 -> 23.901 | J15: =H15/G15 -> 0.87420526
C16: TOTALES | E16: =SUM(E10+E13+E14+E15+E9) -> 1358.9999 | F16: =SUM(F10+F13+F14+F15) -> 0 | G16: =E16+F16 -> 1358.9999 | H16: =SUM(H10+H13+H14+H15) -> 974.463 | I16: =G16-H16 -> 384.53695 | J16: =H16/G16 -> 0.71704418
B18: Folio DEXE | C18: N°259/2025
B21: CONTROL CUOTA GLOBAL LANGOSTINO AMARILLO PEP V-VIII AÑO 2025
B22: =B3 -> 46324
B24: UNIDAD DE PESQUERIA | C24: SECTOR | D24: FRACCIONAMIENTO | E24: CUOTA ASIGNADA (TON) | F24: MOVIMIENTO (TON) | G24: CUOTA EFECTIVA (TON) | H24: CAPTURA (TON) | I24: SALDO (TON) | J24: % CONSUMIDO
B25: LANGOSTINO AMARILLO PEP V-VIII | C25: ARTESANAL-INDUSTRIAL | D25: LICITADA PEP V-VI | E25: =SUM('CUOTA LICITADA PEP'!F13:F52) -> 1094.305 | F25: =SUM('CUOTA LICITADA PEP'!$G$13:$G$52) -> 0 | G25: =E25+F25 -> 1094.305 | H25: =SUM('CUOTA LICITADA PEP'!O13:O42) -> 684.783 | I25: =G25-H25 -> 409.52197 | J25: =H25/G25 -> 0.6257698
D26: LICITADA PEP VII-VIII | E26: =SUM('CUOTA LICITADA PEP'!F53:F92) -> 1337.9003 | F26: =SUM('CUOTA LICITADA PEP'!$G$53:$G$92) -> 0 | G26: =E26+F26 -> 1337.9003 | H26: =SUM('CUOTA LICITADA PEP'!O53:O82) -> 271.911 | I26: =G26-H26 -> 1065.9893 | J26: =H26/G26 -> 0.20323712
D27: FAUNA ACOMPAÑANTE V-VIII | E27: 25 | F27: 0 | G27: =E27+F27 -> 25 | H27: 0 | I27: =G27-H27 -> 25 | J27: =H27/G27 -> 0
D28: INVESTIGACIÓN V-VIII | E28: 35 | F28: 0 | G28: =E28+F28 -> 35 | H28: 0 | I28: =G28-H28 -> 35 | J28: =H28/G28 -> 0
C29: TOTALES | E29: =SUM(E25:E28) -> 2492.2052 | F29: =SUM(F25:F28) -> 0 | G29: =E29+F29 -> 2492.2052 | H29: =SUM(H25:H28) -> 956.694 | I29: =G29-H29 -> 1535.5112 | J29: =H29/G29 -> 0.38387449
B31: Folio DEXE | C31: 253/2025
A38: FUERA UNIDAD DE PESQUERIA
A40: SECTOR | B40: FRACCIONAMIENTO | C40: CUOTA ASIGNADA (TON) | D40: MOVIMIENTO (TON) | E40: CUOTA EFECTIVA (TON) | F40: CAPTURA (TON) | G40: SALDO (TON) | H40: % CONSUMO
A41: ARTESANAL-INDUSTRIAL | B41: FUERA UNIDAD DE PESQUERIA (XV-I-IX-XIV-X) | C41: 5 | E41: =C41+D41 -> 5 | G41: =E41-F41 -> 5 | H41: =F41/E41 -> 0
B42: FAUNA ACOMPAÑANTE CAMARON NAILON (XV-I-IX-XIV-X) | C42: 2 | E42: =C42+D42 -> 2 | G42: =E42-F42 -> 2 | H42: =F42/E42 -> 0
B43: FAUNA ACOMPAÑANTE L.COLORADO (XV-I-IX-XIV-X) | C43: 2 | E43: =C43+D43 -> 2 | G43: =E43-F43 -> 2 | H43: =F43/E43 -> 0
B44: FAUNA ACOMPAÑANTE GAMBA (XV-I-IX-XIV-X) | C44: 4 | E44: =C44+D44 -> 4 | G44: =E44-F44 -> 4 | H44: =F44/E44 -> 0
B45: FAUNA ACOMPAÑANTE OTRAS PESQUERIA(XV-I-IX-XIV-X) | C45: 7 | E45: =C45+D45 -> 7 | G45: =E45-F45 -> 7 | H45: =F45/E45 -> 0
A46: TOTALES | C46: =SUM(C41:C45) -> 20 | D46: =SUM(D41:D45) -> 0 | E46: =SUM(E41:E45) -> 20 | F46: =SUM(F41:F45) -> 0 | G46: =SUM(G41:G45) -> 20 | H46: =F46/E46 -> 0

Sheet CUOTA ARTESANAL
B2: CONTROL CUOTA LANGOSTINO AMARILLO FRACCION ARTESANAL AÑO 2026
B3: ='RESUMEN '!B3 -> 46324
B5: REGIÓN | C5: ASIGNATARIO | D5: PERIODO | E5: CUOTA ASIGNADA (TON) | F5: MOVIMIENTO (TON) | G5: CUOTA EFECTIVA (TON) | H5: CAPTURA (TON) | I5: SALDO (TON) | J5: % CONSUMIDO | K5: FECHA CIERRE | L5: CUOTA ASIGNADA (TON) | M5: MOVIMIENTO (TON) | N5: CUOTA EFECTIVA (TON) | O5: CAPTURA (TON) | P5: SALDO (TON) | Q5: % CONSUMO
B6: III REGION DE ATACAMA | C6: REGIÓN | D6: MAR-AGO | E6: 8 | G6: =E6+F6 -> 8 | I6: =G6-H6 -> 8 | J6: =H6/G6 -> 0 | K6: - | L6: =E6+E7 -> 9 | M6: =F6+F7 -> 0 | N6: =L6+M6 -> 9 | O6: =H6+H7 -> 0 | P6: =N6-O6 -> 9 | Q6: =O6/N6 -> 0
D7: OCT-DIC | E7: 1 | G7: =E7+F7+I6 -> 9 | I7: =G7-H7 -> 9 | J7: =H7/G7 -> 0 | K7: -
B8: IV REGION DE COQUIMBO | C8: PUNTA TALCA | D8: MAR-AGO | E8: 106.314 | F8: =-59.079 -> -59.079 | G8: =E8+F8 -> 47.235 | H8: 46.289 | I8: =G8-H8 -> 0.946 | J8: =H8/G8 -> 0.97997248 | K8: 46119 | L8: =E8+E9 -> 118.158 | M8: =F8+F9 -> -59.079 | N8: =L8+M8 -> 59.079 | O8: =H8+H9 -> 58.087 | P8: =N8-O8 -> 0.992 | Q8: =O8/N8 -> 0.98320892
D9: OCT-DIC | E9: 11.844 | G9: =E9+F9+I8 -> 12.79 | H9: 11.798 | I9: =G9-H9 -> 0.992 | J9: =H9/G9 -> 0.92243941 | K9: 46300
C10: TRAUWUN I | D10: MAR-AGO | E10: 99.151 | G10: =E10+F10 -> 99.151 | H10: 78.17 | I10: =G10-H10 -> 20.981 | J10: =H10/G10 -> 0.78839346 | K10: - | L10: =E10+E11 -> 110.197 | M10: =F10+F11 -> 0 | N10: =L10+M10 -> 110.197 | O10: =H10+H11 -> 78.17 | P10: =N10-O10 -> 32.027 | Q10: =O10/N10 -> 0.70936595
D11: OCT-DIC | E11: 11.046 | G11: =E11+F11+I10 -> 32.027 | H11: 0 | I11: =G11-H11 -> 32.027 | J11: =H11/G11 -> 0 | K11: -
C12: CHAFIC I | D12: MAR-AGO | E12: 76.531 | G12: =E12+F12 -> 76.531 | H12: 73.274 | I12: =G12-H12 -> 3.257 | J12: =H12/G12 -> 0.95744208 | K12: - | L12: =E12+E13 -> 85.057 | M12: =F12+F13 -> 0 | N12: =L12+M12 -> 85.057 | O12: =H12+H13 -> 84.01 | P12: =N12-O12 -> 1.047 | Q12: =O12/N12 -> 0.98769061
D13: OCT-DIC | E13: 8.526 | G13: =E13+F13+I12 -> 11.783 | H13: 10.736 | I13: =G13-H13 -> 1.047 | J13: =H13/G13 -> 0.91114317 | K13: -
C14: ISLA TABON | D14: MAR-AGO | E14: 72.384 | F14: -70 | G14: =E14+F14 -> 2.384 | H14: 10.152 | I14: =G14-H14 -> -7.768 | J14: =H14/G14 -> 4.2583893 | K14: 46122 | L14: =E14+E15 -> 80.448 | M14: =F14+F15 -> -70 | N14: =L14+M14 -> 10.448 | O14: =H14+H15 -> 10.152 | P14: =N14-O14 -> 0.296 | Q14: =O14/N14 -> 0.97166922
D15: OCT-DIC | E15: 8.064 | G15: =E15+F15+I14 -> 0.296 | H15: 0 | I15: =G15-H15 -> 0.296 | J15: =H15/G15 -> 0 | K15: -
C16: RESIDUAL | D16: MAR-AGO | E16: 22.62 | G16: =E16+F16 -> 22.62 | H16: 22.664 | I16: =G16-H16 -> -0.044 | J16: =H16/G16 -> 1.0019452 | K16: 46150 | L16: =E16+E17 -> 25.14 | M16: =F16+F17 -> 0 | N16: =L16+M16 -> 25.14 | O16: =H16+H17 -> 22.664 | P16: =N16-O16 -> 2.476 | Q16: =O16/N16 -> 0.90151154
D17: OCT-DIC | E17: 2.52 | G17: =E17+F17+I16 -> 2.476 | H17: 0 | I17: =G17-H17 -> 2.476 | J17: =H17/G17 -> 0 | K17: -
B18: FAUNA ACOMPAÑANTE | C18: REGIONES III-IV | D18: ENE-DIC | E18: 15 | G18: =E18+F18 -> 15 | I18: =G18-H18 -> 15 | J18: =H18/G18 -> 0 | K18: - | L18: =E18 -> 15 | M18: =F18 -> 0 | N18: =G18 -> 15 | O18: =H18 -> 0 | P18: =I18 -> 15 | Q18: =J18 -> 0
B19: TOTALES | D19: ENE-DIC | E19: =SUM(E6:E18) -> 443 | F19: =SUM(F6:F18) -> -129.079 | G19: =E19+F19 -> 313.921 | H19: =SUM(H6:H18) -> 253.083 | I19: =G19-H19 -> 60.838 | J19: =H19/G19 -> 0.80619965 | K19: - | L19: =SUM(L6:L18) -> 443 | M19: =SUM(M6:M18) -> -129.079 | N19: =L19+M19 -> 313.921 | O19: =SUM(O6:O18) -> 253.083 | P19: =N19-O19 -> 60.838 | Q19: =O19/N19 -> 0.80619965
J20: 16.402
D22: CESIONES CUOTAS INDIVIDUALES
D23: N° Resolución | E23: RPA | F23: Embarcación | G23: Cuota | H23: Captura | I23: Saldo | J23: Consumo
D24: 541 | E24: 913399 | F24: Punta Talca | G24: 70 | H24: 69.989 | I24: =G24-H24 -> 0.011 | J24: =H24/G24 -> 0.99984286
D25: 1683 | E25: 913399 | F25: Punta Talca | G25: 120 | H25: 96.11 | I25: =G25-H25 -> 23.89 | J25: =H25/G25 -> 0.80091667
D27: TOTAL | G27: =SUM(G24:G26) -> 190 | H27: =SUM(H24:H26) -> 166.099 | I27: =G27-H27 -> 23.901 | J27: =H27/G27 -> 0.87420526

Sheet CUOTA LTP -INDUSTRIAL
B2: CONTROL CUOTA LANGOSTINO AMARILLO FRACCION INDUSTRIAL AÑO 2026
B3: ='RESUMEN '!B3 -> 46324
B5: UNIDAD DE PESQUERIA | C5: TITULAR DE CUOTA LTP | D5: PERIODO | E5: CUOTA ASIGNADA (TON) | F5: MOVIMIENTO (TON) | G5: CUOTA EFECTIVA (TON) | H5: CAPTURA (TON) | I5: SALDO (TON) | J5: % CONSUMIDO | K5: CUOTA ASIGNADA (TON) | L5: MOVIMIENTO (TON) | M5: CUOTA EFECTIVA (TON) | N5: CAPTURA (TON) | O5: SALDO (TON) | P5: % CONSUMO
B6: LANGOSTINO AMARILLO XV- III | C6: ANTARTIC SEAFOOD S.A. | D6: MAR-AGO | E6: 21.72559 | F6: -9.726 | G6: =E6+F6 -> 11.99959 | I6: =G6-H6 -> 11.99959 | J6: =H6/G6 -> 0 | K6: =E6+E7 -> 23.93497 | L6: =F6+F7 -> -9.726 | M6: =K6+L6 -> 14.20897 | N6: =H6+H7 -> 0 | O6: =M6-N6 -> 14.20897 | P6: =N6/M6 -> 0
D7: OCT-DIC | E7: 2.20938 | G7: =E7+F7+I6 -> 14.20897 | I7: =G7-H7 -> 14.20897 | J7: =H7/G7 -> 0
C8: QUINTERO S.A. PESQ. | D8: MAR-AGO | E8: 1.91603 | G8: =E8+F8 -> 1.91603 | I8: =G8-H8 -> 1.91603 | J8: =H8/G8 -> 0 | K8: =E8+E9 -> 2.11088 | L8: =F8+F9 -> 0 | M8: =K8+L8 -> 2.11088 | N8: =H8+H9 -> 0 | O8: =M8-N8 -> 2.11088 | P8: =N8/M8 -> 0
D9: OCT-DIC | E9: 0.19485 | G9: =E9+F9+I8 -> 2.11088 | I9: =G9-H9 -> 2.11088 | J9: =H9/G9 -> 0
C10: BAYCIC BAYCIC MARIA | D10: MAR-AGO | E10: 0.00177 | G10: =E10+F10 -> 0.00177 | I10: =G10-H10 -> 0.00177 | J10: =H10/G10 -> 0 | K10: =E10+E11 -> 0.00195 | L10: =F10+F11 -> 0 | M10: =K10+L10 -> 0.00195 | N10: =H10+H11 -> 0 | O10: =M10-N10 -> 0.00195 | P10: =N10/M10 -> 0
D11: OCT-DIC | E11: 0.00018 | G11: =E11+F11+I10 -> 0.00195 | I11: =G11-H11 -> 0.00195 | J11: =H11/G11 -> 0
C12: BRACPESCA S.A. | D12: MAR-AGO | E12: 22.59265 | G12: =E12+F12 -> 22.59265 | I12: =G12-H12 -> 22.59265 | J12: =H12/G12 -> 0 | K12: =E12+E13 -> 24.89021 | L12: =F12+F13 -> 0 | M12: =K12+L12 -> 24.89021 | N12: =H12+H13 -> 0 | O12: =M12-N12 -> 24.89021 | P12: =N12/M12 -> 0
D13: OCT-DIC | E13: 2.29756 | G13: =E13+F13+I12 -> 24.89021 | I13: =G13-H13 -> 24.89021 | J13: =H13/G13 -> 0
C14: GRIMAR S.A. PESQ. | D14: MAR-AGO | E14: 0.01021 | G14: =E14+F14 -> 0.01021 | I14: =G14-H14 -> 0.01021 | J14: =H14/G14 -> 0 | K14: =E14+E15 -> 0.01125 | L14: =F14+F15 -> 0 | M14: =K14+L14 -> 0.01125 | N14: =H14+H15 -> 0 | O14: =M14-N14 -> 0.01125 | P14: =N14/M14 -> 0
D15: OCT-DIC | E15: 0.00104 | G15: =E15+F15+I14 -> 0.01125 | I15: =G15-H15 -> 0.01125 | J15: =H15/G15 -> 0
C16: ISLADAMAS S.A. PESQ. | D16: MAR-AGO | E16: 6.24411 | G16: =E16+F16 -> 6.24411 | I16: =G16-H16 -> 6.24411 | J16: =H16/G16 -> 0 | K16: =E16+E17 -> 6.8791 | L16: =F16+F17 -> 0 | M16: =K16+L16 -> 6.8791 | N16: =H16+H17 -> 0 | O16: =M16-N16 -> 6.8791 | P16: =N16/M16 -> 0
D17: OCT-DIC | E17: 0.63499 | G17: =E17+F17+I16 -> 6.8791 | I17: =G17-H17 -> 6.8791 | J17: =H17/G17 -> 0
C18: MOROZIN BAYCIC MARIA ANA | D18: MAR-AGO | E18: 0.00591 | G18: =E18+F18 -> 0.00591 | I18: =G18-H18 -> 0.00591 | J18: =H18/G18 -> 0 | K18: =E18+E19 -> 0.00651 | L18: =F18+F19 -> 0 | M18: =K18+L18 -> 0.00651 | N18: =H18+H19 -> 0 | O18: =M18-N18 -> 0.00651 | P18: =N18/M18 -> 0
D19: OCT-DIC | E19: 0.0006 | G19: =E19+F19+I18 -> 0.00651 | I19: =G19-H19 -> 0.00651 | J19: =H19/G19 -> 0
C20: MOROZIN YURECIC MARIO | D20: MAR-AGO | E20: 0.00119 | G20: =E20+F20 -> 0.00119 | I20: =G20-H20 -> 0.00119 | J20: =H20/G20 -> 0 | K20: =E20+E21 -> 0.00131 | L20: =F20+F21 -> 0 | M20: =K20+L20 -> 0.00131 | N20: =H20+H21 -> 0 | O20: =M20-N20 -> 0.00131 | P20: =N20/M20 -> 0
D21: OCT-DIC | E21: 0.00012 | G21: =E21+F21+I20 -> 0.00131 | I21: =G21-H21 -> 0.00131 | J21: =H21/G21 -> 0
C22: NAKAL SPA INV. | D22: MAR-AGO | E22: 4.4392 | G22: =E22+F22 -> 4.4392 | I22: =G22-H22 -> 4.4392 | J22: =H22/G22 -> 0 | K22: =E22+E23 -> 4.89064 | L22: =F22+F23 -> 0 | M22: =K22+L22 -> 4.89064 | N22: =H22+H23 -> 0 | O22: =M22-N22 -> 4.89064 | P22: =N22/M22 -> 0
D23: OCT-DIC | E23: 0.45144 | G23: =E23+F23+I22 -> 4.89064 | I23: =G23-H23 -> 4.89064 | J23: =H23/G23 -> 0
C24: NORDIOMAR SPA SOC. PESQ. | D24: MAR-AGO | E24: 0.0236 | G24: =E24+F24 -> 0.0236 | I24: =G24-H24 -> 0.0236 | J24: =H24/G24 -> 0 | K24: =E24+E25 -> 0.026 | L24: =F24+F25 -> 0 | M24: =K24+L24 -> 0.026 | N24: =H24+H25 -> 0 | O24: =M24-N24 -> 0.026 | P24: =N24/M24 -> 0
D25: OCT-DIC | E25: 0.0024 | G25: =E25+F25+I24 -> 0.026 | I25: =G25-H25 -> 0.026 | J25: =H25/G25 -> 0
C26: ENFERMAR LTDA. SOC. PESQ. | D26: MAR-AGO | E26: 0.0242 | G26: =E26+F26 -> 0.0242 | I26: =G26-H26 -> 0.0242 | J26: =H26/G26 -> 0 | K26: =E26+E27 -> 0.02666 | L26: =F26+F27 -> 0 | M26: =K26+L26 -> 0.02666 | N26: =H26+H27 -> 0 | O26: =M26-N26 -> 0.02666 | P26: =N26/M26 -> 0
D27: OCT-DIC | E27: 0.00246 | G27: =E27+F27+I26 -> 0.02666 | I27: =G27-H27 -> 0.02666 | J27: =H27/G27 -> 0
C28: CADUCADOS | D28: MAR-AGO | E28: 2.01556 | G28: =E28+F28 -> 2.01556 | I28: =G28-H28 -> 2.01556 | J28: =H28/G28 -> 0 | K28: =E28+E29 -> 2.22053 | L28: =F28+F29 -> 0 | M28: =K28+L28 -> 2.22053 | N28: =H28+H29 -> 0 | O28: =M28-N28 -> 2.22053 | P28: =N28/M28 -> 0
D29: OCT-DIC | E29: 0.20497 | G29: =E29+F29+I28 -> 2.22053 | I29: =G29-H29 -> 2.22053 | J29: =H29/G29 -> 0
B30: LANGOSTINO AMARILLO IV | C30: ANTARTIC SEAFOOD S.A. | D30: MAR-AGO | E30: 244.50492 | F30: -110.274 | G30: =E30+F30 -> 134.23092 | H30: 141.672 | I30: =G30-H30 -> -7.44108 | J30: =H30/G30 -> 1.0554349 | K30: =E30+E31 -> 271.38573 | L30: =F30+F31 -> -110.274 | M30: =K30+L30 -> 161.11173 | N30: =H30+H31 -> 147.781 | O30: =M30-N30 -> 13.33073 | P30: =N30/M30 -> 0.91725786
D31: OCT-DIC | E31: 26.88081 | G31: =E31+F31+I30 -> 19.43973 | H31: 6.109 | I31: =G31-H31 -> 13.33073 | J31: =H31/G31 -> 0.31425334
C32: QUINTERO S.A. PESQ. | D32: MAR-AGO | E32: 25.84626 | G32: =E32+F32 -> 25.84626 | I32: =G32-H32 -> 25.84626 | J32: =H32/G32 -> 0 | K32: =E32+E33 -> 28.68779 | L32: =F32+F33 -> 0 | M32: =K32+L32 -> 28.68779 | N32: =H32+H33 -> 0 | O32: =M32-N32 -> 28.68779 | P32: =N32/M32 -> 0
D33: OCT-DIC | E33: 2.84153 | G33: =E33+F33+I32 -> 28.68779 | I33: =G33-H33 -> 28.68779 | J33: =H33/G33 -> 0
C34: BAYCIC BAYCIC MARIA | D34: MAR-AGO | E34: 0.01992 | G34: =E34+F34 -> 0.01992 | I34: =G34-H34 -> 0.01992 | J34: =H34/G34 -> 0 | K34: =E34+E35 -> 0.02211 | L34: =F34+F35 -> 0 | M34: =K34+L34 -> 0.02211 | N34: =H34+H35 -> 0 | O34: =M34-N34 -> 0.02211 | P34: =N34/M34 -> 0
D35: OCT-DIC | E35: 0.00219 | G35: =E35+F35+I34 -> 0.02211 | I35: =G35-H35 -> 0.02211 | J35: =H35/G35 -> 0
C36: BRACPESCA S.A. | D36: MAR-AGO | E36: 254.263 | F36: =59.079 -> 59.079 | G36: =E36+F36 -> 313.342 | H36: 316.352 | I36: =G36-H36 -> -3.01 | J36: =H36/G36 -> 1.0096061 | K36: =E36+E37 -> 282.21661 | L36: =F36+F37 -> 59.079 | M36: =K36+L36 -> 341.29561 | N36: =H36+H37 -> 333.236 | O36: =M36-N36 -> 8.05961 | P36: =N36/M36 -> 0.97638525
D37: OCT-DIC | E37: 27.95361 | G37: =E37+F37+I36 -> 24.94361 | H37: 16.884 | I37: =G37-H37 -> 8.05961 | J37: =H37/G37 -> 0.67688679
C38: GRIMAR S.A. PESQ. | D38: MAR-AGO | E38: 0.11494 | G38: =E38+F38 -> 0.11494 | I38: =G38-H38 -> 0.11494 | J38: =H38/G38 -> 0 | K38: =E38+E39 -> 0.12758 | L38: =F38+F39 -> 0 | M38: =K38+L38 -> 0.12758 | N38: =H38+H39 -> 0 | O38: =M38-N38 -> 0.12758 | P38: =N38/M38 -> 0
D39: OCT-DIC | E39: 0.01264 | G39: =E39+F39+I38 -> 0.12758 | I39: =G39-H39 -> 0.12758 | J39: =H39/G39 -> 0
C40: ISLADAMAS S.A. PESQ. | D40: MAR-AGO | E40: 70.27265 | G40: =E40+F40 -> 70.27265 | H40: 61.953 | I40: =G40-H40 -> 8.31965 | J40: =H40/G40 -> 0.88160899 | K40: =E40+E41 -> 77.9984 | L40: =F40+F41 -> 0 | M40: =K40+L40 -> 77.9984 | N40: =H40+H41 -> 74.264 | O40: =M40-N40 -> 3.7344 | P40: =N40/M40 -> 0.95212209
D41: OCT-DIC | E41: 7.72575 | G41: =E41+F41+I40 -> 16.0454 | H41: 12.311 | I41: =G41-H41 -> 3.7344 | J41: =H41/G41 -> 0.7672604
C42: MOROZIN BAYCIC MARIA ANA | D42: MAR-AGO | E42: 0.06647 | G42: =E42+F42 -> 0.06647 | I42: =G42-H42 -> 0.06647 | J42: =H42/G42 -> 0 | K42: =E42+E43 -> 0.07378 | L42: =F42+F43 -> 0 | M42: =K42+L42 -> 0.07378 | N42: =H42+H43 -> 0 | O42: =M42-N42 -> 0.07378 | P42: =N42/M42 -> 0
D43: OCT-DIC | E43: 0.00731 | G43: =E43+F43+I42 -> 0.07378 | I43: =G43-H43 -> 0.07378 | J43: =H43/G43 -> 0
C44: MOROZIN YURECIC MARIO | D44: MAR-AGO | E44: 0.01335 | G44: =E44+F44 -> 0.01335 | I44: =G44-H44 -> 0.01335 | J44: =H44/G44 -> 0 | K44: =E44+E45 -> 0.01482 | L44: =F44+F45 -> 0 | M44: =K44+L44 -> 0.01482 | N44: =H44+H45 -> 0 | O44: =M44-N44 -> 0.01482 | P44: =N44/M44 -> 0
D45: OCT-DIC | E45: 0.00147 | G45: =E45+F45+I44 -> 0.01482 | I45: =G45-H45 -> 0.01482 | J45: =H45/G45 -> 0
C46: NAKAL SPA INV. | D46: MAR-AGO | E46: 49.95976 | G46: =E46+F46 -> 49.95976 | I46: =G46-H46 -> 49.95976 | J46: =H46/G46 -> 0 | K46: =E46+E47 -> 55.45232 | L46: =F46+F47 -> 0 | M46: =K46+L46 -> 55.45232 | N46: =H46+H47 -> 0 | O46: =M46-N46 -> 55.45232 | P46: =N46/M46 -> 0
D47: OCT-DIC | E47: 5.49256 | G47: =E47+F47+I46 -> 55.45232 | I47: =G47-H47 -> 55.45232 | J47: =H47/G47 -> 0
C48: NORDIOMAR SPA SOC. PESQ. | D48: MAR-AGO | E48: 0.2656 | G48: =E48+F48 -> 0.2656 | I48: =G48-H48 -> 0.2656 | J48: =H48/G48 -> 0 | K48: =E48+E49 -> 0.2948 | L48: =F48+F49 -> 0 | M48: =K48+L48 -> 0.2948 | N48: =H48+H49 -> 0 | O48: =M48-N48 -> 0.2948 | P48: =N48/M48 -> 0
D49: OCT-DIC | E49: 0.0292 | G49: =E49+F49+I48 -> 0.2948 | I49: =G49-H49 -> 0.2948 | J49: =H49/G49 -> 0
C50: ENFERMAR LTDA. SOC. PESQ. | D50: MAR-AGO | E50: 0.27231 | G50: =E50+F50 -> 0.27231 | I50: =G50-H50 -> 0.27231 | J50: =H50/G50 -> 0 | K50: =E50+E51 -> 0.30225 | L50: =F50+F51 -> 0 | M50: =K50+L50 -> 0.30225 | N50: =H50+H51 -> 0 | O50: =M50-N50 -> 0.30225 | P50: =N50/M50 -> 0
D51: OCT-DIC | E51: 0.02994 | G51: =E51+F51+I50 -> 0.30225 | I51: =G51-H51 -> 0.30225 | J51: =H51/G51 -> 0
C52: CADUCADOS | D52: MAR-AGO | E52: 18.40077 | G52: =E52+F52 -> 18.40077 | I52: =G52-H52 -> 18.40077 | J52: =H52/G52 -> 0 | K52: =E52+E53 -> 20.42375 | L52: =F52+F53 -> 0 | M52: =K52+L52 -> 20.42375 | N52: =H52+H53 -> 0 | O52: =M52-N52 -> 20.42375 | P52: =N52/M52 -> 0
D53: OCT-DIC | E53: 2.02298 | G53: =E53+F53+I52 -> 20.42375 | I53: =G53-H53 -> 20.42375 | J53: =H53/G53 -> 0
B54: TOTALES | E54: =SUM(E6:E53) -> 801.99995 | F54: =SUM(F6:F53) -> -60.921 | G54: =E54+F54 -> 741.07895 | H54: =SUM(H6:H53) -> 555.281 | I54: =G54-H54 -> 185.79795 | J54: =H54/G54 -> 0.74928724 | K54: =SUM(K6:K53) -> 801.99995 | L54: =SUM(L6:L53) -> -60.921 | M54: =K54+L54 -> 741.07895 | N54: =SUM(N6:N53) -> 555.281 | O54: =M54-N54 -> 185.79795 | P54: =N54/M54 -> 0.74928724
C62: III | E62: MAR-AGO | F62: OCT-DIC | G62: VALOR DECRETO | H62: 48 | I62: IV | K62: MAR-AGO | L62: OCT-DIC | M62: VALOR DECRETO | N62: 903 | P62: III | R62: A | S62: A | T62: A | U62: B | V62: B | W62: B | X62: B | Y62: B | Z62: B | AA62: B | AB62: B | AC62: B | AD62: B | AE62: B | AF62: B | AG62: TOTAL CUOTA
E63: 43 | F63: 5 | K63: 813 | L63: 90 | P63: ANTARTIC SEAFOOD S.A. | Q63: MAR-AGO | R63: 14.29665 | U63: 0.41925 | V63: 0.41925 | W63: 0.086 | X63: 0.61275 | AG63: =SUM(R63:AF63) -> 15.8339
Q64: OCT-DIC | R64: 1.6624 | U64: 0.04875 | V64: 0.04875 | W64: 0.01 | X64: 0.07125 | AG64: =SUM(R64:AF64) -> 1.84115 | AJ64: Lotes deciertos III | AK64: ENE-FEB
C65: LTP A | D65: LTP A X COEFICIENTE | E65: LTP A (COEFICIENTE) | F65: LTP B | G65: LTP B x COEFICIENTE | H65: LTP B (COEFICIENTE) | I65: LTP A | J65: LTP A X COEFICIENTE | K65: LTP A (COEFICIENTE) | L65: LTP B | M65: LTP B x COEFICIENTE | N65: LTP B (COEFICIENTE) | P65: QUINTERO S.A. PESQ. | Q65: MAR-AGO | R65: 0.25212 | S65: 2.33335 | U65: 0.27735 | AG65: =SUM(R65:AF65) -> 2.86282 | AK65: MAR-DIC
B66: 1 | C66: 15.95905 | D66: =E66*$H$62 -> 15.959054 | E66: 0.3324803 | F66: 0.108 | G66: =H66*$H$62 -> 0.108 | H66: 0.00225 | I66: 300.22971 | J66: =$N$62*K66 -> 300.22971 | K66: 0.3324803 | L66: 2.03175 | M66: =$N$62*N66 -> 2.03175 | N66: 0.00225 | Q66: OCT-DIC | R66: 0.02932 | S66: 0.27132 | U66: 0.03225 | AG66: =SUM(R66:AF66) -> 0.33289 | AK66: TOTAL LOTES DECIERTOS | AL66: =SUM(AL64+AL65) -> 0
B67: 2 | C67: 0.00144 | D67: =E67*$H$62 -> 0.00144 | E67: 3e-05 | F67: 0.036 | G67: =H67*$H$62 -> 0.036 | H67: 0.00075 | I67: 0.02709 | J67: =$N$62*K67 -> 0.02709 | K67: 3e-05 | L67: 0.67725 | M67: =$N$62*N67 -> 0.67725 | N67: 0.00075 | P67: BAYCIC BAYCIC MARIA | Q67: MAR-AGO | R67: 0.00129 | AG67: =SUM(R67:AF67) -> 0.00129
B68: 3 | C68: 16.61886 | D68: =E68*$H$62 -> 16.618858 | E68: 0.3462262 | F68: 0.18 | G68: =H68*$H$62 -> 0.18 | H68: 0.00375 | I68: 312.64226 | J68: =$N$62*K68 -> 312.64226 | K68: 0.3462262 | L68: 3.38625 | M68: =$N$62*N68 -> 3.38625 | N68: 0.00375 | Q68: OCT-DIC | R68: 0.00015 | AG68: =SUM(R68:AF68) -> 0.00015
B69: 4 | C69: 0.00831 | D69: =E69*$H$62 -> 0.0083088 | E69: 0.0001731 | F69: 0.18 | G69: =H69*$H$62 -> 0.18 | H69: 0.00375 | I69: 0.15631 | J69: =$N$62*K69 -> 0.1563093 | K69: 0.0001731 | L69: 3.38625 | M69: =$N$62*N69 -> 3.38625 | N69: 0.00375 | P69: BRACPESCA S.A. | Q69: MAR-AGO | R69: 14.88773 | U69: 0.33325 | V69: 0.01118 | W69: 0.13717 | X69: 0.48375 | Y69: 0.61275 | AG69: =SUM(R69:AF69) -> 16.46583
B70: 5 | C70: 2.10579 | D70: =E70*$H$62 -> 2.1057888 | E70: 0.0438706 | F70: 0.252 | G70: =H70*$H$62 -> 0.252 | H70: 0.00525 | I70: 39.61515 | J70: =$N$62*K70 -> 39.615152 | K70: 0.0438706 | L70: 4.74075 | M70: =$N$62*N70 -> 4.74075 | N70: 0.00525 | Q70: OCT-DIC | R70: 1.73113 | U70: 0.03875 | V70: 0.0013 | W70: 0.01595 | X70: 0.05625 | Y70: 0.07125 | AG70: =SUM(R70:AF70) -> 1.91463
B71: 6 | C71: 0.0048 | D71: =E71*$H$62 -> 0.0048048 | E71: 0.0001001 | F71: 0.252 | G71: =H71*$H$62 -> 0.252 | H71: 0.00525 | I71: 0.09039 | J71: =$N$62*K71 -> 0.0903903 | K71: 0.0001001 | L71: 4.74075 | M71: =$N$62*N71 -> 4.74075 | N71: 0.00525 | P71: GRIMAR S.A. PESQ. | Q71: MAR-AGO | R71: 0.00744 | AG71: =SUM(R71:AF71) -> 0.00744
B72: 7 | C72: 0.28143 | D72: =E72*$H$62 -> 0.2814336 | E72: 0.0058632 | F72: 0.324 | G72: =H72*$H$62 -> 0.324 | H72: 0.00675 | I72: 5.29447 | J72: =$N$62*K72 -> 5.2944696 | K72: 0.0058632 | L72: 6.09525 | M72: =$N$62*N72 -> 6.09525 | N72: 0.00675 | Q72: OCT-DIC | R72: 0.00087 | AG72: =SUM(R72:AF72) -> 0.00087
B73: 8 | C73: 0.00096 | D73: =E73*$H$62 -> 0.0009648 | E73: 2.01e-05 | F73: 0.396 | G73: =H73*$H$62 -> 0.396 | H73: 0.00825 | I73: 0.01815 | J73: =$N$62*K73 -> 0.0181503 | K73: 2.01e-05 | L73: 7.44975 | M73: =$N$62*N73 -> 7.44975 | N73: 0.00825 | P73: ISLADAMAS S.A. PESQ. | Q73: MAR-AGO | R73: 1.88644 | S73: 0.946 | T73: 0.93145 | U73: 0.09675 | V73: 0.1161 | W73: 0.30315 | AG73: =SUM(R73:AF73) -> 4.27989
B74: 9 | C74: 2.60467 | D74: =E74*$H$62 -> 2.6046672 | E74: 0.0542639 | F74: 0.3024 | G74: =H74*$H$62 -> 0.3024 | H74: 0.0063 | I74: 49.0003 | J74: =$N$62*K74 -> 49.000302 | K74: 0.0542639 | L74: 5.6889 | M74: =$N$62*N74 -> 5.6889 | N74: 0.0063 | Q74: OCT-DIC | R74: 0.21935 | S74: 0.11 | T74: 0.10831 | U74: 0.01125 | V74: 0.0135 | W74: 0.03525 | AG74: =SUM(R74:AF74) -> 0.49766
B75: 10 | C75: 0.00288 | D75: =E75*$H$62 -> 0.00288 | E75: 6e-05 | F75: 0.1296 | G75: =H75*$H$62 -> 0.1296 | H75: 0.0027 | I75: 0.05418 | J75: =$N$62*K75 -> 0.05418 | K75: 6e-05 | L75: 2.4381 | M75: =$N$62*N75 -> 2.4381 | N75: 0.0027 | P75: MOROZIN BAYCIC MARIA ANA | Q75: MAR-AGO | R75: 0.0043 | AG75: =SUM(R75:AF75) -> 0.0043
B76: 11 | C76: 1.07715 | D76: =E76*$H$62 -> 1.0771488 | E76: 0.0224406 | F76: 0.468 | G76: =H76*$H$62 -> 0.468 | H76: 0.00975 | I76: 20.26386 | J76: =$N$62*K76 -> 20.263862 | K76: 0.0224406 | L76: 8.80425 | M76: =$N$62*N76 -> 8.80425 | N76: 0.00975 | Q76: OCT-DIC | R76: 0.0005 | AG76: =SUM(R76:AF76) -> 0.0005
B77: 12 | C77: 1.056 | D77: =E77*$H$62 -> 1.056 | E77: 0.022 | F77: 0.468 | G77: =H77*$H$62 -> 0.468 | H77: 0.00975 | I77: 19.866 | J77: =$N$62*K77 -> 19.866 | K77: 0.022 | L77: 8.80425 | M77: =$N$62*N77 -> 8.80425 | N77: 0.00975 | P77: MOROZIN YURECIC MARIO | Q77: MAR-AGO | R77: 0.00086 | AG77: =SUM(R77:AF77) -> 0.00086
B78: 13 | C78: 1.03976 | D78: =E78*$H$62 -> 1.0397616 | E78: 0.0216617 | F78: 0.372 | G78: =H78*$H$62 -> 0.372 | H78: 0.00775 | I78: 19.56052 | J78: =$N$62*K78 -> 19.560515 | K78: 0.0216617 | L78: 6.99825 | M78: =$N$62*N78 -> 6.99825 | N78: 0.00775 | Q78: OCT-DIC | R78: 0.0001 | AG78: =SUM(R78:AF78) -> 0.0001
B79: 14 | C79: 0.01968 | D79: =E79*$H$62 -> 0.0196848 | E79: 0.0004101 | F79: 0.096 | G79: =H79*$H$62 -> 0.096 | H79: 0.002 | I79: 0.37032 | J79: =$N$62*K79 -> 0.3703203 | K79: 0.0004101 | L79: 1.806 | M79: =$N$62*N79 -> 1.806 | N79: 0.002 | P79: ZUÑIGA ROMERO GONZALO | Q79: MAR-AGO | R79: 0.00258 | AG79: =SUM(R79:AF79) -> 0.00258
B80: 15 | C80: 0.0192 | D80: =E80*$H$62 -> 0.0192 | E80: 0.0004 | F80: 0.1944 | G80: =H80*$H$62 -> 0.1944 | H80: 0.00405 | I80: 0.3612 | J80: =$N$62*K80 -> 0.3612 | K80: 0.0004 | L80: 3.65715 | M80: =$N$62*N80 -> 3.65715 | N80: 0.00405 | Q80: OCT-DIC | R80: 0.0003 | AG80: =SUM(R80:AF80) -> 0.0003
B81: 16 | F81: 0.3096 | G81: =H81*$H$62 -> 0.3096 | H81: 0.00645 | L81: 5.82435 | M81: =$N$62*N81 -> 5.82435 | N81: 0.00645 | P81: NAKAL INV. SpA | Q81: MAR-AGO | R81: 0.96495 | U81: 0.03225 | V81: 0.16125 | W81: 0.16125 | X81: 0.22575 | Y81: 0.22575 | Z81: 0.29025 | AA81: 0.35475 | AB81: =0.2709-0.2709 -> 0 | AC81: 0.17415 | AD81: 0.00258 | AE81: 0.02967 | AF81: 0.61275 | AG81: =SUM(R81:AF81) -> 3.23535
B82: 17 | F82: 0.01248 | G82: =H82*$H$62 -> 0.01248 | H82: 0.00026 | L82: 0.23478 | M82: =$N$62*N82 -> 0.23478 | N82: 0.00026 | Q82: OCT-DIC | R82: 0.1122 | U82: 0.00375 | V82: 0.01875 | W82: 0.01875 | X82: 0.02625 | Y82: 0.02625 | Z82: 0.03375 | AA82: 0.04125 | AB82: =0.0315-0.0315 -> 0 | AC82: 0.02025 | AD82: 0.0003 | AE82: 0.00345 | AF82: 0.07125 | AG82: =SUM(R82:AF82) -> 0.3762
B83: 18 | F83: 0.00288 | G83: =H83*$H$62 -> 0.00288 | H83: 6e-05 | L83: 0.05418 | M83: =$N$62*N83 -> 0.05418 | N83: 6e-05 | P83: SOCIEDAD PESQUERA NORDIOMAR | Q83: MAR-AGO | R83: 0.0172 | AG83: =SUM(R83:AF83) -> 0.0172
B84: 19 | F84: 0.03312 | G84: =H84*$H$62 -> 0.03312 | H84: 0.00069 | L84: 0.62307 | M84: =$N$62*N84 -> 0.62307 | N84: 0.00069 | Q84: OCT-DIC | R84: 0.002 | AG84: =SUM(R84:AF84) -> 0.002
B85: 20 | F85: 0.15312 | G85: =H85*$H$62 -> 0.15312 | H85: 0.00319 | L85: 2.88057 | M85: =$N$62*N85 -> 2.88057 | N85: 0.00319 | P85: RUBIO Y MAUAD SPA | Q85: MAR-AGO | AB85: 0.2709 | AG85: =SUM(R85:AF85) -> 0.2709
B86: 21 | F86: 0.3384 | G86: =H86*$H$62 -> 0.3384 | H86: 0.00705 | L86: 6.36615 | M86: =$N$62*N86 -> 6.36615 | N86: 0.00705 | Q86: OCT-DIC | AB86: 0.0315 | AG86: =SUM(R86:AF86) -> 0.0315
B87: 22 | F87: 0.54 | G87: =H87*$H$62 -> 0.54 | H87: 0.01125 | L87: 10.15875 | M87: =$N$62*N87 -> 10.15875 | N87: 0.01125 | P87: ENFERMAR LTDA. SOC. PESQ. | Q87: MAR-AGO | R87: 0.01763 | AG87: =SUM(R87:AF87) -> 0.01763
B88: 23 | F88: 0.684 | G88: =H88*$H$62 -> 0.684 | H88: 0.01425 | L88: 12.86775 | M88: =$N$62*N88 -> 12.86775 | N88: 0.01425 | Q88: OCT-DIC | R88: 0.00205 | AG88: =SUM(R88:AF88) -> 0.00205
B89: 24 | F89: 0.684 | G89: =H89*$H$62 -> 0.684 | H89: 0.01425 | L89: 12.86775 | M89: =$N$62*N89 -> 12.86775 | N89: 0.01425 | AE89: TOTAL LTP ASIGNADAS | AG89: =SUM(AG63:AH88) -> 47.99999
B90: 25 | F90: 0.684 | G90: =H90*$H$62 -> 0.684 | H90: 0.01425 | L90: 12.86775 | M90: =$N$62*N90 -> 12.86775 | N90: 0.01425
B91: TOTAL | C91: =SUM(C66:C86) -> 40.79998 | D91: =SUM(D66:D90) -> 40.799995 | E91: =SUM(E66:E90) -> 0.8499999 | F91: =SUM(F66:F90) -> 7.2 | G91: =SUM(G66:G90) -> 7.2 | H91: =SUM(H66:H90) -> 0.15 | I91: =SUM(I66:I86) -> 767.54991 | J91: =SUM(J66:J90) -> 767.54991 | K91: =SUM(K66:K90) -> 0.8499999 | L91: =SUM(L66:L90) -> 135.45 | M91: =SUM(M66:M90) -> 135.45 | N91: =SUM(N66:N90) -> 0.15
C92: TOTAL LTP A+B | D92: =SUM(C91+F91) -> 47.99998 | E92: LTP (A+B) X COEFICIENTE | F92: =SUM(D91+G91) -> 47.999995 | G92: TOTAL LTP A+B (COEFICIENTE) | H92: =SUM(E91+H91) -> 0.9999999 | I92: TOTAL LTP A+B | J92: =SUM(I91+L91) -> 902.99991 | K92: LTP (A+B) X COEFICIENTE | L92: =SUM(J91+M91) -> 902.99991 | M92: TOTAL LTP A+B (COEFICIENTE) | N92: =SUM(K91+N91) -> 0.9999999
P93: IV | R93: A | S93: A | T93: A | U93: B | V93: B | W93: B | X93: B | Y93: B | Z93: B | AA93: B | AB93: B | AC93: B | AD93: B | AE93: B | AF93: B | AG93: TOTAL CUOTA | AJ93: Lotes deciertos IV | AK93: ENE-FEB
P94: ANTARTIC SEAFOOD S.A. | Q94: MAR-AGO | R94: 270.30648 | U94: 7.92675 | V94: 7.92675 | W94: 1.626 | X94: 11.58525 | AG94: =SUM(R94:AF94) -> 299.37123 | AK94: MAR-DIC
Q95: OCT-DIC | R95: 29.92323 | U95: 0.8775 | V95: 0.8775 | W95: 0.18 | X95: 1.2825 | AG95: =SUM(R95:AF95) -> 33.14073 | AK95: TOTAL LOTES DECIERTOS | AL95: =SUM(AL93+AL94) -> 0
P96: QUINTERO S.A. PESQ. | Q96: MAR-AGO | R96: 4.76678 | S96: 44.11655 | U96: 5.24385 | AG96: =SUM(R96:AF96) -> 54.12718
Q97: OCT-DIC | R97: 0.52769 | S97: 4.88375 | U97: 0.5805 | AG97: =SUM(R97:AF97) -> 5.99194
P98: BAYCIC BAYCIC MARIA | Q98: MAR-AGO | R98: 0.02439 | AG98: =SUM(R98:AF98) -> 0.02439
Q99: OCT-DIC | R99: 0.0027 | AG99: =SUM(R99:AF99) -> 0.0027
P100: BRACPESCA S.A. | Q100: MAR-AGO | R100: 281.4819 | U100: 6.30075 | V100: 0.21138 | W100: 2.59347 | X100: 9.14625 | Y100: 11.58525 | AG100: =SUM(R100:AF100) -> 311.319
Q101: OCT-DIC | R101: 31.16036 | U101: 0.6975 | V101: 0.0234 | W101: 0.2871 | X101: 1.0125 | Y101: 1.2825 | AG101: =SUM(R101:AF101) -> 34.46336
P102: GRIMAR S.A. PESQ. | Q102: MAR-AGO | R102: 0.14073 | AG102: =SUM(R102:AF102) -> 0.14073
Q103: OCT-DIC | R103: 0.01558 | AG103: =SUM(R103:AF103) -> 0.01558
P104: ISLADAMAS S.A. PESQ. | Q104: MAR-AGO | R104: 35.6668 | S104: 17.886 | T104: 17.61096 | U104: 1.82925 | V104: 2.1951 | W104: 5.73165 | AG104: =SUM(R104:AF104) -> 80.91976
Q105: OCT-DIC | R105: 3.94835 | S105: 1.98 | T105: 1.94955 | U105: 0.2025 | V105: 0.243 | W105: 0.6345 | AG105: =SUM(R105:AF105) -> 8.9579
P106: MOROZIN BAYCIC MARIA ANA | Q106: MAR-AGO | R106: 0.08138 | AG106: =SUM(R106:AF106) -> 0.08138
Q107: OCT-DIC | R107: 0.00901 | AG107: =SUM(R107:AF107) -> 0.00901
P108: MOROZIN YURECIC MARIO | Q108: MAR-AGO | R108: 0.01634 | AG108: =SUM(R108:AF108) -> 0.01634
Q109: OCT-DIC | R109: 0.00181 | AG109: =SUM(R109:AF109) -> 0.00181
...

Sheet CUOTA LICITADA PEP
B2: Decreto N°253/2025
B3: PERIODO | C3: V-VI | D3: VII-VIII | E3: TOTAL
B4: MAR-AGO | C4: 1051 | D4: 1285 | E4: =SUM(C4+D4) -> 2336
B5: OCT-DIC | C5: 117 | D5: 143 | E5: =SUM(C5+D5) -> 260
B6: TOTAL | C6: =SUM(C4:C5) -> 1168 | D6: =SUM(D4:D5) -> 1428 | E6: =SUM(C6:D6) -> 2596
B9: CONTROL CUOTA LANGOSTINO AMARILLO PEP AÑO 2026
B10: ='RESUMEN '!B3 -> 46324
B12: UNIDAD DE PESQUERIA | C12: TITULAR DE CUOTA PEP | D12: PERIODO | E12: % | F12: CUOTA ASIGNADA (TON) | G12: MOVIMIENTO (TON) | H12: CUOTA EFECTIVA (TON) | I12: CAPTURA (TON) | J12: SALDO (TON) | K12: % CONSUMIDO | L12: CUOTA ASIGNADA (TON) | M12: MOVIMIENTO (TON) | N12: CUOTA EFECTIVA (TON) | O12: CAPTURA (TON) | P12: SALDO (TON) | Q12: % CONSUMO
B13: LANGOSTINO AMARILLO PEP V-VI | C13: ANTARTIC SEAFOOD S.A. | D13: MAR-AGO | E13: 22.039137 | F13: =E13/100*$C$4 -> 231.63133 | H13: =F13+G13 -> 231.63133 | I13: 228.706 | J13: =H13-I13 -> 2.9253299 | K13: =I13/H13 -> 0.98737075 | L13: =F13+F14 -> 257.41712 | M13: =G13+G14 -> 0 | N13: =L13+M13 -> 257.41712 | O13: =I13+I14 -> 228.706 | P13: =N13-O13 -> 28.71112 | Q13: =O13/N13 -> 0.88846461
D14: OCT-DIC | F14: =E13/100*$C$5 -> 25.78579 | H14: =F14+G14+J13 -> 28.71112 | J14: =H14-I14 -> 28.71112 | K14: 0.03
C15: QUINTERO S.A. PESQ. | D15: MAR-AGO | E15: 0 | F15: =E15/100*$C$4 -> 0 | H15: =F15+G15 -> 0 | J15: =H15-I15 -> 0 | K15: 0 | L15: =F15+F16 -> 0 | M15: =G15+G16 -> 0 | N15: =L15+M15 -> 0 | O15: =I15+I16 -> 0 | P15: =N15-O15 -> 0 | Q15: 0
D16: OCT-DIC | F16: =E15/100*$C$5 -> 0 | H16: =F16+G16+J15 -> 0 | J16: =H16-I16 -> 0 | K16: 0
C17: BRACPESCA S.A. | D17: MAR-AGO | E17: 29.26 | F17: =E17/100*$C$4 -> 307.5226 | H17: =F17+G17 -> 307.5226 | I17: 301.562 | J17: =H17-I17 -> 5.9606 | K17: =I17/H17 -> 0.98061736 | L17: =F17+F18 -> 341.7568 | M17: =G17+G18 -> 0 | N17: =L17+M17 -> 341.7568 | O17: =I17+I18 -> 322.95 | P17: =N17-O17 -> 18.8068 | Q17: =O17/N17 -> 0.94497022
D18: OCT-DIC | F18: =E17/100*$C$5 -> 34.2342 | H18: =F18+G18+J17 -> 40.1948 | I18: 21.388 | J18: =H18-I18 -> 18.8068 | K18: =I18/H18 -> 0.53210863
C19: ANTONIO CRUZ CORDOVA NAKOUZI E.I.R.L. | D19: MAR-AGO | E19: 0 | F19: =E19/100*$C$4 -> 0 | H19: =F19+G19 -> 0 | J19: =H19-I19 -> 0 | K19: 0 | L19: =F19+F20 -> 0 | M19: =G19+G20 -> 0 | N19: =L19+M19 -> 0 | O19: =I19+I20 -> 0 | P19: =N19-O19 -> 0 | Q19: 0
D20: OCT-DIC | F20: =E19/100*$C$5 -> 0 | H20: =F20+G20+J19 -> 0 | J20: =H20-I20 -> 0 | K20: 0
C21: GRIMAR S.A. PESQ. | D21: MAR-AGO | E21: 0.036373 | F21: =E21/100*$C$4 -> 0.38228023 | H21: =F21+G21 -> 0.38228023 | J21: =H21-I21 -> 0.38228023 | K21: =I21/H21 -> 0 | L21: =F21+F22 -> 0.42483664 | M21: =G21+G22 -> 0 | N21: =L21+M21 -> 0.42483664 | O21: =I21+I22 -> 0 | P21: =N21-O21 -> 0.42483664 | Q21: =O21/N21 -> 0
D22: OCT-DIC | F22: =E21/100*$C$5 -> 0.04255641 | H22: =F22+G22+J21 -> 0.42483664 | J22: =H22-I22 -> 0.42483664 | K22: =I22/H22 -> 0
C23: ISLADAMAS S.A. PESQ. | D23: MAR-AGO | E23: 10.23349 | F23: =E23/100*$C$4 -> 107.55398 | G23: =17.52 -> 17.52 | H23: =F23+G23 -> 125.07398 | I23: 120.646 | J23: =H23-I23 -> 4.4279799 | K23: =I23/H23 -> 0.96459711 | L23: =F23+F24 -> 119.52716 | M23: =G23+G24 -> 17.52 | N23: =L23+M23 -> 137.04716 | O23: =I23+I24 -> 133.127 | P23: =N23-O23 -> 3.9201632 | Q23: =O23/N23 -> 0.97139552
D24: OCT-DIC | F24: =E23/100*$C$5 -> 11.973183 | H24: =F24+G24+J23 -> 16.401163 | I24: 12.481 | J24: =H24-I24 -> 3.9201632 | K24: =I24/H24 -> 0.76098261
C25: LANDES S.A. PESQ. | D25: MAR-AGO | E25: 0.1 | F25: =E25/100*$C$4 -> 1.051 | H25: =F25+G25 -> 1.051 | J25: =H25-I25 -> 1.051 | K25: =I25/H25 -> 0 | L25: =F25+F26 -> 1.168 | M25: =G25+G26 -> 0 | N25: =L25+M25 -> 1.168 | O25: =I25+I26 -> 0 | P25: =N25-O25 -> 1.168 | Q25: =O25/N25 -> 0
D26: OCT-DIC | F26: =E25/100*$C$5 -> 0.117 | H26: =F26+G26+J25 -> 1.168 | J26: =H26-I26 -> 1.168 | K26: =I26/H26 -> 0
C27: JUAN RUBIO VALENZUELA | D27: MAR-AGO | E27: 2.27 | F27: =E27/100*$C$4 -> 23.8577 | G27: =-26.514 -> -26.514 | H27: =F27+G27 -> -2.6563 | J27: =H27-I27 -> -2.6563 | K27: =I27/H27 -> 0 | L27: =F27+F28 -> 26.5136 | M27: =G27+G28 -> -26.514 | N27: =L27+M27 -> -0.0004 | O27: =I27+I28 -> 0 | P27: =N27-O27 -> -0.0004 | Q27: =O27/N27 -> 0
D28: OCT-DIC | F28: =E27/100*$C$5 -> 2.6559 | H28: =F28+G28+J27 -> -0.0004 | J28: =H28-I28 -> -0.0004 | K28: =I28/H28 -> 0
C29: PACIFICBLU SPA. | D29: MAR-AGO | E29: 3.192 | F29: =E29/100*$C$4 -> 33.54792 | H29: =F29+G29 -> 33.54792 | J29: =H29-I29 -> 33.54792 | K29: =I29/H29 -> 0 | L29: =F29+F30 -> 37.28256 | M29: =G29+G30 -> 0 | N29: =L29+M29 -> 37.28256 | O29: =I29+I30 -> 0 | P29: =N29-O29 -> 37.28256 | Q29: =O29/N29 -> 0
D30: OCT-DIC | F30: =E29/100*$C$5 -> 3.73464 | H30: =F30+G30+J29 -> 37.28256 | J30: =H30-I30 -> 37.28256 | K30: =I30/H30 -> 0
C31: ERIC ARAVENA ARAVENA | D31: MAR-AGO | E31: 0.0504 | F31: =E31/100*$C$4 -> 0.529704 | H31: =F31+G31 -> 0.529704 | J31: =H31-I31 -> 0.529704 | K31: =I31/H31 -> 0 | L31: =F31+F32 -> 0.588672 | M31: =G31+G32 -> 0 | N31: =L31+M31 -> 0.588672 | O31: =I31+I32 -> 0 | P31: =N31-O31 -> 0.588672 | Q31: =O31/N31 -> 0
D32: OCT-DIC | F32: =E31/100*$C$5 -> 0.058968 | H32: =F32+G32+J31 -> 0.588672 | J32: =H32-I32 -> 0.588672 | K32: =I32/H32 -> 0
C33: ENFEMAR LTDA. SOC. PESQ. | D33: MAR-AGO | E33: 0.406005 | F33: =E33/100*$C$4 -> 4.2671126 | H33: =F33+G33 -> 4.2671126 | J33: =H33-I33 -> 4.2671126 | K33: =I33/H33 -> 0 | L33: =F33+F34 -> 4.7421384 | M33: =G33+G34 -> 0 | N33: =L33+M33 -> 4.7421384 | O33: =I33+I34 -> 0 | P33: =N33-O33 -> 4.7421384 | Q33: =O33/N33 -> 0
D34: OCT-DIC | F34: =E33/100*$C$5 -> 0.47502585 | H34: =F34+G34+J33 -> 4.7421384 | J34: =H34-I34 -> 4.7421384 | K34: =I34/H34 -> 0
C35: INVERSIONES NAKAL SPA. | D35: MAR-AGO | E35: 0 | F35: =E35/100*$C$4 -> 0 | G35: 26.514 | H35: =F35+G35 -> 26.514 | J35: =H35-I35 -> 26.514 | K35: 0 | L35: =F35+F36 -> 0 | M35: =G35+G36 -> 26.514 | N35: =L35+M35 -> 26.514 | O35: =I35+I36 -> 0 | P35: =N35-O35 -> 26.514 | Q35: 0
D36: OCT-DIC | F36: =E35/100*$C$5 -> 0 | H36: =F36+G36+J35 -> 26.514 | J36: =H36-I36 -> 26.514 | K36: 0
C37: SOC. PESQ. NORDIOMAR SPA. | D37: MAR-AGO | E37: 0.995 | F37: =E37/100*$C$4 -> 10.45745 | H37: =F37+G37 -> 10.45745 | J37: =H37-I37 -> 10.45745 | K37: =I37/H37 -> 0 | L37: =F37+F38 -> 11.6216 | M37: =G37+G38 -> 0 | N37: =L37+M37 -> 11.6216 | O37: =I37+I38 -> 0 | P37: =N37-O37 -> 11.6216 | Q37: =O37/N37 -> 0
D38: OCT-DIC | F38: =E37/100*$C$5 -> 1.16415 | H38: =F38+G38+J37 -> 11.6216 | J38: =H38-I38 -> 11.6216 | K38: =I38/H38 -> 0
C39: PESQUERA SUR AUSTRAL | D39: MAR-AGO | E39: 0.004828 | F39: =E39/100*$C$4 -> 0.05074228 | H39: =F39+G39 -> 0.05074228 | J39: =H39-I39 -> 0.05074228 | K39: =I39/H39 -> 0 | L39: =F39+F40 -> 0.05639104 | M39: =G39+G40 -> 0 | N39: =L39+M39 -> 0.05639104 | O39: =I39+I40 -> 0 | P39: =N39-O39 -> 0.05639104 | Q39: =O39/N39 -> 0
D40: OCT-DIC | F40: =E39/100*$C$5 -> 0.00564876 | H40: =F40+G40+J39 -> 0.05639104 | J40: =H40-I40 -> 0.05639104 | K40: =I40/H40 -> 0
C41: COMERCIALIZADORA SIMON SEAFOOD LTDA. | D41: MAR-AGO | E41: 0 | F41: =E41/100*$C$4 -> 0 | H41: =F41+G41 -> 0 | J41: =H41-I41 -> 0 | K41: 0 | L41: =F41+F42 -> 0 | M41: =G41+G42 -> 0 | N41: =L41+M41 -> 0 | O41: =I41+I42 -> 0 | P41: =N41-O41 -> 0 | Q41: 0
D42: OCT-DIC | F42: =E41/100*$C$5 -> 0 | H42: =F42+G42+J41 -> 0 | J42: =H42-I42 -> 0 | K42: 0
C43: WILLIAMS MAUAD MEZA | D43: MAR-AGO | E43: 0 | F43: =E43/100*$C$4 -> 0 | H43: =F43+G43 -> 0 | J43: =H43-I43 -> 0 | K43: 0 | L43: =F43+F44 -> 0 | M43: =G43+G44 -> 0 | N43: =L43+M43 -> 0 | O43: =I43+I44 -> 0 | P43: =N43-O43 -> 0 | Q43: 0
D44: OCT-DIC | F44: =E43/100*$C$5 -> 0 | H44: =F44+G44+J43 -> 0 | J44: =H44-I44 -> 0 | K44: 0
C45: GUILLEROMO DONOSO TOBAR | D45: MAR-AGO | E45: 1.5 | F45: =E45/100*$C$4 -> 15.765 | G45: =-17.52 -> -17.52 | H45: =F45+G45 -> -1.755 | J45: =H45-I45 -> -1.755 | K45: =I45/H45 -> 0 | L45: =F45+F46 -> 17.52 | M45: =G45+G46 -> -17.52 | N45: =L45+M45 -> 0 | O45: =I45+I46 -> 0 | P45: =N45-O45 -> 0 | Q45: 0
D46: OCT-DIC | F46: =E45/100*$C$5 -> 1.755 | H46: =F46+G46+J45 -> 0 | J46: =H46-I46 -> 0 | K46: 0
C47: MJF LTDA | D47: MAR-AGO | E47: 0.0432653 | F47: =E47/100*$C$4 -> 0.4547183 | H47: =F47+G47 -> 0.4547183 | J47: =H47-I47 -> 0.4547183 | K47: =I47/H47 -> 0 | L47: =F47+F48 -> 0.5053387 | M47: =G47+G48 -> 0 | N47: =L47+M47 -> 0.5053387 | O47: =I47+I48 -> 0 | P47: =N47-O47 -> 0.5053387 | Q47: =O47/N47 -> 0
D48: OCT-DIC | F48: =E47/100*$C$5 -> 0.050620401 | H48: =F48+G48+J47 -> 0.5053387 | J48: =H48-I48 -> 0.5053387 | K48: =I48/H48 -> 0
C49: CONSTANTINO SPA. | D49: MAR-AGO | E49: 0.153061 | F49: =E49/100*$C$4 -> 1.6086711 | H49: =F49+G49+J48 -> 2.1140098 | J49: =H49-I49 -> 2.1140098 | K49: =I49/H49 -> 0 | L49: =F49+F50 -> 1.7877525 | M49: =G49+G50 -> 0 | N49: =L49+M49 -> 1.7877525 | O49: =I49+I50 -> 0 | P49: =N49-O49 -> 1.7877525 | Q49: =O49/N49 -> 0
D50: OCT-DIC | F50: =E49/100*$C$5 -> 0.17908137 | H50: =F50+G50+J49 -> 2.2930912 | J50: =H50-I50 -> 2.2930912 | K50: =I50/H50 -> 0
C51: CRUSTACEOS SUR S.A. | D51: MAR-AGO | E51: 23.406935 | F51: =E51/100*$C$4 -> 246.00689 | H51: =F51+G51 -> 246.00689 | I51: 67.925 | J51: =H51-I51 -> 178.08189 | K51: =I51/H51 -> 0.27611016 | L51: =F51+F52 -> 273.393 | M51: =G51+G52 -> 0 | N51: =L51+M51 -> 273.393 | O51: =I51+I52 -> 175.084 | P51: =N51-O51 -> 98.309001 | Q51: =O51/N51 -> 0.64041142
D52: OCT-DIC | F52: =E51/100*$C$5 -> 27.386114 | H52: =F52+G52+J51 -> 205.468 | I52: 107.159 | J52: =H52-I52 -> 98.309001 | K52: =I52/H52 -> 0.5215362
B53: LANGOSTINO AMARILLO PEP VII-VIII | C53: ANTARTIC SEAFOOD S.A. | D53: MAR-AGO | E53: 22.039137 | F53: =E53/100*$D$4 -> 283.20291 | H53: =F53+G53 -> 283.20291 | I53: 8.961 | J53: =H53-I53 -> 274.24191 | K53: =I53/H53 -> 0.031641624 | L53: =F53+F54 -> 314.71888 | M53: =G53+G54 -> 0 | N53: =L53+M53 -> 314.71888 | O53: =I53+I54 -> 160.667 | P53: =N53-O53 -> 154.05188 | Q53: =O53/N53 -> 0.51050958
D54: OCT-DIC | F54: =E53/100*$D$5 -> 31.515966 | H54: =F54+G54+J53 -> 305.75788 | I54: 151.706 | J54: =H54-I54 -> 154.05188 | K54: =I54/H54 -> 0.49616383
C55: QUINTERO S.A. PESQ. | D55: MAR-AGO | E55: 0 | F55: =E55/100*$D$4 -> 0 | H55: =F55+G55 -> 0 | J55: =H55-I55 -> 0 | K55: 0 | L55: =F55+F56 -> 0 | M55: =G55+G56 -> 0 | N55: =L55+M55 -> 0 | O55: =I55+I56 -> 0 | P55: =N55-O55 -> 0 | Q55: 0
D56: OCT-DIC | F56: =E55/100*$D$5 -> 0 | H56: =F56+G56+J55 -> 0 | J56: =H56-I56 -> 0 | K56: 0
C57: BRACPESCA S.A. | D57: MAR-AGO | E57: 29.26 | F57: =E57/100*$D$4 -> 375.991 | H57: =F57+G57 -> 375.991 | I57: 11.383 | J57: =H57-I57 -> 364.608 | K57: =I57/H57 -> 0.030274661 | L57: =F57+F58 -> 417.8328 | M57: =G57+G58 -> 0 | N57: =L57+M57 -> 417.8328 | O57: =I57+I58 -> 99.333 | P57: =N57-O57 -> 318.4998 | Q57: =O57/N57 -> 0.23773385
D58: OCT-DIC | F58: =E57/100*$D$5 -> 41.8418 | H58: =F58+G58+J57 -> 406.4498 | I58: 87.95 | J58: =H58-I58 -> 318.4998 | K58: =I58/H58 -> 0.21638589
C59: ANTONIO CRUZ CORDOVA NAKOUZI E.I.R.L. | D59: MAR-AGO | E59: 0 | F59: =E59/100*$D$4 -> 0 | H59: =F59+G59 -> 0 | J59: =H59-I59 -> 0 | K59: 0 | L59: =F59+F60 -> 0 | M59: =G59+G60 -> 0 | N59: =L59+M59 -> 0 | O59: =I59+I60 -> 0 | P59: =N59-O59 -> 0 | Q59: 0
D60: OCT-DIC | F60: =E59/100*$D$5 -> 0 | H60: =F60+G60+J59 -> 0 | J60: =H60-I60 -> 0 | K60: 0
C61: GRIMAR S.A. PESQ. | D61: MAR-AGO | E61: 0.036373 | F61: =E61/100*$D$4 -> 0.46739305 | H61: =F61+G61 -> 0.46739305 | J61: =H61-I61 -> 0.46739305 | K61: =I61/H61 -> 0 | L61: =F61+F62 -> 0.51940644 | M61: =G61+G62 -> 0 | N61: =L61+M61 -> 0.51940644 | O61: =I61+I62 -> 0 | P61: =N61-O61 -> 0.51940644 | Q61: =O61/N61 -> 0
D62: OCT-DIC | F62: =E61/100*$D$5 -> 0.05201339 | H62: =F62+G62+J61 -> 0.51940644 | J62: =H62-I62 -> 0.51940644 | K62: =I62/H62 -> 0
C63: ISLADAMAS S.A. PESQ. | D63: MAR-AGO | E63: 10.23349 | F63: =E63/100*$D$4 -> 131.50035 | G63: 21.42 | H63: =F63+G63 -> 152.92035 | I63: 6.768 | J63: =H63-I63 -> 146.15235 | K63: =I63/H63 -> 0.044258335 | L63: =F63+F64 -> 146.13424 | M63: =G63+G64 -> 21.42 | N63: =L63+M63 -> 167.55424 | O63: =I63+I64 -> 6.768 | P63: =N63-O63 -> 160.78624 | Q63: =O63/N63 -> 0.040392891
D64: OCT-DIC | F64: =E63/100*$D$5 -> 14.633891 | H64: =F64+G64+J63 -> 160.78624 | J64: =H64-I64 -> 160.78624 | K64: =I64/H64 -> 0
C65: LANDES S.A. PESQ. | D65: MAR-AGO | E65: 0.1 | F65: =E65/100*$D$4 -> 1.285 | H65: =F65+G65 -> 1.285 | I65: 0.142 | J65: =H65-I65 -> 1.143 | K65: =I65/H65 -> 0.11050584 | L65: =F65+F66 -> 1.428 | M65: =G65+G66 -> 0 | N65: =L65+M65 -> 1.428 | O65: =I65+I66 -> 0.142 | P65: =N65-O65 -> 1.286 | Q65: =O65/N65 -> 0.099439776
D66: OCT-DIC | F66: =E65/100*$D$5 -> 0.143 | H66: =F66+G66+J65 -> 1.286 | J66: =H66-I66 -> 1.286 | K66: =I66/H66 -> 0
C67: JUAN RUBIO VALENZUELA | D67: MAR-AGO | E67: 2.27 | F67: =E67/100*$D$4 -> 29.1695 | G67: =-32.416 -> -32.416 | H67: =F67+G67 -> -3.2465 | J67: =H67-I67 -> -3.2465 | K67: =I67/H67 -> 0 | L67: =F67+F68 -> 32.4156 | M67: =G67+G68 -> -32.416 | N67: =L67+M67 -> -0.0004 | O67: =I67+I68 -> 0 | P67: =N67-O67 -> -0.0004 | Q67: 0
D68: OCT-DIC | F68: =E67/100*$D$5 -> 3.2461 | H68: =F68+G68+J67 -> -0.0004 | J68: =H68-I68 -> -0.0004 | K68: 0
C69: PACIFICBLU SPA. | D69: MAR-AGO | E69: 3.192 | F69: =E69/100*$D$4 -> 41.0172 | H69: =F69+G69 -> 41.0172 | I69: 5.001 | J69: =H69-I69 -> 36.0162 | K69: =I69/H69 -> 0.12192446 | L69: =F69+F70 -> 45.58176 | M69: =G69+G70 -> 0 | N69: =L69+M69 -> 45.58176 | O69: =I69+I70 -> 5.001 | P69: =N69-O69 -> 40.58076 | Q69: =O69/N69 -> 0.10971494
D70: OCT-DIC | F70: =E69/100*$D$5 -> 4.56456 | H70: =F70+G70+J69 -> 40.58076 | J70: =H70-I70 -> 40.58076 | K70: =I70/H70 -> 0
C71: ERIC ARAVENA ARAVENA | D71: MAR-AGO | E71: 0.0504 | F71: =E71/100*$D$4 -> 0.64764 | H71: =F71+G71 -> 0.64764 | J71: =H71-I71 -> 0.64764 | K71: =I71/H71 -> 0 | L71: =F71+F72 -> 0.719712 | M71: =G71+G72 -> 0 | N71: =L71+M71 -> 0.719712 | O71: =I71+I72 -> 0 | P71: =N71-O71 -> 0.719712 | Q71: =O71/N71 -> 0
D72: OCT-DIC | F72: =E71/100*$D$5 -> 0.072072 | H72: =F72+G72+J71 -> 0.719712 | J72: =H72-I72 -> 0.719712 | K72: =I72/H72 -> 0
C73: ENFEMAR LTDA. SOC. PESQ. | D73: MAR-AGO | E73: 0.406005 | F73: =E73/100*$D$4 -> 5.2171642 | H73: =F73+G73 -> 5.2171642 | J73: =H73-I73 -> 5.2171642 | K73: =I73/H73 -> 0 | L73: =F73+F74 -> 5.7977514 | M73: =G73+G74 -> 0 | N73: =L73+M73 -> 5.7977514 | O73: =I73+I74 -> 0 | P73: =N73-O73 -> 5.7977514 | Q73: =O73/N73 -> 0
D74: OCT-DIC | F74: =E73/100*$D$5 -> 0.58058715 | H74: =F74+G74+J73 -> 5.7977514 | J74: =H74-I74 -> 5.7977514 | K74: =I74/H74 -> 0
C75: INVERSIONES NAKAL SPA. | D75: MAR-AGO | E75: 0 | F75: =E75/100*$D$4 -> 0 | G75: 32.416 | H75: =F75+G75 -> 32.416 | J75: =H75-I75 -> 32.416 | K75: 0 | L75: =F75+F76 -> 0 | M75: =G75+G76 -> 32.416 | N75: =L75+M75 -> 32.416 | O75: =I75+I76 -> 0 | P75: =N75-O75 -> 32.416 | Q75: 0
D76: OCT-DIC | F76: =E75/100*$D$5 -> 0 | H76: =F76+G76+J75 -> 32.416 | J76: =H76-I76 -> 32.416 | K76: 0
C77: SOC. PESQ. NORDIOMAR SPA. | D77: MAR-AGO | E77: 0.995 | F77: =E77/100*$D$4 -> 12.78575 | H77: =F77+G77 -> 12.78575 | J77: =H77-I77 -> 12.78575 | K77: =I77/H77 -> 0 | L77: =F77+F78 -> 14.2086 | M77: =G77+G78 -> 0 | N77: =L77+M77 -> 14.2086 | O77: =I77+I78 -> 0 | P77: =N77-O77 -> 14.2086 | Q77: =O77/N77 -> 0
D78: OCT-DIC | F78: =E77/100*$D$5 -> 1.42285 | H78: =F78+G78+J77 -> 14.2086 | J78: =H78-I78 -> 14.2086 | K78: =I78/H78 -> 0
C79: PESQUERA SUR AUSTRAL | D79: MAR-AGO | E79: 0.004828 | F79: =E79/100*$D$4 -> 0.0620398 | H79: =F79+G79 -> 0.0620398 | J79: =H79-I79 -> 0.0620398 | K79: =I79/H79 -> 0 | L79: =F79+F80 -> 0.06894384 | M79: =G79+G80 -> 0 | N79: =L79+M79 -> 0.06894384 | O79: =I79+I80 -> 0 | P79: =N79-O79 -> 0.06894384 | Q79: =O79/N79 -> 0
D80: OCT-DIC | F80: =E79/100*$D$5 -> 0.00690404 | H80: =F80+G80+J79 -> 0.06894384 | J80: =H80-I80 -> 0.06894384 | K80: =I80/H80 -> 0
C81: COMERCIALIZADORA SIMON SEAFOOD LTDA. | D81: MAR-AGO | E81: 0 | F81: =E81/100*$D$4 -> 0 | H81: =F81+G81 -> 0 | J81: =H81-I81 -> 0 | K81: 0 | L81: =F81+F82 -> 0 | M81: =G81+G82 -> 0 | N81: =L81+M81 -> 0 | O81: =I81+I82 -> 0 | P81: =N81-O81 -> 0 | Q81: 0
D82: OCT-DIC | F82: =E81/100*$D$5 -> 0 | H82: =F82+G82+J81 -> 0 | J82: =H82-I82 -> 0 | K82: 0
C83: WILLIAMS MAUAD MEZA | D83: MAR-AGO | E83: 0 | F83: =E83/100*$D$4 -> 0 | H83: =F83+G83 -> 0 | J83: =H83-I83 -> 0 | K83: 0 | L83: =F83+F84 -> 0 | M83: =G83+G84 -> 0 | N83: =L83+M83 -> 0 | O83: =I83+I84 -> 0 | P83: =N83-O83 -> 0 | Q83: 0
D84: OCT-DIC | F84: =E83/100*$D$5 -> 0 | H84: =F84+G84+J83 -> 0 | J84: =H84-I84 -> 0 | K84: 0
C85: GUILLEROMO DONOSO TOBAR | D85: MAR-AGO | E85: 1.5 | F85: =E85/100*$D$4 -> 19.275 | G85: -21.42 | H85: =F85+G85 -> -2.145 | J85: =H85-I85 -> -2.145 | K85: =I85/H85 -> 0 | L85: =F85+F86 -> 21.42 | M85: =G85+G86 -> -21.42 | N85: =L85+M85 -> 0 | O85: =I85+I86 -> 0 | P85: =N85-O85 -> 0 | Q85: 0
D86: OCT-DIC | F86: =E85/100*$D$5 -> 2.145 | H86: =F86+G86+J85 -> 0 | J86: =H86-I86 -> 0 | K86: 0
C87: MJF LTDA | D87: MAR-AGO | E87: 0.0432653 | F87: =E87/100*$D$4 -> 0.55595911 | H87: =F87+G87 -> 0.55595911 | J87: =H87-I87 -> 0.55595911 | K87: =I87/H87 -> 0 | L87: =F87+F88 -> 0.61782848 | M87: =G87+G88 -> 0 | N87: =L87+M87 -> 0.61782848 | O87: =I87+I88 -> 0 | P87: =N87-O87 -> 0.61782848 | Q87: =O87/N87 -> 0
D88: OCT-DIC | F88: =E87/100*$D$5 -> 0.061869379 | H88: =F88+G88+J87 -> 0.61782848 | J88: =H88-I88 -> 0.61782848 | K88: =I88/H88 -> 0
C89: CONSTANTINO SPA. | D89: MAR-AGO | E89: 0.153061 | F89: =E89/100*$D$4 -> 1.9668338 | H89: =F89+G89+J88 -> 2.5846623 | J89: =H89-I89 -> 2.5846623 | K89: =I89/H89 -> 0 | L89: =F89+F90 -> 2.1857111 | M89: =G89+G90 -> 0 | N89: =L89+M89 -> 2.1857111 | O89: =I89+I90 -> 0 | P89: =N89-O89 -> 2.1857111 | Q89: =O89/N89 -> 0
D90: OCT-DIC | F90: =E89/100*$D$5 -> 0.21887723 | H90: =F90+G90+J89 -> 2.8035396 | J90: =H90-I90 -> 2.8035396 | K90: =I90/H90 -> 0
C91: CRUSTACEOS SUR S.A. | D91: MAR-AGO | E91: 23.406935 | F91: =E91/100*$D$4 -> 300.77911 | H91: =F91+G91 -> 300.77911 | I91: 226.665 | J91: =H91-I91 -> 74.114115 | K91: =I91/H91 -> 0.75359288 | L91: =F91+F92 -> 334.25103 | M91: =G91+G92 -> 0 | N91: =L91+M91 -> 334.25103 | O91: =I91+I92 -> 240.993 | P91: =N91-O91 -> 93.258032 | Q91: =O91/N91 -> 0.72099403
D92: OCT-DIC | F92: =E91/100*$D$5 -> 33.471917 | H92: =F92+G92+J91 -> 107.58603 | I92: 14.328 | J92: =H92-I92 -> 93.258032 | K92: =I92/H92 -> 0.13317714
B93: TOTALES | D93: ENE-DIC | E93: =SUM(E53:E92) -> 93.690494 | F93: =SUM(F13:F92) -> 2432.2052 | G93: =SUM(G13:G92) -> 0 | H93: =F93+G93 -> 2432.2052 | I93: =SUM(I13:I92) -> 1372.771 | J93: =H93-I93 -> 1059.4342 | K93: =I93/H93 -> 0.56441413 | L93: =SUM(L13:L92) -> 2432.2052 | M93: =SUM(M13:M92) -> 0 | N93: =L93+M93 -> 2432.2052 | O93: =SUM(O13:O92) -> 1372.771 | P93: =N93-O93 -> 1059.4342 | Q93: =O93/N93 -> 0.56441413

Sheet LEY 21.752 CRUC
B2: CONTROL CUOTA LANGOSTINO AMARILLO FRACCION ARTESANAL AÑO 2026
B3: ='RESUMEN '!B3 -> 46324
B5: REGIÓN | C5: ASIGNATARIO | D5: PERIODO | E5: CUOTA ASIGNADA (TON) | F5: MOVIMIENTO (TON) | G5: CUOTA EFECTIVA (TON) | H5: CAPTURA (TON) | I5: SALDO (TON) | J5: % CONSUMIDO | K5: FECHA CIERRE | L5: CUOTA ASIGNADA (TON) | M5: MOVIMIENTO (TON) | N5: CUOTA EFECTIVA (TON) | O5: CAPTURA (TON) | P5: SALDO (TON) | Q5: % CONSUMO
B6: XV ARICA PARINACOTA | C6: REGIÓN | D6: MAR-AGO | E6: 0.819 | G6: =E6+F6 -> 0.819 | I6: =G6-H6 -> 0.819 | J6: =H6/G6 -> 0 | K6: - | L6: =E6+E7 -> 0.91 | M6: =F6+F7 -> 0 | N6: =L6+M6 -> 0.91 | O6: =H6+H7 -> 0 | P6: =N6-O6 -> 0.91 | Q6: =O6/N6 -> 0
D7: OCT-DIC | E7: 0.091 | G7: =E7+F7 -> 0.091 | I7: =G7-H7 -> 0.091 | J7: =H7/G7 -> 0 | K7: -
B8: I TARAPACÁ | C8: REGIÓN | D8: MAR-AGO | E8: 0.819 | G8: =E8+F8 -> 0.819 | I8: =G8-H8 -> 0.819 | J8: =H8/G8 -> 0 | K8: - | L8: =E8+E9 -> 0.91 | M8: =F8+F9 -> 0 | N8: =L8+M8 -> 0.91 | O8: =H8+H9 -> 0 | P8: =N8-O8 -> 0.91 | Q8: =O8/N8 -> 0
D9: OCT-DIC | E9: 0.091 | G9: =E9+F9 -> 0.091 | I9: =G9-H9 -> 0.091 | J9: =H9/G9 -> 0 | K9: -
B10: II ANTOFAGASTA | C10: REGIÓN | D10: MAR-AGO | E10: 0.819 | G10: =E10+F10 -> 0.819 | I10: =G10-H10 -> 0.819 | J10: =H10/G10 -> 0 | K10: - | L10: =E10+E11 -> 0.91 | M10: =F10+F11 -> 0 | N10: =L10+M10 -> 0.91 | O10: =H10+H11 -> 0 | P10: =N10-O10 -> 0.91 | Q10: =O10/N10 -> 0
D11: OCT-DIC | E11: 0.091 | G11: =E11+F11 -> 0.091 | I11: =G11-H11 -> 0.091 | J11: =H11/G11 -> 0 | K11: -
B12: III REGION DE ATACAMA | C12: REGIÓN | D12: MAR-AGO | E12: 1.143 | G12: =E12+F12 -> 1.143 | I12: =G12-H12 -> 1.143 | J12: =H12/G12 -> 0 | K12: - | L12: =E12+E13 -> 1.27 | M12: =F12+F13 -> 0 | N12: =L12+M12 -> 1.27 | O12: =H12+H13 -> 0 | P12: =N12-O12 -> 1.27 | Q12: =O12/N12 -> 0
D13: OCT-DIC | E13: 0.127 | G13: =E13+F13+I12 -> 1.27 | I13: =G13-H13 -> 1.27 | J13: =H13/G13 -> 0 | K13: -
B14: IV REGION DE COQUIMBO | C14: REGIÓN | D14: MAR-AGO | E14: 78.3 | G14: =E14+F14 -> 78.3 | H14: 77.294 | I14: =G14-H14 -> 1.006 | J14: =H14/G14 -> 0.98715198 | K14: 46156 | L14: =E14+E15 -> 87 | M14: =F14+F15 -> 0 | N14: =L14+M14 -> 87 | O14: =H14+H15 -> 77.294 | P14: =N14-O14 -> 9.706 | Q14: =O14/N14 -> 0.88843678
D15: OCT-DIC | E15: 8.7 | G15: =E15+F15+I14 -> 9.706 | I15: =G15-H15 -> 9.706 | J15: =H15/G15 -> 0 | K15: -
B16: TOTALES | D16: ENE-DIC | E16: =SUM(E6:E15) -> 91 | F16: =SUM(F12:F15) -> 0 | G16: =E16+F16 -> 91 | H16: =SUM(H6:H15) -> 77.294 | I16: =G16-H16 -> 13.706 | J16: =H16/G16 -> 0.84938462 | K16: - | L16: =SUM(L12:L15) -> 88.27 | M16: =SUM(M12:M15) -> 0 | N16: =L16+M16 -> 88.27 | O16: =SUM(O12:O15) -> 77.294 | P16: =N16-O16 -> 10.976 | Q16: =O16/N16 -> 0.87565424
B19: RES N°160/2026

Sheet PESCA DE INVESTIGACION
B4: CONTROL PESCA DE INVESTIGACION
B7: CONTROL PESCA DE INVESTIGACION
B8: N° RESOLUCION | C8: EMBARCACION TITULAR | D8: CUOTA | E8: CAPTURA | F8: CAPTURA TOTAL | G8: SALDO | H8: CONSUMO

Sheet CESIONES INDIVIDUALES
B3: CESIONES CUOTAS INDIVIDUALES
B4: N° Resolución | C4: RPA | D4: Embarcación | E4: Cuota | F4: Captura | G4: Saldo | H4: Consumo

Sheet MOVIMIENTOS
C1: LTPA | D1: LTPB | E1: A+B | F1: TON | G1: 98 | X1: LTP
A2: LANGOSTINO AMARILLO III | B2: ANTARTIC SEAFOOD S.A. | C2: 0.3324803 | D2: =0.00975+0.00975+0.002+0.01425 -> 0.03575 | E2: =C2+D2 -> 0.3682303 | F2: =E2*$G$1 -> 36.086569 | G2: 36.08657 | H2: =F2-G2 -> -6e-07 | K2: EMPRESAS | L2: 2022 | N2: PERIODO | O2: V-VI | P2: VII-VIII | Q2: TOTAL | S2: PERIODO | T2: III | U2: IV | V2: TOTAL | X2: XV-III | Y2: 65
K3: CAMANCHACA PESCA SUR | L3: 20.604256 | N3: MAR-AGO | S3: MAR-AGO | X3: IV | Y3: 737
B4: QUINTERO S.A. PESQ. | C4: =0.0239553+0.0058632+0.0026566+0.027652 -> 0.0601271 | D4: =0.00645 -> 0.00645 | E4: =C4+D4 -> 0.0665771 | F4: =E4*$G$1 -> 6.5245558 | G4: 6.52456 | H4: =F4-G4 -> -4.2e-06 | K4: QUINTERO | L4: 3.33742 | N4: OCT-DIC | S4: OCT-DIC
K5: BRACPESCA | L5: 20.39454 | N5: TOTAL | O5: =SUM(O3:O4) -> 0 | P5: =SUM(P3:P4) -> 0 | Q5: =SUM(O5:P5) -> 0 | S5: TOTAL | T5: =SUM(T3:T4) -> 0 | U5: =SUM(U3:U4) -> 0 | V5: =SUM(V3:V4) -> 0
B6: BAYCIC BAYCIC MARIA | C6: 3e-05 | E6: =C6+D6 -> 3e-05 | F6: =E6*$G$1 -> 0.00294 | G6: 0.00294 | H6: =F6-G6 -> 0 | K6: ISLADAMAS | L6: 16.65462 | X6: Coeficiente | Y6: XV-III | Z6: IV | AA6: Total
K7: ANTARTIC SEAFOOD | L7: 7.59 | X7: 0.1496259 | Y7: =X7*Y2 -> 9.7256835 | Z7: =X7*Y3 -> 110.27429 | AA7: =Y7+Z7 -> 119.99997
B8: BRACPESCA S.A. | C8: 0.3462262 | D8: =0.00775+0.00026+0.01125+0.01425 -> 0.03351 | E8: =C8+D8 -> 0.3797362 | F8: =E8*$G$1 -> 37.214148 | G8: 37.21415 | H8: =F8-G8 -> -2.4e-06 | K8: GRIMAR S.A. | L8: 0.008 | N8: Detalle Negocios Langostino Amarillo
K9: PESQ. ANTONIO CRUZ CORDOVA | L9: 0.268772 | N9: N° doc | O9: Fecha | P9: DE - | Q9: A+ | R9: Coeficiente | S9: V-VI | T9: VII-VIII | U9: Total
B10: ZUÑIGA ROMERO GONZALO | C10: 6e-05 | E10: =C10+D10 -> 6e-05 | F10: =E10*$G$1 -> 0.00588 | G10: 0.00588 | H10: =F10-G10 -> 0 | K10: TOTAL | L10: 80.0003
B12: RUBIO Y MAUAD LTDA. | C12: 0.0224406 | D12: =0.00075+0.00375+0.00375+0.00525+0.00525+0.00675+0.00825+0.00405+0.00006+0.00069+0.01425 -> 0.0528 | E12: =C12+D12 -> 0.0752406 | F12: =E12*$G$1 -> 7.3735788 | G12: 7.37357 | H12: =F12-G12 -> 8.8e-06
B15: QUINTERO S.A. PESQ. | C15: =0.0239553+0.0058632+0.0026566+0.027652 -> 0.0601271 | D15: =0.00645 -> 0.00645 | E15: =C15+D15 -> 0.0665771 | F15: =E15*#REF! -> #REF! | G15: 58.85416 | H15: =F15-G15 -> #REF!
B17: BAYCIC BAYCIC MARIA | C17: 3e-05 | E17: =C17+D17 -> 3e-05 | F17: =E17*#REF! -> #REF! | G17: 0.02652 | H17: =F17-G17 -> #REF!
B19: BRACPESCA S.A. | C19: 0.3462262 | D19: =0.00775+0.00026+0.01125+0.01425 -> 0.03351 | E19: =C19+D19 -> 0.3797362 | F19: =E19*#REF! -> #REF! | G19: 338.50677 | H19: =F19-G19 -> #REF!
B21: GRIMAR S.A. PESQ. | C21: 0.0001731 | E21: =C21+D21 -> 0.0001731 | F21: =E21*#REF! -> #REF! | G21: 0.15302 | H21: =F21-G21 -> #REF!
B23: ISLADAMAS S.A. PESQ. | C23: =0.0438706+0.022+0.0216617 -> 0.0875323 | D23: =0.00225+0.009+0.00705 -> 0.0183 | E23: =C23+D23 -> 0.1058323 | F23: =E23*#REF! -> #REF! | G23: 93.55575 | H23: =F23-G23 -> #REF!
B25: MOROZIN BAYCIC MARIA ANA | C25: 0.0001001 | E25: =C25+D25 -> 0.0001001 | F25: =E25*#REF! -> #REF! | G25: 0.08849 | H25: =F25-G25 -> #REF!
B27: MOROZIN YURECIC MARIO | C27: 2.01e-05 | E27: =C27+D27 -> 2.01e-05 | F27: =E27*#REF! -> #REF! | G27: 0.01777 | H27: =F27-G27 -> #REF!
B29: ZUÑIGA ROMERO GONZALO | C29: 6e-05 | E29: =C29+D29 -> 6e-05 | F29: =E29*#REF! -> #REF! | G29: 0.05304 | H29: =F29-G29 -> #REF!
B31: RUBIO Y MAUAD LTDA. | C31: 0.0224406 | D31: =0.00075+0.00375+0.00375+0.00525+0.00525+0.00675+0.00825+0.00405+0.00006+0.00069+0.01425 -> 0.0528 | E31: =C31+D31 -> 0.0752406 | F31: =E31*#REF! -> #REF! | G31: 66.51109 | H31: =F31-G31 -> #REF!
B33: ENFERMAR LTDA. SOC. PESQ. | C33: 0.0008101 | E33: =C33+D33 -> 0.0008101 | F33: =E33*#REF! -> #REF! | G33: 0.71613 | H33: =F33-G33 -> #REF!
C35: =SUM(C14:C34) -> 0.5175196 | D35: =SUM(D14:D34) -> 0.11106 | E35: =SUM(E14:E34) -> 0.6285796 | F35: =SUM(F14:F34) -> #REF! | G35: =SUM(G14:G34) -> 558.48274 | H35: =SUM(H14:H34) -> #REF!

Sheet PAG. WEB
A1: unidad | B1: recurso | C1: zona | D1: tipo_asignatario | E1: organizacion_titular_area | F1: periodo_inicio | G1: periodo_final | H1: cuota | I1: cesiones_descuentos | J1: cuota_efectiva | K1: captura | L1: saldo | M1: consumo_porcentaje | N1: cierre | O1: preliminar | P1: año | Q1: mensaje
A2: LANGOSTINO AMARILLO III-IV | B2: LANGOSTINO AMARILLO | C2: III | D2: REGION | E2: REGION | F2: 46082 | G2: 46265 | H2: ='CUOTA ARTESANAL'!E6 -> 8 | I2: ='CUOTA ARTESANAL'!F6 -> 0 | J2: ='CUOTA ARTESANAL'!G6 -> 8 | K2: ='CUOTA ARTESANAL'!H6 -> 0 | L2: ='CUOTA ARTESANAL'!I6 -> 8 | M2: ='CUOTA ARTESANAL'!J6 -> 0 | N2: ='CUOTA ARTESANAL'!K6 -> - | O2: ='RESUMEN '!$B$3 -> 46324 | P2: 2026
A3: LANGOSTINO AMARILLO III-IV | B3: LANGOSTINO AMARILLO | C3: III | D3: REGION | E3: REGION | F3: 46296 | G3: 46387 | H3: ='CUOTA ARTESANAL'!E7 -> 1 | I3: ='CUOTA ARTESANAL'!F7 -> 0 | J3: ='CUOTA ARTESANAL'!G7 -> 9 | K3: ='CUOTA ARTESANAL'!H7 -> 0 | L3: ='CUOTA ARTESANAL'!I7 -> 9 | M3: ='CUOTA ARTESANAL'!J7 -> 0 | N3: ='CUOTA ARTESANAL'!K7 -> - | O3: ='RESUMEN '!$B$3 -> 46324 | P3: 2026
A4: LANGOSTINO AMARILLO III-IV | B4: LANGOSTINO AMARILLO | C4: III | D4: REGION | E4: total region III | F4: 46023 | G4: 46387 | H4: ='CUOTA ARTESANAL'!L6 -> 9 | I4: ='CUOTA ARTESANAL'!M6 -> 0 | J4: ='CUOTA ARTESANAL'!N6 -> 9 | K4: ='CUOTA ARTESANAL'!O6 -> 0 | L4: ='CUOTA ARTESANAL'!P6 -> 9 | M4: ='CUOTA ARTESANAL'!Q6 -> 0 | N4: - | O4: ='RESUMEN '!$B$3 -> 46324 | P4: 2026
A5: LANGOSTINO AMARILLO III-IV | B5: LANGOSTINO AMARILLO | C5: IV | D5: EMBARCACIÓN | E5: ='CUOTA ARTESANAL'!C8 -> PUNTA TALCA | F5: 46082 | G5: 46265 | H5: ='CUOTA ARTESANAL'!E8 -> 106.314 | I5: ='CUOTA ARTESANAL'!F8 -> -59.079 | J5: ='CUOTA ARTESANAL'!G8 -> 47.235 | K5: ='CUOTA ARTESANAL'!H8 -> 46.289 | L5: ='CUOTA ARTESANAL'!I8 -> 0.946 | M5: ='CUOTA ARTESANAL'!J8 -> 0.97997248 | N5: ='CUOTA ARTESANAL'!K8 -> 46119 | O5: ='RESUMEN '!$B$3 -> 46324 | P5: 2026
A6: LANGOSTINO AMARILLO III-IV | B6: LANGOSTINO AMARILLO | C6: IV | D6: EMBARCACIÓN | E6: ='CUOTA ARTESANAL'!C8 -> PUNTA TALCA | F6: 46296 | G6: 46387 | H6: ='CUOTA ARTESANAL'!E9 -> 11.844 | I6: ='CUOTA ARTESANAL'!F9 -> 0 | J6: ='CUOTA ARTESANAL'!G9 -> 12.79 | K6: ='CUOTA ARTESANAL'!H9 -> 11.798 | L6: ='CUOTA ARTESANAL'!I9 -> 0.992 | M6: ='CUOTA ARTESANAL'!J9 -> 0.92243941 | N6: ='CUOTA ARTESANAL'!K9 -> 46300 | O6: ='RESUMEN '!$B$3 -> 46324 | P6: 2026
A7: LANGOSTINO AMARILLO III-IV | B7: LANGOSTINO AMARILLO | C7: IV | D7: EMBARCACIÓN | E7: PUNTA TALCA | F7: 46023 | G7: 46387 | H7: ='CUOTA ARTESANAL'!L8 -> 118.158 | I7: ='CUOTA ARTESANAL'!M8 -> -59.079 | J7: ='CUOTA ARTESANAL'!N8 -> 59.079 | K7: ='CUOTA ARTESANAL'!O8 -> 58.087 | L7: ='CUOTA ARTESANAL'!P8 -> 0.992 | M7: ='CUOTA ARTESANAL'!Q8 -> 0.98320892 | N7: - | O7: ='RESUMEN '!$B$3 -> 46324 | P7: 2026
A8: LANGOSTINO AMARILLO III-IV | B8: LANGOSTINO AMARILLO | C8: IV | D8: EMBARCACIÓN | E8: ='CUOTA ARTESANAL'!C10 -> TRAUWUN I | F8: 46082 | G8: 46265 | H8: ='CUOTA ARTESANAL'!E10 -> 99.151 | I8: ='CUOTA ARTESANAL'!F10 -> 0 | J8: ='CUOTA ARTESANAL'!G10 -> 99.151 | K8: ='CUOTA ARTESANAL'!H10 -> 78.17 | L8: ='CUOTA ARTESANAL'!I10 -> 20.981 | M8: ='CUOTA ARTESANAL'!J10 -> 0.78839346 | N8: ='CUOTA ARTESANAL'!K10 -> - | O8: ='RESUMEN '!$B$3 -> 46324 | P8: 2026
A9: LANGOSTINO AMARILLO III-IV | B9: LANGOSTINO AMARILLO | C9: IV | D9: EMBARCACIÓN | E9: ='CUOTA ARTESANAL'!C10 -> TRAUWUN I | F9: 46296 | G9: 46387 | H9: ='CUOTA ARTESANAL'!E11 -> 11.046 | I9: ='CUOTA ARTESANAL'!F11 -> 0 | J9: ='CUOTA ARTESANAL'!G11 -> 32.027 | K9: ='CUOTA ARTESANAL'!H11 -> 0 | L9: ='CUOTA ARTESANAL'!I11 -> 32.027 | M9: ='CUOTA ARTESANAL'!J11 -> 0 | N9: ='CUOTA ARTESANAL'!K11 -> - | O9: ='RESUMEN '!$B$3 -> 46324 | P9: 2026
A10: LANGOSTINO AMARILLO III-IV | B10: LANGOSTINO AMARILLO | C10: IV | D10: EMBARCACIÓN | E10: TRAUWUN I | F10: 46023 | G10: 46387 | H10: ='CUOTA ARTESANAL'!L10 -> 110.197 | I10: ='CUOTA ARTESANAL'!M10 -> 0 | J10: ='CUOTA ARTESANAL'!N10 -> 110.197 | K10: ='CUOTA ARTESANAL'!O10 -> 78.17 | L10: ='CUOTA ARTESANAL'!P10 -> 32.027 | M10: ='CUOTA ARTESANAL'!Q10 -> 0.70936595 | O10: ='RESUMEN '!$B$3 -> 46324 | P10: 2026
A11: LANGOSTINO AMARILLO III-IV | B11: LANGOSTINO AMARILLO | C11: IV | D11: EMBARCACIÓN | E11: ='CUOTA ARTESANAL'!C12 -> CHAFIC I | F11: 46082 | G11: 46265 | H11: ='CUOTA ARTESANAL'!E12 -> 76.531 | I11: ='CUOTA ARTESANAL'!F12 -> 0 | J11: ='CUOTA ARTESANAL'!G12 -> 76.531 | K11: ='CUOTA ARTESANAL'!H12 -> 73.274 | L11: ='CUOTA ARTESANAL'!I12 -> 3.257 | M11: ='CUOTA ARTESANAL'!J12 -> 0.95744208 | N11: ='CUOTA ARTESANAL'!K12 -> - | O11: ='RESUMEN '!$B$3 -> 46324 | P11: 2026
A12: LANGOSTINO AMARILLO III-IV | B12: LANGOSTINO AMARILLO | C12: IV | D12: EMBARCACIÓN | E12: ='CUOTA ARTESANAL'!C12 -> CHAFIC I | F12: 46296 | G12: 46387 | H12: ='CUOTA ARTESANAL'!E13 -> 8.526 | I12: ='CUOTA ARTESANAL'!F13 -> 0 | J12: ='CUOTA ARTESANAL'!G13 -> 11.783 | K12: ='CUOTA ARTESANAL'!H13 -> 10.736 | L12: ='CUOTA ARTESANAL'!I13 -> 1.047 | M12: ='CUOTA ARTESANAL'!J13 -> 0.91114317 | N12: ='CUOTA ARTESANAL'!K13 -> - | O12: ='RESUMEN '!$B$3 -> 46324 | P12: 2026
A13: LANGOSTINO AMARILLO III-IV | B13: LANGOSTINO AMARILLO | C13: IV | D13: EMBARCACIÓN | E13: CHAFIC I | F13: 46023 | G13: 46387 | H13: ='CUOTA ARTESANAL'!L12 -> 85.057 | I13: ='CUOTA ARTESANAL'!M12 -> 0 | J13: ='CUOTA ARTESANAL'!N12 -> 85.057 | K13: ='CUOTA ARTESANAL'!O12 -> 84.01 | L13: ='CUOTA ARTESANAL'!P12 -> 1.047 | M13: ='CUOTA ARTESANAL'!Q12 -> 0.98769061 | N13: - | O13: ='RESUMEN '!$B$3 -> 46324 | P13: 2026
A14: LANGOSTINO AMARILLO III-IV | B14: LANGOSTINO AMARILLO | C14: IV | D14: EMBARCACIÓN | E14: ='CUOTA ARTESANAL'!C14 -> ISLA TABON | F14: 46082 | G14: 46265 | H14: ='CUOTA ARTESANAL'!E14 -> 72.384 | I14: ='CUOTA ARTESANAL'!F15 -> 0 | J14: ='CUOTA ARTESANAL'!G15 -> 0.296 | K14: ='CUOTA ARTESANAL'!H15 -> 0 | L14: ='CUOTA ARTESANAL'!I15 -> 0.296 | M14: ='CUOTA ARTESANAL'!J15 -> 0 | N14: ='CUOTA ARTESANAL'!K15 -> - | O14: ='RESUMEN '!$B$3 -> 46324 | P14: 2026
A15: LANGOSTINO AMARILLO III-IV | B15: LANGOSTINO AMARILLO | C15: IV | D15: EMBARCACIÓN | E15: ='CUOTA ARTESANAL'!C14 -> ISLA TABON | F15: 46296 | G15: 46387 | H15: ='CUOTA ARTESANAL'!E15 -> 8.064 | I15: ='CUOTA ARTESANAL'!M14 -> -70 | J15: ='CUOTA ARTESANAL'!N14 -> 10.448 | K15: ='CUOTA ARTESANAL'!O14 -> 10.152 | L15: ='CUOTA ARTESANAL'!P14 -> 0.296 | M15: ='CUOTA ARTESANAL'!Q14 -> 0.97166922 | N15: - | O15: ='RESUMEN '!$B$3 -> 46324 | P15: 2026
A16: LANGOSTINO AMARILLO III-IV | B16: LANGOSTINO AMARILLO | C16: IV | D16: EMBARCACIÓN | E16: ISLA TABON | F16: 46023 | G16: 46387 | H16: ='CUOTA ARTESANAL'!L14 -> 80.448 | I16: ='CUOTA ARTESANAL'!M15 -> 0 | J16: ='CUOTA ARTESANAL'!N15 -> 0 | K16: ='CUOTA ARTESANAL'!O15 -> 0 | L16: ='CUOTA ARTESANAL'!P15 -> 0 | M16: ='CUOTA ARTESANAL'!Q15 -> 0 | N16: - | O16: ='RESUMEN '!$B$3 -> 46324 | P16: 2026
A17: LANGOSTINO AMARILLO III-IV | B17: LANGOSTINO AMARILLO | C17: IV | D17: EMBARCACIÓN | E17: ='CUOTA ARTESANAL'!C16 -> RESIDUAL | F17: 46082 | G17: 46265 | H17: ='CUOTA ARTESANAL'!E16 -> 22.62 | I17: ='CUOTA ARTESANAL'!F16 -> 0 | J17: ='CUOTA ARTESANAL'!G16 -> 22.62 | K17: ='CUOTA ARTESANAL'!H16 -> 22.664 | L17: ='CUOTA ARTESANAL'!I16 -> -0.044 | M17: ='CUOTA ARTESANAL'!J16 -> 1.0019452 | N17: ='CUOTA ARTESANAL'!K16 -> 46150 | O17: ='RESUMEN '!$B$3 -> 46324 | P17: 2026
A18: LANGOSTINO AMARILLO III-IV | B18: LANGOSTINO AMARILLO | C18: IV | D18: EMBARCACIÓN | E18: ='CUOTA ARTESANAL'!C16 -> RESIDUAL | F18: 46296 | G18: 46387 | H18: ='CUOTA ARTESANAL'!E17 -> 2.52 | I18: ='CUOTA ARTESANAL'!F17 -> 0 | J18: ='CUOTA ARTESANAL'!G17 -> 2.476 | K18: ='CUOTA ARTESANAL'!H17 -> 0 | L18: ='CUOTA ARTESANAL'!I17 -> 2.476 | M18: ='CUOTA ARTESANAL'!J17 -> 0 | N18: ='CUOTA ARTESANAL'!K17 -> - | O18: ='RESUMEN '!$B$3 -> 46324 | P18: 2026
A19: LANGOSTINO AMARILLO III-IV | B19: LANGOSTINO AMARILLO | C19: IV | D19: EMBARCACIÓN | E19: RESIDUAL | F19: 46023 | G19: 46387 | H19: ='CUOTA ARTESANAL'!L16 -> 25.14 | I19: ='CUOTA ARTESANAL'!F18 -> 0 | J19: ='CUOTA ARTESANAL'!G18 -> 15 | K19: ='CUOTA ARTESANAL'!H18 -> 0 | L19: ='CUOTA ARTESANAL'!I18 -> 15 | M19: ='CUOTA ARTESANAL'!J18 -> 0 | N19: ='CUOTA ARTESANAL'!K18 -> - | O19: ='RESUMEN '!$B$3 -> 46324 | P19: 2026
A20: LANGOSTINO AMARILLO III-IV | B20: LANGOSTINO AMARILLO | C20: III-IV | D20: ARTESANAL | E20: FAUNA ACOMPAÑANTE | F20: 46023 | G20: 46387 | H20: ='CUOTA ARTESANAL'!E18 -> 15 | I20: ='CUOTA ARTESANAL'!F18 -> 0 | J20: ='CUOTA ARTESANAL'!G18 -> 15 | K20: ='CUOTA ARTESANAL'!H18 -> 0 | L20: ='CUOTA ARTESANAL'!I18 -> 15 | M20: ='CUOTA ARTESANAL'!J18 -> 0 | N20: ='CUOTA ARTESANAL'!K18 -> - | O20: ='RESUMEN '!$B$3 -> 46324 | P20: 2026
A21: LANGOSTINO AMARILLO III-IV | B21: LANGOSTINO AMARILLO | C21: III-IV | D21: TOTAL ARTESANAL | E21: TOTAL ASIGNATARIO ARTESANAL | F21: 46023 | G21: 46387 | H21: ='CUOTA ARTESANAL'!E19 -> 443 | I21: ='CUOTA ARTESANAL'!F19 -> -129.079 | J21: ='CUOTA ARTESANAL'!G19 -> 313.921 | K21: ='CUOTA ARTESANAL'!H19 -> 253.083 | L21: ='CUOTA ARTESANAL'!I19 -> 60.838 | M21: ='CUOTA ARTESANAL'!J19 -> 0.80619965 | N21: ='CUOTA ARTESANAL'!K19 -> - | O21: ='RESUMEN '!$B$3 -> 46324 | P21: 2026
A22: LANGOSTINO AMARILLO III-IV | B22: LANGOSTINO AMARILLO | C22: III | D22: TITULAR LTP | E22: ='CUOTA LTP -INDUSTRIAL'!C6 -> ANTARTIC SEAFOOD S.A. | F22: 46082 | G22: 46265 | H22: ='CUOTA LTP -INDUSTRIAL'!E6 -> 21.72559 | I22: ='CUOTA LTP -INDUSTRIAL'!F6 -> -9.726 | J22: ='CUOTA LTP -INDUSTRIAL'!G6 -> 11.99959 | K22: ='CUOTA LTP -INDUSTRIAL'!H6 -> 0 | L22: ='CUOTA LTP -INDUSTRIAL'!I6 -> 11.99959 | M22: ='CUOTA LTP -INDUSTRIAL'!J6 -> 0 | N22: - | O22: ='RESUMEN '!$B$3 -> 46324 | P22: 2026
A23: LANGOSTINO AMARILLO III-IV | B23: LANGOSTINO AMARILLO | C23: III | D23: TITULAR LTP | E23: ='CUOTA LTP -INDUSTRIAL'!C6 -> ANTARTIC SEAFOOD S.A. | F23: 46296 | G23: 46387 | H23: ='CUOTA LTP -INDUSTRIAL'!E7 -> 2.20938 | I23: ='CUOTA LTP -INDUSTRIAL'!F7 -> 0 | J23: ='CUOTA LTP -INDUSTRIAL'!G7 -> 14.20897 | K23: ='CUOTA LTP -INDUSTRIAL'!H7 -> 0 | L23: ='CUOTA LTP -INDUSTRIAL'!I7 -> 14.20897 | M23: ='CUOTA LTP -INDUSTRIAL'!J7 -> 0 | N23: - | O23: ='RESUMEN '!$B$3 -> 46324 | P23: 2026
A24: LANGOSTINO AMARILLO III-IV | B24: LANGOSTINO AMARILLO | C24: III | D24: TITULAR LTP | E24: ='CUOTA LTP -INDUSTRIAL'!C6 -> ANTARTIC SEAFOOD S.A. | F24: 46023 | G24: 46387 | H24: ='CUOTA LTP -INDUSTRIAL'!K6 -> 23.93497 | I24: ='CUOTA LTP -INDUSTRIAL'!L6 -> -9.726 | J24: ='CUOTA LTP -INDUSTRIAL'!M6 -> 14.20897 | K24: ='CUOTA LTP -INDUSTRIAL'!N6 -> 0 | L24: ='CUOTA LTP -INDUSTRIAL'!O6 -> 14.20897 | M24: ='CUOTA LTP -INDUSTRIAL'!P6 -> 0 | N24: - | O24: ='RESUMEN '!$B$3 -> 46324 | P24: 2026
A25: LANGOSTINO AMARILLO III-IV | B25: LANGOSTINO AMARILLO | C25: III | D25: TITULAR LTP | E25: ='CUOTA LTP -INDUSTRIAL'!C8 -> QUINTERO S.A. PESQ. | F25: 46082 | G25: 46265 | H25: ='CUOTA LTP -INDUSTRIAL'!E8 -> 1.91603 | I25: ='CUOTA LTP -INDUSTRIAL'!F8 -> 0 | J25: ='CUOTA LTP -INDUSTRIAL'!G8 -> 1.91603 | K25: ='CUOTA LTP -INDUSTRIAL'!H8 -> 0 | L25: ='CUOTA LTP -INDUSTRIAL'!I8 -> 1.91603 | M25: ='CUOTA LTP -INDUSTRIAL'!J8 -> 0 | N25: - | O25: ='RESUMEN '!$B$3 -> 46324 | P25: 2026
A26: LANGOSTINO AMARILLO III-IV | B26: LANGOSTINO AMARILLO | C26: III | D26: TITULAR LTP | E26: ='CUOTA LTP -INDUSTRIAL'!C8 -> QUINTERO S.A. PESQ. | F26: 46296 | G26: 46387 | H26: ='CUOTA LTP -INDUSTRIAL'!E9 -> 0.19485 | I26: ='CUOTA LTP -INDUSTRIAL'!F9 -> 0 | J26: ='CUOTA LTP -INDUSTRIAL'!G9 -> 2.11088 | K26: ='CUOTA LTP -INDUSTRIAL'!H9 -> 0 | L26: ='CUOTA LTP -INDUSTRIAL'!I9 -> 2.11088 | M26: ='CUOTA LTP -INDUSTRIAL'!J9 -> 0 | N26: - | O26: ='RESUMEN '!$B$3 -> 46324 | P26: 2026
A27: LANGOSTINO AMARILLO III-IV | B27: LANGOSTINO AMARILLO | C27: III | D27: TITULAR LTP | E27: ='CUOTA LTP -INDUSTRIAL'!C8 -> QUINTERO S.A. PESQ. | F27: 46023 | G27: 46387 | H27: ='CUOTA LTP -INDUSTRIAL'!K8 -> 2.11088 | I27: ='CUOTA LTP -INDUSTRIAL'!L8 -> 0 | J27: ='CUOTA LTP -INDUSTRIAL'!M8 -> 2.11088 | K27: ='CUOTA LTP -INDUSTRIAL'!N8 -> 0 | L27: ='CUOTA LTP -INDUSTRIAL'!O8 -> 2.11088 | M27: ='CUOTA LTP -INDUSTRIAL'!P8 -> 0 | N27: - | O27: ='RESUMEN '!$B$3 -> 46324 | P27: 2026
A28: LANGOSTINO AMARILLO III-IV | B28: LANGOSTINO AMARILLO | C28: III | D28: TITULAR LTP | E28: ='CUOTA LTP -INDUSTRIAL'!C10 -> BAYCIC BAYCIC MARIA | F28: 46082 | G28: 46265 | H28: ='CUOTA LTP -INDUSTRIAL'!E10 -> 0.00177 | I28: ='CUOTA LTP -INDUSTRIAL'!F10 -> 0 | J28: ='CUOTA LTP -INDUSTRIAL'!G10 -> 0.00177 | K28: ='CUOTA LTP -INDUSTRIAL'!H10 -> 0 | L28: ='CUOTA LTP -INDUSTRIAL'!I10 -> 0.00177 | M28: ='CUOTA LTP -INDUSTRIAL'!J10 -> 0 | N28: - | O28: ='RESUMEN '!$B$3 -> 46324 | P28: 2026
A29: LANGOSTINO AMARILLO III-IV | B29: LANGOSTINO AMARILLO | C29: III | D29: TITULAR LTP | E29: ='CUOTA LTP -INDUSTRIAL'!C10 -> BAYCIC BAYCIC MARIA | F29: 46296 | G29: 46387 | H29: ='CUOTA LTP -INDUSTRIAL'!E11 -> 0.00018 | I29: ='CUOTA LTP -INDUSTRIAL'!F11 -> 0 | J29: ='CUOTA LTP -INDUSTRIAL'!G11 -> 0.00195 | K29: ='CUOTA LTP -INDUSTRIAL'!H11 -> 0 | L29: ='CUOTA LTP -INDUSTRIAL'!I11 -> 0.00195 | M29: ='CUOTA LTP -INDUSTRIAL'!J11 -> 0 | N29: - | O29: ='RESUMEN '!$B$3 -> 46324 | P29: 2026
A30: LANGOSTINO AMARILLO III-IV | B30: LANGOSTINO AMARILLO | C30: III | D30: TITULAR LTP | E30: ='CUOTA LTP -INDUSTRIAL'!C10 -> BAYCIC BAYCIC MARIA | F30: 46023 | G30: 46387 | H30: ='CUOTA LTP -INDUSTRIAL'!K10 -> 0.00195 | I30: ='CUOTA LTP -INDUSTRIAL'!L10 -> 0 | J30: ='CUOTA LTP -INDUSTRIAL'!M10 -> 0.00195 | K30: ='CUOTA LTP -INDUSTRIAL'!N10 -> 0 | L30: ='CUOTA LTP -INDUSTRIAL'!O10 -> 0.00195 | M30: ='CUOTA LTP -INDUSTRIAL'!P10 -> 0 | N30: - | O30: ='RESUMEN '!$B$3 -> 46324 | P30: 2026
A31: LANGOSTINO AMARILLO III-IV | B31: LANGOSTINO AMARILLO | C31: III | D31: TITULAR LTP | E31: ='CUOTA LTP -INDUSTRIAL'!C12 -> BRACPESCA S.A. | F31: 46082 | G31: 46265 | H31: ='CUOTA LTP -INDUSTRIAL'!E12 -> 22.59265 | I31: ='CUOTA LTP -INDUSTRIAL'!F12 -> 0 | J31: ='CUOTA LTP -INDUSTRIAL'!G12 -> 22.59265 | K31: ='CUOTA LTP -INDUSTRIAL'!H12 -> 0 | L31: ='CUOTA LTP -INDUSTRIAL'!I12 -> 22.59265 | M31: ='CUOTA LTP -INDUSTRIAL'!J12 -> 0 | N31: - | O31: ='RESUMEN '!$B$3 -> 46324 | P31: 2026
A32: LANGOSTINO AMARILLO III-IV | B32: LANGOSTINO AMARILLO | C32: III | D32: TITULAR LTP | E32: ='CUOTA LTP -INDUSTRIAL'!C12 -> BRACPESCA S.A. | F32: 46296 | G32: 46387 | H32: ='CUOTA LTP -INDUSTRIAL'!E13 -> 2.29756 | I32: ='CUOTA LTP -INDUSTRIAL'!F13 -> 0 | J32: ='CUOTA LTP -INDUSTRIAL'!G13 -> 24.89021 | K32: ='CUOTA LTP -INDUSTRIAL'!H13 -> 0 | L32: ='CUOTA LTP -INDUSTRIAL'!I13 -> 24.89021 | M32: ='CUOTA LTP -INDUSTRIAL'!J13 -> 0 | N32: - | O32: ='RESUMEN '!$B$3 -> 46324 | P32: 2026
A33: LANGOSTINO AMARILLO III-IV | B33: LANGOSTINO AMARILLO | C33: III | D33: TITULAR LTP | E33: ='CUOTA LTP -INDUSTRIAL'!C12 -> BRACPESCA S.A. | F33: 46023 | G33: 46387 | H33: ='CUOTA LTP -INDUSTRIAL'!K12 -> 24.89021 | I33: ='CUOTA LTP -INDUSTRIAL'!L12 -> 0 | J33: ='CUOTA LTP -INDUSTRIAL'!M12 -> 24.89021 | K33: ='CUOTA LTP -INDUSTRIAL'!N12 -> 0 | L33: ='CUOTA LTP -INDUSTRIAL'!O12 -> 24.89021 | M33: ='CUOTA LTP -INDUSTRIAL'!P12 -> 0 | N33: - | O33: ='RESUMEN '!$B$3 -> 46324 | P33: 2026
A34: LANGOSTINO AMARILLO III-IV | B34: LANGOSTINO AMARILLO | C34: III | D34: TITULAR LTP | E34: ='CUOTA LTP -INDUSTRIAL'!C14 -> GRIMAR S.A. PESQ. | F34: 46082 | G34: 46265 | H34: ='CUOTA LTP -INDUSTRIAL'!E14 -> 0.01021 | I34: ='CUOTA LTP -INDUSTRIAL'!F14 -> 0 | J34: ='CUOTA LTP -INDUSTRIAL'!G14 -> 0.01021 | K34: ='CUOTA LTP -INDUSTRIAL'!H14 -> 0 | L34: ='CUOTA LTP -INDUSTRIAL'!I14 -> 0.01021 | M34: ='CUOTA LTP -INDUSTRIAL'!J14 -> 0 | N34: - | O34: ='RESUMEN '!$B$3 -> 46324 | P34: 2026
A35: LANGOSTINO AMARILLO III-IV | B35: LANGOSTINO AMARILLO | C35: III | D35: TITULAR LTP | E35: ='CUOTA LTP -INDUSTRIAL'!C14 -> GRIMAR S.A. PESQ. | F35: 46296 | G35: 46387 | H35: ='CUOTA LTP -INDUSTRIAL'!E15 -> 0.00104 | I35: ='CUOTA LTP -INDUSTRIAL'!F15 -> 0 | J35: ='CUOTA LTP -INDUSTRIAL'!G15 -> 0.01125 | K35: ='CUOTA LTP -INDUSTRIAL'!H15 -> 0 | L35: ='CUOTA LTP -INDUSTRIAL'!I15 -> 0.01125 | M35: ='CUOTA LTP -INDUSTRIAL'!J15 -> 0 | N35: - | O35: ='RESUMEN '!$B$3 -> 46324 | P35: 2026
A36: LANGOSTINO AMARILLO III-IV | B36: LANGOSTINO AMARILLO | C36: III | D36: TITULAR LTP | E36: ='CUOTA LTP -INDUSTRIAL'!C14 -> GRIMAR S.A. PESQ. | F36: 46023 | G36: 46387 | H36: ='CUOTA LTP -INDUSTRIAL'!K14 -> 0.01125 | I36: ='CUOTA LTP -INDUSTRIAL'!L14 -> 0 | J36: ='CUOTA LTP -INDUSTRIAL'!M14 -> 0.01125 | K36: ='CUOTA LTP -INDUSTRIAL'!N14 -> 0 | L36: ='CUOTA LTP -INDUSTRIAL'!O14 -> 0.01125 | M36: ='CUOTA LTP -INDUSTRIAL'!P14 -> 0 | N36: - | O36: ='RESUMEN '!$B$3 -> 46324 | P36: 2026
A37: LANGOSTINO AMARILLO III-IV | B37: LANGOSTINO AMARILLO | C37: III | D37: TITULAR LTP | E37: ='CUOTA LTP -INDUSTRIAL'!C16 -> ISLADAMAS S.A. PESQ. | F37: 46082 | G37: 46265 | H37: ='CUOTA LTP -INDUSTRIAL'!E16 -> 6.24411 | I37: ='CUOTA LTP -INDUSTRIAL'!F16 -> 0 | J37: ='CUOTA LTP -INDUSTRIAL'!G16 -> 6.24411 | K37: ='CUOTA LTP -INDUSTRIAL'!H16 -> 0 | L37: ='CUOTA LTP -INDUSTRIAL'!I16 -> 6.24411 | M37: ='CUOTA LTP -INDUSTRIAL'!J16 -> 0 | N37: - | O37: ='RESUMEN '!$B$3 -> 46324 | P37: 2026
A38: LANGOSTINO AMARILLO III-IV | B38: LANGOSTINO AMARILLO | C38: III | D38: TITULAR LTP | E38: ='CUOTA LTP -INDUSTRIAL'!C16 -> ISLADAMAS S.A. PESQ. | F38: 46296 | G38: 46387 | H38: ='CUOTA LTP -INDUSTRIAL'!E17 -> 0.63499 | I38: ='CUOTA LTP -INDUSTRIAL'!F17 -> 0 | J38: ='CUOTA LTP -INDUSTRIAL'!G17 -> 6.8791 | K38: ='CUOTA LTP -INDUSTRIAL'!H17 -> 0 | L38: ='CUOTA LTP -INDUSTRIAL'!I17 -> 6.8791 | M38: ='CUOTA LTP -INDUSTRIAL'!J17 -> 0 | N38: - | O38: ='RESUMEN '!$B$3 -> 46324 | P38: 2026
A39: LANGOSTINO AMARILLO III-IV | B39: LANGOSTINO AMARILLO | C39: III | D39: TITULAR LTP | E39: ='CUOTA LTP -INDUSTRIAL'!C16 -> ISLADAMAS S.A. PESQ. | F39: 46023 | G39: 46387 | H39: ='CUOTA LTP -INDUSTRIAL'!K16 -> 6.8791 | I39: ='CUOTA LTP -INDUSTRIAL'!L16 -> 0 | J39: ='CUOTA LTP -INDUSTRIAL'!M16 -> 6.8791 | K39: ='CUOTA LTP -INDUSTRIAL'!N16 -> 0 | L39: ='CUOTA LTP -INDUSTRIAL'!O16 -> 6.8791 | M39: ='CUOTA LTP -INDUSTRIAL'!P16 -> 0 | N39: - | O39: ='RESUMEN '!$B$3 -> 46324 | P39: 2026
A40: LANGOSTINO AMARILLO III-IV | B40: LANGOSTINO AMARILLO | C40: III | D40: TITULAR LTP | E40: ='CUOTA LTP -INDUSTRIAL'!C18 -> MOROZIN BAYCIC MARIA ANA | F40: 46082 | G40: 46265 | H40: ='CUOTA LTP -INDUSTRIAL'!E18 -> 0.00591 | I40: ='CUOTA LTP -INDUSTRIAL'!F18 -> 0 | J40: ='CUOTA LTP -INDUSTRIAL'!G18 -> 0.00591 | K40: ='CUOTA LTP -INDUSTRIAL'!H18 -> 0 | L40: ='CUOTA LTP -INDUSTRIAL'!I18 -> 0.00591 | M40: ='CUOTA LTP -INDUSTRIAL'!J18 -> 0 | N40: - | O40: ='RESUMEN '!$B$3 -> 46324 | P40: 2026
A41: LANGOSTINO AMARILLO III-IV | B41: LANGOSTINO AMARILLO | C41: III | D41: TITULAR LTP | E41: ='CUOTA LTP -INDUSTRIAL'!C18 -> MOROZIN BAYCIC MARIA ANA | F41: 46296 | G41: 46387 | H41: ='CUOTA LTP -INDUSTRIAL'!E19 -> 0.0006 | I41: ='CUOTA LTP -INDUSTRIAL'!F19 -> 0 | J41: ='CUOTA LTP -INDUSTRIAL'!G19 -> 0.00651 | K41: ='CUOTA LTP -INDUSTRIAL'!H19 -> 0 | L41: ='CUOTA LTP -INDUSTRIAL'!I19 -> 0.00651 | M41: ='CUOTA LTP -INDUSTRIAL'!J19 -> 0 | N41: - | O41: ='RESUMEN '!$B$3 -> 46324 | P41: 2026
A42: LANGOSTINO AMARILLO III-IV | B42: LANGOSTINO AMARILLO | C42: III | D42: TITULAR LTP | E42: ='CUOTA LTP -INDUSTRIAL'!C18 -> MOROZIN BAYCIC MARIA ANA | F42: 46023 | G42: 46387 | H42: ='CUOTA LTP -INDUSTRIAL'!K18 -> 0.00651 | I42: ='CUOTA LTP -INDUSTRIAL'!L18 -> 0 | J42: ='CUOTA LTP -INDUSTRIAL'!M18 -> 0.00651 | K42: ='CUOTA LTP -INDUSTRIAL'!N18 -> 0 | L42: ='CUOTA LTP -INDUSTRIAL'!O18 -> 0.00651 | M42: ='CUOTA LTP -INDUSTRIAL'!P18 -> 0 | N42: - | O42: ='RESUMEN '!$B$3 -> 46324 | P42: 2026
A43: LANGOSTINO AMARILLO III-IV | B43: LANGOSTINO AMARILLO | C43: III | D43: TITULAR LTP | E43: ='CUOTA LTP -INDUSTRIAL'!C20 -> MOROZIN YURECIC MARIO | F43: 46082 | G43: 46265 | H43: ='CUOTA LTP -INDUSTRIAL'!E20 -> 0.00119 | I43: ='CUOTA LTP -INDUSTRIAL'!F20 -> 0 | J43: ='CUOTA LTP -INDUSTRIAL'!G20 -> 0.00119 | K43: ='CUOTA LTP -INDUSTRIAL'!H20 -> 0 | L43: ='CUOTA LTP -INDUSTRIAL'!I20 -> 0.00119 | M43: ='CUOTA LTP -INDUSTRIAL'!J20 -> 0 | N43: - | O43: ='RESUMEN '!$B$3 -> 46324 | P43: 2026
A44: LANGOSTINO AMARILLO III-IV | B44: LANGOSTINO AMARILLO | C44: III | D44: TITULAR LTP | E44: ='CUOTA LTP -INDUSTRIAL'!C20 -> MOROZIN YURECIC MARIO | F44: 46296 | G44: 46387 | H44: ='CUOTA LTP -INDUSTRIAL'!E21 -> 0.00012 | I44: ='CUOTA LTP -INDUSTRIAL'!F21 -> 0 | J44: ='CUOTA LTP -INDUSTRIAL'!G21 -> 0.00131 | K44: ='CUOTA LTP -INDUSTRIAL'!H21 -> 0 | L44: ='CUOTA LTP -INDUSTRIAL'!I21 -> 0.00131 | M44: ='CUOTA LTP -INDUSTRIAL'!J21 -> 0 | N44: - | O44: ='RESUMEN '!$B$3 -> 46324 | P44: 2026
A45: LANGOSTINO AMARILLO III-IV | B45: LANGOSTINO AMARILLO | C45: III | D45: TITULAR LTP | E45: ='CUOTA LTP -INDUSTRIAL'!C20 -> MOROZIN YURECIC MARIO | F45: 46023 | G45: 46387 | H45: ='CUOTA LTP -INDUSTRIAL'!K20 -> 0.00131 | I45: ='CUOTA LTP -INDUSTRIAL'!L20 -> 0 | J45: ='CUOTA LTP -INDUSTRIAL'!M20 -> 0.00131 | K45: ='CUOTA LTP -INDUSTRIAL'!N20 -> 0 | L45: ='CUOTA LTP -INDUSTRIAL'!O20 -> 0.00131 | M45: ='CUOTA LTP -INDUSTRIAL'!P20 -> 0 | N45: - | O45: ='RESUMEN '!$B$3 -> 46324 | P45: 2026
A46: LANGOSTINO AMARILLO III-IV | B46: LANGOSTINO AMARILLO | C46: III | D46: TITULAR LTP | E46: ='CUOTA LTP -INDUSTRIAL'!C22 -> NAKAL SPA INV. | F46: 46082 | G46: 46265 | H46: ='CUOTA LTP -INDUSTRIAL'!E22 -> 4.4392 | I46: ='CUOTA LTP -INDUSTRIAL'!F22 -> 0 | J46: ='CUOTA LTP -INDUSTRIAL'!G22 -> 4.4392 | K46: ='CUOTA LTP -INDUSTRIAL'!H22 -> 0 | L46: ='CUOTA LTP -INDUSTRIAL'!I22 -> 4.4392 | M46: ='CUOTA LTP -INDUSTRIAL'!J22 -> 0 | N46: - | O46: ='RESUMEN '!$B$3 -> 46324 | P46: 2026
A47: LANGOSTINO AMARILLO III-IV | B47: LANGOSTINO AMARILLO | C47: III | D47: TITULAR LTP | E47: ='CUOTA LTP -INDUSTRIAL'!C22 -> NAKAL SPA INV. | F47: 46296 | G47: 46387 | H47: ='CUOTA LTP -INDUSTRIAL'!E23 -> 0.45144 | I47: ='CUOTA LTP -INDUSTRIAL'!F23 -> 0 | J47: ='CUOTA LTP -INDUSTRIAL'!G23 -> 4.89064 | K47: ='CUOTA LTP -INDUSTRIAL'!H23 -> 0 | L47: ='CUOTA LTP -INDUSTRIAL'!I23 -> 4.89064 | M47: ='CUOTA LTP -INDUSTRIAL'!J23 -> 0 | N47: - | O47: ='RESUMEN '!$B$3 -> 46324 | P47: 2026
A48: LANGOSTINO AMARILLO III-IV | B48: LANGOSTINO AMARILLO | C48: III | D48: TITULAR LTP | E48: ='CUOTA LTP -INDUSTRIAL'!C22 -> NAKAL SPA INV. | F48: 46023 | G48: 46387 | H48: ='CUOTA LTP -INDUSTRIAL'!K22 -> 4.89064 | I48: ='CUOTA LTP -INDUSTRIAL'!L22 -> 0 | J48: ='CUOTA LTP -INDUSTRIAL'!M22 -> 4.89064 | K48: ='CUOTA LTP -INDUSTRIAL'!N22 -> 0 | L48: ='CUOTA LTP -INDUSTRIAL'!O22 -> 4.89064 | M48: ='CUOTA LTP -INDUSTRIAL'!P22 -> 0 | N48: - | O48: ='RESUMEN '!$B$3 -> 46324 | P48: 2026
A49: LANGOSTINO AMARILLO III-IV | B49: LANGOSTINO AMARILLO | C49: III | D49: TITULAR LTP | E49: ='CUOTA LTP -INDUSTRIAL'!C24 -> NORDIOMAR SPA SOC. PESQ. | F49: 46082 | G49: 46265 | H49: ='CUOTA LTP -INDUSTRIAL'!E24 -> 0.0236 | I49: ='CUOTA LTP -INDUSTRIAL'!F24 -> 0 | J49: ='CUOTA LTP -INDUSTRIAL'!G24 -> 0.0236 | K49: ='CUOTA LTP -INDUSTRIAL'!H24 -> 0 | L49: ='CUOTA LTP -INDUSTRIAL'!I24 -> 0.0236 | M49: ='CUOTA LTP -INDUSTRIAL'!J24 -> 0 | N49: - | O49: ='RESUMEN '!$B$3 -> 46324 | P49: 2026
A50: LANGOSTINO AMARILLO III-IV | B50: LANGOSTINO AMARILLO | C50: III | D50: TITULAR LTP | E50: ='CUOTA LTP -INDUSTRIAL'!C24 -> NORDIOMAR SPA SOC. PESQ. | F50: 46296 | G50: 46387 | H50: ='CUOTA LTP -INDUSTRIAL'!E25 -> 0.0024 | I50: ='CUOTA LTP -INDUSTRIAL'!F25 -> 0 | J50: ='CUOTA LTP -INDUSTRIAL'!G25 -> 0.026 | K50: ='CUOTA LTP -INDUSTRIAL'!H25 -> 0 | L50: ='CUOTA LTP -INDUSTRIAL'!I25 -> 0.026 | M50: ='CUOTA LTP -INDUSTRIAL'!J25 -> 0 | N50: - | O50: ='RESUMEN '!$B$3 -> 46324 | P50: 2026
A51: LANGOSTINO AMARILLO III-IV | B51: LANGOSTINO AMARILLO | C51: III | D51: TITULAR LTP | E51: ='CUOTA LTP -INDUSTRIAL'!C24 -> NORDIOMAR SPA SOC. PESQ. | F51: 46023 | G51: 46387 | H51: ='CUOTA LTP -INDUSTRIAL'!K24 -> 0.026 | I51: ='CUOTA LTP -INDUSTRIAL'!L24 -> 0 | J51: ='CUOTA LTP -INDUSTRIAL'!M24 -> 0.026 | K51: ='CUOTA LTP -INDUSTRIAL'!N24 -> 0 | L51: ='CUOTA LTP -INDUSTRIAL'!O24 -> 0.026 | M51: ='CUOTA LTP -INDUSTRIAL'!P24 -> 0 | N51: - | O51: ='RESUMEN '!$B$3 -> 46324 | P51: 2026
A52: LANGOSTINO AMARILLO III-IV | B52: LANGOSTINO AMARILLO | C52: III | D52: TITULAR LTP | E52: ='CUOTA LTP -INDUSTRIAL'!C26 -> ENFERMAR LTDA. SOC. PESQ. | F52: 46082 | G52: 46265 | H52: ='CUOTA LTP -INDUSTRIAL'!E26 -> 0.0242 | I52: ='CUOTA LTP -INDUSTRIAL'!F26 -> 0 | J52: ='CUOTA LTP -INDUSTRIAL'!G26 -> 0.0242 | K52: ='CUOTA LTP -INDUSTRIAL'!H26 -> 0 | L52: ='CUOTA LTP -INDUSTRIAL'!I26 -> 0.0242 | M52: ='CUOTA LTP -INDUSTRIAL'!J26 -> 0 | N52: - | O52: ='RESUMEN '!$B$3 -> 46324 | P52: 2026
A53: LANGOSTINO AMARILLO III-IV | B53: LANGOSTINO AMARILLO | C53: III | D53: TITULAR LTP | E53: ='CUOTA LTP -INDUSTRIAL'!C26 -> ENFERMAR LTDA. SOC. PESQ. | F53: 46296 | G53: 46387 | H53: ='CUOTA LTP -INDUSTRIAL'!E27 -> 0.00246 | I53: ='CUOTA LTP -INDUSTRIAL'!F27 -> 0 | J53: ='CUOTA LTP -INDUSTRIAL'!G27 -> 0.02666 | K53: ='CUOTA LTP -INDUSTRIAL'!H27 -> 0 | L53: ='CUOTA LTP -INDUSTRIAL'!I27 -> 0.02666 | M53: ='CUOTA LTP -INDUSTRIAL'!J27 -> 0 | N53: - | O53: ='RESUMEN '!$B$3 -> 46324 | P53: 2026
A54: LANGOSTINO AMARILLO III-IV | B54: LANGOSTINO AMARILLO | C54: III | D54: TITULAR LTP | E54: ='CUOTA LTP -INDUSTRIAL'!C26 -> ENFERMAR LTDA. SOC. PESQ. | F54: 46023 | G54: 46387 | H54: ='CUOTA LTP -INDUSTRIAL'!K26 -> 0.02666 | I54: ='CUOTA LTP -INDUSTRIAL'!L26 -> 0 | J54: ='CUOTA LTP -INDUSTRIAL'!M26 -> 0.02666 | K54: ='CUOTA LTP -INDUSTRIAL'!N26 -> 0 | L54: ='CUOTA LTP -INDUSTRIAL'!O26 -> 0.02666 | M54: ='CUOTA LTP -INDUSTRIAL'!P26 -> 0 | N54: - | O54: ='RESUMEN '!$B$3 -> 46324 | P54: 2026
A55: LANGOSTINO AMARILLO III-IV | B55: LANGOSTINO AMARILLO | C55: IV | D55: TITULAR LTP | E55: ='CUOTA LTP -INDUSTRIAL'!C30 -> ANTARTIC SEAFOOD S.A. | F55: 46082 | G55: 46265 | H55: ='CUOTA LTP -INDUSTRIAL'!E30 -> 244.50492 | I55: ='CUOTA LTP -INDUSTRIAL'!F30 -> -110.274 | J55: ='CUOTA LTP -INDUSTRIAL'!G30 -> 134.23092 | K55: ='CUOTA LTP -INDUSTRIAL'!H30 -> 141.672 | L55: ='CUOTA LTP -INDUSTRIAL'!I30 -> -7.44108 | M55: ='CUOTA LTP -INDUSTRIAL'!J30 -> 1.0554349 | N55: - | O55: ='RESUMEN '!$B$3 -> 46324 | P55: 2026
A56: LANGOSTINO AMARILLO III-IV | B56: LANGOSTINO AMARILLO | C56: IV | D56: TITULAR LTP | E56: ='CUOTA LTP -INDUSTRIAL'!C30 -> ANTARTIC SEAFOOD S.A. | F56: 46296 | G56: 46387 | H56: ='CUOTA LTP -INDUSTRIAL'!E31 -> 26.88081 | I56: ='CUOTA LTP -INDUSTRIAL'!F31 -> 0 | J56: ='CUOTA LTP -INDUSTRIAL'!G31 -> 19.43973 | K56: ='CUOTA LTP -INDUSTRIAL'!H31 -> 6.109 | L56: ='CUOTA LTP -INDUSTRIAL'!I31 -> 13.33073 | M56: ='CUOTA LTP -INDUSTRIAL'!J31 -> 0.31425334 | N56: - | O56: ='RESUMEN '!$B$3 -> 46324 | P56: 2026
A57: LANGOSTINO AMARILLO III-IV | B57: LANGOSTINO AMARILLO | C57: IV | D57: TITULAR LTP | E57: ='CUOTA LTP -INDUSTRIAL'!C30 -> ANTARTIC SEAFOOD S.A. | F57: 46023 | G57: 46387 | H57: ='CUOTA LTP -INDUSTRIAL'!K30 -> 271.38573 | I57: ='CUOTA LTP -INDUSTRIAL'!L30 -> -110.274 | J57: ='CUOTA LTP -INDUSTRIAL'!M30 -> 161.11173 | K57: ='CUOTA LTP -INDUSTRIAL'!N30 -> 147.781 | L57: ='CUOTA LTP -INDUSTRIAL'!O30 -> 13.33073 | M57: ='CUOTA LTP -INDUSTRIAL'!P30 -> 0.91725786 | N57: - | O57: ='RESUMEN '!$B$3 -> 46324 | P57: 2026
A58: LANGOSTINO AMARILLO III-IV | B58: LANGOSTINO AMARILLO | C58: IV | D58: TITULAR LTP | E58: ='CUOTA LTP -INDUSTRIAL'!C32 -> QUINTERO S.A. PESQ. | F58: 46082 | G58: 46265 | H58: ='CUOTA LTP -INDUSTRIAL'!E32 -> 25.84626 | I58: ='CUOTA LTP -INDUSTRIAL'!F32 -> 0 | J58: ='CUOTA LTP -INDUSTRIAL'!G32 -> 25.84626 | K58: ='CUOTA LTP -INDUSTRIAL'!H32 -> 0 | L58: ='CUOTA LTP -INDUSTRIAL'!I32 -> 25.84626 | M58: ='CUOTA LTP -INDUSTRIAL'!J32 -> 0 | N58: - | O58: ='RESUMEN '!$B$3 -> 46324 | P58: 2026
A59: LANGOSTINO AMARILLO III-IV | B59: LANGOSTINO AMARILLO | C59: IV | D59: TITULAR LTP | E59: ='CUOTA LTP -INDUSTRIAL'!C32 -> QUINTERO S.A. PESQ. | F59: 46296 | G59: 46387 | H59: ='CUOTA LTP -INDUSTRIAL'!E33 -> 2.84153 | I59: ='CUOTA LTP -INDUSTRIAL'!F33 -> 0 | J59: ='CUOTA LTP -INDUSTRIAL'!G33 -> 28.68779 | K59: ='CUOTA LTP -INDUSTRIAL'!H33 -> 0 | L59: ='CUOTA LTP -INDUSTRIAL'!I33 -> 28.68779 | M59: ='CUOTA LTP -INDUSTRIAL'!J33 -> 0 | N59: - | O59: ='RESUMEN '!$B$3 -> 46324 | P59: 2026
A60: LANGOSTINO AMARILLO III-IV | B60: LANGOSTINO AMARILLO | C60: IV | D60: TITULAR LTP | E60: ='CUOTA LTP -INDUSTRIAL'!C32 -> QUINTERO S.A. PESQ. | F60: 46023 | G60: 46387 | H60: ='CUOTA LTP -INDUSTRIAL'!K32 -> 28.68779 | I60: ='CUOTA LTP -INDUSTRIAL'!L32 -> 0 | J60: ='CUOTA LTP -INDUSTRIAL'!M32 -> 28.68779 | K60: ='CUOTA LTP -INDUSTRIAL'!N32 -> 0 | L60: ='CUOTA LTP -INDUSTRIAL'!O32 -> 28.68779 | M60: ='CUOTA LTP -INDUSTRIAL'!P32 -> 0 | N60: - | O60: ='RESUMEN '!$B$3 -> 46324 | P60: 2026
A61: LANGOSTINO AMARILLO III-IV | B61: LANGOSTINO AMARILLO | C61: IV | D61: TITULAR LTP | E61: ='CUOTA LTP -INDUSTRIAL'!C34 -> BAYCIC BAYCIC MARIA | F61: 46082 | G61: 46265 | H61: ='CUOTA LTP -INDUSTRIAL'!E34 -> 0.01992 | I61: ='CUOTA LTP -INDUSTRIAL'!F34 -> 0 | J61: ='CUOTA LTP -INDUSTRIAL'!G34 -> 0.01992 | K61: ='CUOTA LTP -INDUSTRIAL'!H34 -> 0 | L61: ='CUOTA LTP -INDUSTRIAL'!I34 -> 0.01992 | M61: ='CUOTA LTP -INDUSTRIAL'!J34 -> 0 | N61: - | O61: ='RESUMEN '!$B$3 -> 46324 | P61: 2026
A62: LANGOSTINO AMARILLO III-IV | B62: LANGOSTINO AMARILLO | C62: IV | D62: TITULAR LTP | E62: ='CUOTA LTP -INDUSTRIAL'!C34 -> BAYCIC BAYCIC MARIA | F62: 46296 | G62: 46387 | H62: ='CUOTA LTP -INDUSTRIAL'!E35 -> 0.00219 | I62: ='CUOTA LTP -INDUSTRIAL'!F35 -> 0 | J62: ='CUOTA LTP -INDUSTRIAL'!G35 -> 0.02211 | K62: ='CUOTA LTP -INDUSTRIAL'!H35 -> 0 | L62: ='CUOTA LTP -INDUSTRIAL'!I35 -> 0.02211 | M62: ='CUOTA LTP -INDUSTRIAL'!J35 -> 0 | N62: - | O62: ='RESUMEN '!$B$3 -> 46324 | P62: 2026
A63: LANGOSTINO AMARILLO III-IV | B63: LANGOSTINO AMARILLO | C63: IV | D63: TITULAR LTP | E63: ='CUOTA LTP -INDUSTRIAL'!C34 -> BAYCIC BAYCIC MARIA | F63: 46023 | G63: 46387 | H63: ='CUOTA LTP -INDUSTRIAL'!K34 -> 0.02211 | I63: ='CUOTA LTP -INDUSTRIAL'!L34 -> 0 | J63: ='CUOTA LTP -INDUSTRIAL'!M34 -> 0.02211 | K63: ='CUOTA LTP -INDUSTRIAL'!N34 -> 0 | L63: ='CUOTA LTP -INDUSTRIAL'!O34 -> 0.02211 | M63: ='CUOTA LTP -INDUSTRIAL'!P34 -> 0 | N63: - | O63: ='RESUMEN '!$B$3 -> 46324 | P63: 2026
A64: LANGOSTINO AMARILLO III-IV | B64: LANGOSTINO AMARILLO | C64: IV | D64: TITULAR LTP | E64: ='CUOTA LTP -INDUSTRIAL'!C36 -> BRACPESCA S.A. | F64: 46082 | G64: 46265 | H64: ='CUOTA LTP -INDUSTRIAL'!E36 -> 254.263 | I64: ='CUOTA LTP -INDUSTRIAL'!F36 -> 59.079 | J64: ='CUOTA LTP -INDUSTRIAL'!G36 -> 313.342 | K64: ='CUOTA LTP -INDUSTRIAL'!H36 -> 316.352 | L64: ='CUOTA LTP -INDUSTRIAL'!I36 -> -3.01 | M64: ='CUOTA LTP -INDUSTRIAL'!J36 -> 1.0096061 | N64: - | O64: ='RESUMEN '!$B$3 -> 46324 | P64: 2026
A65: LANGOSTINO AMARILLO III-IV | B65: LANGOSTINO AMARILLO | C65: IV | D65: TITULAR LTP | E65: ='CUOTA LTP -INDUSTRIAL'!C36 -> BRACPESCA S.A. | F65: 46296 | G65: 46387 | H65: ='CUOTA LTP -INDUSTRIAL'!E37 -> 27.95361 | I65: ='CUOTA LTP -INDUSTRIAL'!F37 -> 0 | J65: ='CUOTA LTP -INDUSTRIAL'!G37 -> 24.94361 | K65: ='CUOTA LTP -INDUSTRIAL'!H37 -> 16.884 | L65: ='CUOTA LTP -INDUSTRIAL'!I37 -> 8.05961 | M65: ='CUOTA LTP -INDUSTRIAL'!J37 -> 0.67688679 | N65: - | O65: ='RESUMEN '!$B$3 -> 46324 | P65: 2026
A66: LANGOSTINO AMARILLO III-IV | B66: LANGOSTINO AMARILLO | C66: IV | D66: TITULAR LTP | E66: ='CUOTA LTP -INDUSTRIAL'!C36 -> BRACPESCA S.A. | F66: 46023 | G66: 46387 | H66: ='CUOTA LTP -INDUSTRIAL'!K36 -> 282.21661 | I66: ='CUOTA LTP -INDUSTRIAL'!L36 -> 59.079 | J66: ='CUOTA LTP -INDUSTRIAL'!M36 -> 341.29561 | K66: ='CUOTA LTP -INDUSTRIAL'!N36 -> 333.236 | L66: ='CUOTA LTP -INDUSTRIAL'!O36 -> 8.05961 | M66: ='CUOTA LTP -INDUSTRIAL'!P36 -> 0.97638525 | N66: - | O66: ='RESUMEN '!$B$3 -> 46324 | P66: 2026
A67: LANGOSTINO AMARILLO III-IV | B67: LANGOSTINO AMARILLO | C67: IV | D67: TITULAR LTP | E67: ='CUOTA LTP -INDUSTRIAL'!C38 -> GRIMAR S.A. PESQ. | F67: 46082 | G67: 46265 | H67: ='CUOTA LTP -INDUSTRIAL'!E38 -> 0.11494 | I67: ='CUOTA LTP -INDUSTRIAL'!F38 -> 0 | J67: ='CUOTA LTP -INDUSTRIAL'!G38 -> 0.11494 | K67: ='CUOTA LTP -INDUSTRIAL'!H38 -> 0 | L67: ='CUOTA LTP -INDUSTRIAL'!I38 -> 0.11494 | M67: ='CUOTA LTP -INDUSTRIAL'!J38 -> 0 | N67: - | O67: ='RESUMEN '!$B$3 -> 46324 | P67: 2026
A68: LANGOSTINO AMARILLO III-IV | B68: LANGOSTINO AMARILLO | C68: IV | D68: TITULAR LTP | E68: ='CUOTA LTP -INDUSTRIAL'!C38 -> GRIMAR S.A. PESQ. | F68: 46296 | G68: 46387 | H68: ='CUOTA LTP -INDUSTRIAL'!E39 -> 0.01264 | I68: ='CUOTA LTP -INDUSTRIAL'!F39 -> 0 | J68: ='CUOTA LTP -INDUSTRIAL'!G39 -> 0.12758 | K68: ='CUOTA LTP -INDUSTRIAL'!H39 -> 0 | L68: ='CUOTA LTP -INDUSTRIAL'!I39 -> 0.12758 | M68: ='CUOTA LTP -INDUSTRIAL'!J39 -> 0 | N68: - | O68: ='RESUMEN '!$B$3 -> 46324 | P68: 2026
A69: LANGOSTINO AMARILLO III-IV | B69: LANGOSTINO AMARILLO | C69: IV | D69: TITULAR LTP | E69: ='CUOTA LTP -INDUSTRIAL'!C38 -> GRIMAR S.A. PESQ. | F69: 46023 | G69: 46387 | H69: ='CUOTA LTP -INDUSTRIAL'!K38 -> 0.12758 | I69: ='CUOTA LTP -INDUSTRIAL'!L38 -> 0 | J69: ='CUOTA LTP -INDUSTRIAL'!M38 -> 0.12758 | K69: ='CUOTA LTP -INDUSTRIAL'!N38 -> 0 | L69: ='CUOTA LTP -INDUSTRIAL'!O38 -> 0.12758 | M69: ='CUOTA LTP -INDUSTRIAL'!P38 -> 0 | N69: - | O69: ='RESUMEN '!$B$3 -> 46324 | P69: 2026
A70: LANGOSTINO AMARILLO III-IV | B70: LANGOSTINO AMARILLO | C70: IV | D70: TITULAR LTP | E70: ='CUOTA LTP -INDUSTRIAL'!C40 -> ISLADAMAS S.A. PESQ. | F70: 46082 | G70: 46265 | H70: ='CUOTA LTP -INDUSTRIAL'!E40 -> 70.27265 | I70: ='CUOTA LTP -INDUSTRIAL'!F40 -> 0 | J70: ='CUOTA LTP -INDUSTRIAL'!G40 -> 70.27265 | K70: ='CUOTA LTP -INDUSTRIAL'!H40 -> 61.953 | L70: ='CUOTA LTP -INDUSTRIAL'!I40 -> 8.31965 | M70: ='CUOTA LTP -INDUSTRIAL'!J40 -> 0.88160899 | N70: - | O70: ='RESUMEN '!$B$3 -> 46324 | P70: 2026
A71: LANGOSTINO AMARILLO III-IV | B71: LANGOSTINO AMARILLO | C71: IV | D71: TITULAR LTP | E71: ='CUOTA LTP -INDUSTRIAL'!C40 -> ISLADAMAS S.A. PESQ. | F71: 46296 | G71: 46387 | H71: ='CUOTA LTP -INDUSTRIAL'!E41 -> 7.72575 | I71: ='CUOTA LTP -INDUSTRIAL'!F41 -> 0 | J71: ='CUOTA LTP -INDUSTRIAL'!G41 -> 16.0454 | K71: ='CUOTA LTP -INDUSTRIAL'!H41 -> 12.311 | L71: ='CUOTA LTP -INDUSTRIAL'!I41 -> 3.7344 | M71: ='CUOTA LTP -INDUSTRIAL'!J41 -> 0.7672604 | N71: - | O71: ='RESUMEN '!$B$3 -> 46324 | P71: 2026
A72: LANGOSTINO AMARILLO III-IV | B72: LANGOSTINO AMARILLO | C72: IV | D72: TITULAR LTP | E72: ='CUOTA LTP -INDUSTRIAL'!C40 -> ISLADAMAS S.A. PESQ. | F72: 46023 | G72: 46387 | H72: ='CUOTA LTP -INDUSTRIAL'!K40 -> 77.9984 | I72: ='CUOTA LTP -INDUSTRIAL'!L40 -> 0 | J72: ='CUOTA LTP -INDUSTRIAL'!M40 -> 77.9984 | K72: ='CUOTA LTP -INDUSTRIAL'!N40 -> 74.264 | L72: ='CUOTA LTP -INDUSTRIAL'!O40 -> 3.7344 | M72: ='CUOTA LTP -INDUSTRIAL'!P40 -> 0.95212209 | N72: - | O72: ='RESUMEN '!$B$3 -> 46324 | P72: 2026
A73: LANGOSTINO AMARILLO III-IV | B73: LANGOSTINO AMARILLO | C73: IV | D73: TITULAR LTP | E73: ='CUOTA LTP -INDUSTRIAL'!C42 -> MOROZIN BAYCIC MARIA ANA | F73: 46082 | G73: 46265 | H73: ='CUOTA LTP -INDUSTRIAL'!E42 -> 0.06647 | I73: ='CUOTA LTP -INDUSTRIAL'!F42 -> 0 | J73: ='CUOTA LTP -INDUSTRIAL'!G42 -> 0.06647 | K73: ='CUOTA LTP -INDUSTRIAL'!H42 -> 0 | L73: ='CUOTA LTP -INDUSTRIAL'!I42 -> 0.06647 | M73: ='CUOTA LTP -INDUSTRIAL'!J42 -> 0 | N73: - | O73: ='RESUMEN '!$B$3 -> 46324 | P73: 2026
A74: LANGOSTINO AMARILLO III-IV | B74: LANGOSTINO AMARILLO | C74: IV | D74: TITULAR LTP | E74: ='CUOTA LTP -INDUSTRIAL'!C42 -> MOROZIN BAYCIC MARIA ANA | F74: 46296 | G74: 46387 | H74: ='CUOTA LTP -INDUSTRIAL'!E43 -> 0.00731 | I74: ='CUOTA LTP -INDUSTRIAL'!F43 -> 0 | J74: ='CUOTA LTP -INDUSTRIAL'!G43 -> 0.07378 | K74: ='CUOTA LTP -INDUSTRIAL'!H43 -> 0 | L74: ='CUOTA LTP -INDUSTRIAL'!I43 -> 0.07378 | M74: ='CUOTA LTP -INDUSTRIAL'!J43 -> 0 | N74: - | O74: ='RESUMEN '!$B$3 -> 46324 | P74: 2026
A75: LANGOSTINO AMARILLO III-IV | B75: LANGOSTINO AMARILLO | C75: IV | D75: TITULAR LTP | E75: ='CUOTA LTP -INDUSTRIAL'!C42 -> MOROZIN BAYCIC MARIA ANA | F75: 46023 | G75: 46387 | H75: ='CUOTA LTP -INDUSTRIAL'!K42 -> 0.07378 | I75: ='CUOTA LTP -INDUSTRIAL'!L42 -> 0 | J75: ='CUOTA LTP -INDUSTRIAL'!M42 -> 0.07378 | K75: ='CUOTA LTP -INDUSTRIAL'!N42 -> 0 | L75: ='CUOTA LTP -INDUSTRIAL'!O42 -> 0.07378 | M75: ='CUOTA LTP -INDUSTRIAL'!P42 -> 0 | N75: - | O75: ='RESUMEN '!$B$3 -> 46324 | P75: 2026
A76: LANGOSTINO AMARILLO III-IV | B76: LANGOSTINO AMARILLO | C76: IV | D76: TITULAR LTP | E76: ='CUOTA LTP -INDUSTRIAL'!C44 -> MOROZIN YURECIC MARIO | F76: 46082 | G76: 46265 | H76: ='CUOTA LTP -INDUSTRIAL'!E44 -> 0.01335 | I76: ='CUOTA LTP -INDUSTRIAL'!F44 -> 0 | J76: ='CUOTA LTP -INDUSTRIAL'!G44 -> 0.01335 | K76: ='CUOTA LTP -INDUSTRIAL'!H44 -> 0 | L76: ='CUOTA LTP -INDUSTRIAL'!I44 -> 0.01335 | M76: ='CUOTA LTP -INDUSTRIAL'!J44 -> 0 | N76: - | O76: ='RESUMEN '!$B$3 -> 46324 | P76: 2026
A77: LANGOSTINO AMARILLO III-IV | B77: LANGOSTINO AMARILLO | C77: IV | D77: TITULAR LTP | E77: ='CUOTA LTP -INDUSTRIAL'!C44 -> MOROZIN YURECIC MARIO | F77: 46296 | G77: 46387 | H77: ='CUOTA LTP -INDUSTRIAL'!E45 -> 0.00147 | I77: ='CUOTA LTP -INDUSTRIAL'!F45 -> 0 | J77: ='CUOTA LTP -INDUSTRIAL'!G45 -> 0.01482 | K77: ='CUOTA LTP -INDUSTRIAL'!H45 -> 0 | L77: ='CUOTA LTP -INDUSTRIAL'!I45 -> 0.01482 | M77: ='CUOTA LTP -INDUSTRIAL'!J45 -> 0 | N77: - | O77: ='RESUMEN '!$B$3 -> 46324 | P77: 2026
A78: LANGOSTINO AMARILLO III-IV | B78: LANGOSTINO AMARILLO | C78: IV | D78: TITULAR LTP | E78: ='CUOTA LTP -INDUSTRIAL'!C44 -> MOROZIN YURECIC MARIO | F78: 46023 | G78: 46387 | H78: ='CUOTA LTP -INDUSTRIAL'!K44 -> 0.01482 | I78: ='CUOTA LTP -INDUSTRIAL'!L44 -> 0 | J78: ='CUOTA LTP -INDUSTRIAL'!M44 -> 0.01482 | K78: ='CUOTA LTP -INDUSTRIAL'!N44 -> 0 | L78: ='CUOTA LTP -INDUSTRIAL'!O44 -> 0.01482 | M78: ='CUOTA LTP -INDUSTRIAL'!P44 -> 0 | N78: - | O78: ='RESUMEN '!$B$3 -> 46324 | P78: 2026
A79: LANGOSTINO AMARILLO III-IV | B79: LANGOSTINO AMARILLO | C79: IV | D79: TITULAR LTP | E79: ='CUOTA LTP -INDUSTRIAL'!C46 -> NAKAL SPA INV. | F79: 46082 | G79: 46265 | H79: ='CUOTA LTP -INDUSTRIAL'!E46 -> 49.95976 | I79: ='CUOTA LTP -INDUSTRIAL'!F46 -> 0 | J79: ='CUOTA LTP -INDUSTRIAL'!G46 -> 49.95976 | K79: ='CUOTA LTP -INDUSTRIAL'!H46 -> 0 | L79: ='CUOTA LTP -INDUSTRIAL'!I46 -> 49.95976 | M79: ='CUOTA LTP -INDUSTRIAL'!J46 -> 0 | N79: - | O79: ='RESUMEN '!$B$3 -> 46324 | P79: 2026
A80: LANGOSTINO AMARILLO III-IV | B80: LANGOSTINO AMARILLO | C80: IV | D80: TITULAR LTP | E80: ='CUOTA LTP -INDUSTRIAL'!C46 -> NAKAL SPA INV. | F80: 46296 | G80: 46387 | H80: ='CUOTA LTP -INDUSTRIAL'!E47 -> 5.49256 | I80: ='CUOTA LTP -INDUSTRIAL'!F47 -> 0 | J80: ='CUOTA LTP -INDUSTRIAL'!G47 -> 55.45232 | K80: ='CUOTA LTP -INDUSTRIAL'!H47 -> 0 | L80: ='CUOTA LTP -INDUSTRIAL'!I47 -> 55.45232 | M80: ='CUOTA LTP -INDUSTRIAL'!J47 -> 0 | N80: - | O80: ='RESUMEN '!$B$3 -> 46324 | P80: 2026
A81: LANGOSTINO AMARILLO III-IV | B81: LANGOSTINO AMARILLO | C81: IV | D81: TITULAR LTP | E81: ='CUOTA LTP -INDUSTRIAL'!C46 -> NAKAL SPA INV. | F81: 46023 | G81: 46387 | H81: ='CUOTA LTP -INDUSTRIAL'!K46 -> 55.45232 | I81: ='CUOTA LTP -INDUSTRIAL'!L46 -> 0 | J81: ='CUOTA LTP -INDUSTRIAL'!M46 -> 55.45232 | K81: ='CUOTA LTP -INDUSTRIAL'!N46 -> 0 | L81: ='CUOTA LTP -INDUSTRIAL'!O46 -> 55.45232 | M81: ='CUOTA LTP -INDUSTRIAL'!P46 -> 0 | N81: - | O81: ='RESUMEN '!$B$3 -> 46324 | P81: 2026
A82: LANGOSTINO AMARILLO III-IV | B82: LANGOSTINO AMARILLO | C82: IV | D82: TITULAR LTP | E82: ='CUOTA LTP -INDUSTRIAL'!C48 -> NORDIOMAR SPA SOC. PESQ. | F82: 46082 | G82: 46265 | H82: ='CUOTA LTP -INDUSTRIAL'!E48 -> 0.2656 | I82: ='CUOTA LTP -INDUSTRIAL'!F48 -> 0 | J82: ='CUOTA LTP -INDUSTRIAL'!G48 -> 0.2656 | K82: ='CUOTA LTP -INDUSTRIAL'!H48 -> 0 | L82: ='CUOTA LTP -INDUSTRIAL'!I48 -> 0.2656 | M82: ='CUOTA LTP -INDUSTRIAL'!J48 -> 0 | N82: - | O82: ='RESUMEN '!$B$3 -> 46324 | P82: 2026
A83: LANGOSTINO AMARILLO III-IV | B83: LANGOSTINO AMARILLO | C83: IV | D83: TITULAR LTP | E83: ='CUOTA LTP -INDUSTRIAL'!C48 -> NORDIOMAR SPA SOC. PESQ. | F83: 46296 | G83: 46387 | H83: ='CUOTA LTP -INDUSTRIAL'!E49 -> 0.0292 | I83: ='CUOTA LTP -INDUSTRIAL'!F49 -> 0 | J83: ='CUOTA LTP -INDUSTRIAL'!G49 -> 0.2948 | K83: ='CUOTA LTP -INDUSTRIAL'!H49 -> 0 | L83: ='CUOTA LTP -INDUSTRIAL'!I49 -> 0.2948 | M83: ='CUOTA LTP -INDUSTRIAL'!J49 -> 0 | N83: - | O83: ='RESUMEN '!$B$3 -> 46324 | P83: 2026
A84: LANGOSTINO AMARILLO III-IV | B84: LANGOSTINO AMARILLO | C84: IV | D84: TITULAR LTP | E84: ='CUOTA LTP -INDUSTRIAL'!C48 -> NORDIOMAR SPA SOC. PESQ. | F84: 46023 | G84: 46387 | H84: ='CUOTA LTP -INDUSTRIAL'!K48 -> 0.2948 | I84: ='CUOTA LTP -INDUSTRIAL'!L48 -> 0 | J84: ='CUOTA LTP -INDUSTRIAL'!M48 -> 0.2948 | K84: ='CUOTA LTP -INDUSTRIAL'!N48 -> 0 | L84: ='CUOTA LTP -INDUSTRIAL'!O48 -> 0.2948 | M84: ='CUOTA LTP -INDUSTRIAL'!P48 -> 0 | N84: - | O84: ='RESUMEN '!$B$3 -> 46324 | P84: 2026
A85: LANGOSTINO AMARILLO III-IV | B85: LANGOSTINO AMARILLO | C85: IV | D85: TITULAR LTP | E85: ='CUOTA LTP -INDUSTRIAL'!C50 -> ENFERMAR LTDA. SOC. PESQ. | F85: 46082 | G85: 46265 | H85: ='CUOTA LTP -INDUSTRIAL'!E50 -> 0.27231 | I85: ='CUOTA LTP -INDUSTRIAL'!F50 -> 0 | J85: ='CUOTA LTP -INDUSTRIAL'!G50 -> 0.27231 | K85: ='CUOTA LTP -INDUSTRIAL'!H50 -> 0 | L85: ='CUOTA LTP -INDUSTRIAL'!I50 -> 0.27231 | M85: ='CUOTA LTP -INDUSTRIAL'!J50 -> 0 | N85: - | O85: ='RESUMEN '!$B$3 -> 46324 | P85: 2026
A86: LANGOSTINO AMARILLO III-IV | B86: LANGOSTINO AMARILLO | C86: IV | D86: TITULAR LTP | E86: ='CUOTA LTP -INDUSTRIAL'!C50 -> ENFERMAR LTDA. SOC. PESQ. | F86: 46296 | G86: 46387 | H86: ='CUOTA LTP -INDUSTRIAL'!E51 -> 0.02994 | I86: ='CUOTA LTP -INDUSTRIAL'!F51 -> 0 | J86: ='CUOTA LTP -INDUSTRIAL'!G51 -> 0.30225 | K86: ='CUOTA LTP -INDUSTRIAL'!H51 -> 0 | L86: ='CUOTA LTP -INDUSTRIAL'!I51 -> 0.30225 | M86: ='CUOTA LTP -INDUSTRIAL'!J51 -> 0 | N86: - | O86: ='RESUMEN '!$B$3 -> 46324 | P86: 2026
A87: LANGOSTINO AMARILLO III-IV | B87: LANGOSTINO AMARILLO | C87: IV | D87: TITULAR LTP | E87: ='CUOTA LTP -INDUSTRIAL'!C50 -> ENFERMAR LTDA. SOC. PESQ. | F87: 46023 | G87: 46387 | H87: ='CUOTA LTP -INDUSTRIAL'!K50 -> 0.30225 | I87: ='CUOTA LTP -INDUSTRIAL'!L50 -> 0 | J87: ='CUOTA LTP -INDUSTRIAL'!M50 -> 0.30225 | K87: ='CUOTA LTP -INDUSTRIAL'!N50 -> 0 | L87: ='CUOTA LTP -INDUSTRIAL'!O50 -> 0.30225 | M87: ='CUOTA LTP -INDUSTRIAL'!P50 -> 0 | N87: - | O87: ='RESUMEN '!$B$3 -> 46324 | P87: 2026
A88: LANGOSTINO AMARILLO III-IV | B88: LANGOSTINO AMARILLO | C88: III-IV | D88: TOTAL LTP | E88: TOTAL ASIGNATARIOS LTP | F88: 46023 | G88: 46387 | H88: ='CUOTA LTP -INDUSTRIAL'!E54 -> 801.99995 | I88: ='CUOTA LTP -INDUSTRIAL'!F54 -> -60.921 | J88: ='CUOTA LTP -INDUSTRIAL'!G54 -> 741.07895 | K88: ='CUOTA LTP -INDUSTRIAL'!H54 -> 555.281 | L88: ='CUOTA LTP -INDUSTRIAL'!I54 -> 185.79795 | M88: ='CUOTA LTP -INDUSTRIAL'!J54 -> 0.74928724 | N88: - | O88: ='RESUMEN '!$B$3 -> 46324 | P88: 2026
A89: LANGOSTINO AMARILLO V-VIII | B89: LANGOSTINO AMARILLO | C89: V-VI | D89: TITULAR PEP | E89: ='CUOTA LICITADA PEP'!C13 -> ANTARTIC SEAFOOD S.A. | F89: 46082 | G89: 46265 | H89: ='CUOTA LICITADA PEP'!F13 -> 231.63133 | I89: ='CUOTA LICITADA PEP'!G13 -> 0 | J89: ='CUOTA LICITADA PEP'!H13 -> 231.63133 | K89: ='CUOTA LICITADA PEP'!I13 -> 228.706 | L89: ='CUOTA LICITADA PEP'!J13 -> 2.9253299 | M89: ='CUOTA LICITADA PEP'!K13 -> 0.98737075 | N89: - | O89: ='RESUMEN '!$B$3 -> 46324 | P89: 2026
A90: LANGOSTINO AMARILLO V-VIII | B90: LANGOSTINO AMARILLO | C90: V-VI | D90: TITULAR PEP | E90: ='CUOTA LICITADA PEP'!C13 -> ANTARTIC SEAFOOD S.A. | F90: 46296 | G90: 46387 | H90: ='CUOTA LICITADA PEP'!F14 -> 25.78579 | I90: ='CUOTA LICITADA PEP'!G14 -> 0 | J90: ='CUOTA LICITADA PEP'!H14 -> 28.71112 | K90: ='CUOTA LICITADA PEP'!I14 -> 0 | L90: ='CUOTA LICITADA PEP'!J14 -> 28.71112 | M90: ='CUOTA LICITADA PEP'!K14 -> 0.03 | N90: - | O90: ='RESUMEN '!$B$3 -> 46324 | P90: 2026
A91: LANGOSTINO AMARILLO V-VIII | B91: LANGOSTINO AMARILLO | C91: V-VI | D91: TITULAR PEP | E91: ='CUOTA LICITADA PEP'!C13 -> ANTARTIC SEAFOOD S.A. | F91: 46023 | G91: 46387 | H91: ='CUOTA LICITADA PEP'!L13 -> 257.41712 | I91: ='CUOTA LICITADA PEP'!M13 -> 0 | J91: ='CUOTA LICITADA PEP'!N13 -> 257.41712 | K91: ='CUOTA LICITADA PEP'!O13 -> 228.706 | L91: ='CUOTA LICITADA PEP'!P13 -> 28.71112 | M91: ='CUOTA LICITADA PEP'!Q13 -> 0.88846461 | N91: - | O91: ='RESUMEN '!$B$3 -> 46324 | P91: 2026
A92: LANGOSTINO AMARILLO V-VIII | B92: LANGOSTINO AMARILLO | C92: V-VI | D92: TITULAR PEP | E92: ='CUOTA LICITADA PEP'!C15 -> QUINTERO S.A. PESQ. | F92: 46082 | G92: 46265 | H92: ='CUOTA LICITADA PEP'!F15 -> 0 | I92: ='CUOTA LICITADA PEP'!G15 -> 0 | J92: ='CUOTA LICITADA PEP'!H15 -> 0 | K92: ='CUOTA LICITADA PEP'!I15 -> 0 | L92: ='CUOTA LICITADA PEP'!J15 -> 0 | M92: ='CUOTA LICITADA PEP'!K15 -> 0 | N92: - | O92: ='RESUMEN '!$B$3 -> 46324 | P92: 2026
A93: LANGOSTINO AMARILLO V-VIII | B93: LANGOSTINO AMARILLO | C93: V-VI | D93: TITULAR PEP | E93: ='CUOTA LICITADA PEP'!C15 -> QUINTERO S.A. PESQ. | F93: 46296 | G93: 46387 | H93: ='CUOTA LICITADA PEP'!F16 -> 0 | I93: ='CUOTA LICITADA PEP'!G16 -> 0 | J93: ='CUOTA LICITADA PEP'!H16 -> 0 | K93: ='CUOTA LICITADA PEP'!I16 -> 0 | L93: ='CUOTA LICITADA PEP'!J16 -> 0 | M93: ='CUOTA LICITADA PEP'!K16 -> 0 | N93: - | O93: ='RESUMEN '!$B$3 -> 46324 | P93: 2026
A94: LANGOSTINO AMARILLO V-VIII | B94: LANGOSTINO AMARILLO | C94: V-VI | D94: TITULAR PEP | E94: ='CUOTA LICITADA PEP'!C15 -> QUINTERO S.A. PESQ. | F94: 46023 | G94: 46387 | H94: ='CUOTA LICITADA PEP'!L15 -> 0 | I94: ='CUOTA LICITADA PEP'!M15 -> 0 | J94: ='CUOTA LICITADA PEP'!N15 -> 0 | K94: ='CUOTA LICITADA PEP'!O15 -> 0 | L94: ='CUOTA LICITADA PEP'!P15 -> 0 | M94: ='CUOTA LICITADA PEP'!Q15 -> 0 | N94: - | O94: ='RESUMEN '!$B$3 -> 46324 | P94: 2026
A95: LANGOSTINO AMARILLO V-VIII | B95: LANGOSTINO AMARILLO | C95: V-VI | D95: TITULAR PEP | E95: ='CUOTA LICITADA PEP'!C17 -> BRACPESCA S.A. | F95: 46082 | G95: 46265 | H95: ='CUOTA LICITADA PEP'!F17 -> 307.5226 | I95: ='CUOTA LICITADA PEP'!G17 -> 0 | J95: ='CUOTA LICITADA PEP'!H17 -> 307.5226 | K95: ='CUOTA LICITADA PEP'!I17 -> 301.562 | L95: ='CUOTA LICITADA PEP'!J17 -> 5.9606 | M95: ='CUOTA LICITADA PEP'!K17 -> 0.98061736 | N95: - | O95: ='RESUMEN '!$B$3 -> 46324 | P95: 2026
A96: LANGOSTINO AMARILLO V-VIII | B96: LANGOSTINO AMARILLO | C96: V-VI | D96: TITULAR PEP | E96: ='CUOTA LICITADA PEP'!C17 -> BRACPESCA S.A. | F96: 46296 | G96: 46387 | H96: ='CUOTA LICITADA PEP'!F18 -> 34.2342 | I96: ='CUOTA LICITADA PEP'!G18 -> 0 | J96: ='CUOTA LICITADA PEP'!H18 -> 40.1948 | K96: ='CUOTA LICITADA PEP'!I18 -> 21.388 | L96: ='CUOTA LICITADA PEP'!J18 -> 18.8068 | M96: ='CUOTA LICITADA PEP'!K18 -> 0.53210863 | N96: - | O96: ='RESUMEN '!$B$3 -> 46324 | P96: 2026
A97: LANGOSTINO AMARILLO V-VIII | B97: LANGOSTINO AMARILLO | C97: V-VI | D97: TITULAR PEP | E97: ='CUOTA LICITADA PEP'!C17 -> BRACPESCA S.A. | F97: 46023 | G97: 46387 | H97: ='CUOTA LICITADA PEP'!L17 -> 341.7568 | I97: ='CUOTA LICITADA PEP'!M17 -> 0 | J97: ='CUOTA LICITADA PEP'!N17 -> 341.7568 | K97: ='CUOTA LICITADA PEP'!O17 -> 322.95 | L97: ='CUOTA LICITADA PEP'!P17 -> 18.8068 | M97: ='CUOTA LICITADA PEP'!Q17 -> 0.94497022 | N97: - | O97: ='RESUMEN '!$B$3 -> 46324 | P97: 2026
A98: LANGOSTINO AMARILLO V-VIII | B98: LANGOSTINO AMARILLO | C98: V-VI | D98: TITULAR PEP | E98: ='CUOTA LICITADA PEP'!C19 -> ANTONIO CRUZ CORDOVA NAKOUZI E.I.R.L. | F98: 46082 | G98: 46265 | H98: ='CUOTA LICITADA PEP'!F19 -> 0 | I98: ='CUOTA LICITADA PEP'!G19 -> 0 | J98: ='CUOTA LICITADA PEP'!H19 -> 0 | K98: ='CUOTA LICITADA PEP'!I19 -> 0 | L98: ='CUOTA LICITADA PEP'!J19 -> 0 | M98: ='CUOTA LICITADA PEP'!K19 -> 0 | N98: - | O98: ='RESUMEN '!$B$3 -> 46324 | P98: 2026
A99: LANGOSTINO AMARILLO V-VIII | B99: LANGOSTINO AMARILLO | C99: V-VI | D99: TITULAR PEP | E99: ='CUOTA LICITADA PEP'!C19 -> ANTONIO CRUZ CORDOVA NAKOUZI E.I.R.L. | F99: 46296 | G99: 46387 | H99: ='CUOTA LICITADA PEP'!F20 -> 0 | I99: ='CUOTA LICITADA PEP'!G20 -> 0 | J99: ='CUOTA LICITADA PEP'!H20 -> 0 | K99: ='CUOTA LICITADA PEP'!I20 -> 0 | L99: ='CUOTA LICITADA PEP'!J20 -> 0 | M99: ='CUOTA LICITADA PEP'!K20 -> 0 | N99: - | O99: ='RESUMEN '!$B$3 -> 46324 | P99: 2026
A100: LANGOSTINO AMARILLO V-VIII | B100: LANGOSTINO AMARILLO | C100: V-VI | D100: TITULAR PEP | E100: ='CUOTA LICITADA PEP'!C19 -> ANTONIO CRUZ CORDOVA NAKOUZI E.I.R.L. | F100: 46023 | G100: 46387 | H100: ='CUOTA LICITADA PEP'!L19 -> 0 | I100: ='CUOTA LICITADA PEP'!M19 -> 0 | J100: ='CUOTA LICITADA PEP'!N19 -> 0 | K100: ='CUOTA LICITADA PEP'!O19 -> 0 | L100: ='CUOTA LICITADA PEP'!P19 -> 0 | M100: ='CUOTA LICITADA PEP'!Q19 -> 0 | N100: - | O100: ='RESUMEN '!$B$3 -> 46324 | P100: 2026
...
