Workbook

Sheet RESUMEN 
B2: CONTROL CUOTA GLOBAL LANGOSTINO AMARILLO III-IV AÑO 2026
B3: 46324
B5: UNIDAD DE PESQUERIA | C5: SECTOR | D5: FRACCIONAMIENTO | E5: CUOTA ASIGNADA (TON) | F5: MOVIMIENTO (TON) | G5: CUOTA EFECTIVA (TON) | H5: CAPTURA (TON) | I5: SALDO (TON) | J5: % CONSUMIDO
B6: LANGOSTINO AMARILLO III-IV | C6: ARTESANAL | D6: ARTESANAL III | E6: ='CUOTA ARTESANAL'!L6 -> 9 | F6: ='CUOTA ARTESANAL'!M6 -> 0 | G6: =E6+F6 -> 9 | H6: ='CUOTA ARTESANAL'!O6 -> 0 | I6: =G6-H6 -> 9 | J6: =H6/G6 -> 0
D7: ARTESANAL IV | E7: =SUM('CUOTA ARTESANAL'!L8:L17) -> 419 | F7: =SUM('CUOTA ARTESANAL'!M8:M17) -> -129.079 | G7: =E7+F7 -> 289.921 | H7: =SUM('CUOTA ARTESANAL'!O8:O17) -> 253.083 | I7: =G7-H7 -> 36.838 | J7: =H7/G7 -> 0.8729378
D8: FAUNA ACOMPAÑANTE | E8: 15 | F8: ='CUOTA ARTESANAL'!M18 -> 0 | G8: =E8+F8 -> 15 | H8: ='CUOTA ARTESANAL'!O18 -> 0 | I8: =G8-H8 -> 15 | J8: =H8/G8 -> 0
D9: LEY N°21.752 | E9: ='LEY 21.752 CRUC'!E16 -> 91
D10: FRACCION ARTESANAL | E10: =SUM(E6:E8) -> 443 | F10: =SUM(F6:F8) -> -129.079 | G10: =E10+F10 -> 313.921 | H10: =SUM(H6:H8) -> 253.083 | I10: =G10-H10 -> 60.838 | J10: =H10/G10 -> 0.80619965
C11: INDUSTRIAL | D11: INDUSTRIAL LTP III | E11: =SUM('CUOTA LTP -INDUSTRIAL'!K6:K29) -> 65.00001 | F11: =SUM('CUOTA LTP -INDUSTRIAL'!L6:L29) -> -9.726 | G11: =E11+F11 -> 55.27401 | H11: =SUM('CUOTA LTP -INDUSTRIAL'!N6:N29) -> 0 | I11: =G11-H11 -> 55.27401 | J11: =H11/G11 -> 0
D12: INDUSTRIAL LTP IV | E12: =SUM('CUOTA LTP -INDUSTRIAL'!K30:K53) -> 736.99994 | F12: =SUM('CUOTA LTP -INDUSTRIAL'!L30:L53) -> -51.195 | G12: =E12+F12 -> 685.80494 | H12: =SUM('CUOTA LTP -INDUSTRIAL'!N30:N53) -> 555.281 | I12: =G12-H12 -> 130.52394 | J12: =H12/G12 -> 0.80967775
D13: INDUSTRIAL LTP | E13: =SUM('CUOTA LTP -INDUSTRIAL'!K6:K53) -> 801.99995 | F13: =SUM(F11:F12) -> -60.921 | G13: =E13+F13 -> 741.07895 | H13: =SUM(H11:H12) -> 555.281 | I13: =G13-H13 -> 185.79795 | J13: =H13/G13 -> 0.74928724
C14: INVESTIGACIÓN III-IV | E14: 23 | F14: 0 | G14: =E14+F14 -> 23 | H14: =SUM('PESCA DE INVESTIGACION'!F9:F11) -> 0 | I14: =G14-H14 -> 23 | J14: =H14/G14 -> 0
C15: CESIONES INDIVIDUALES | E15: 0 | F15: ='CUOTA ARTESANAL'!G27 -> 190 | G15: =E15+F15 -> 190 | H15: ='CUOTA ARTESANAL'!H27 -> 166.099 | I15: =G15-H15 -> 23.901 | J15: =H15/G15 -> 0.87420526
C16: TOTALES | E16: =SUM(E10+E13+E14+E15+E9) -> 1358.9999 | F16: =SUM(F10+F13+F14+F15) -> 0 | G16: =E16+F16 -> 1358.9999 | H16: =SUM(H10+H13+H14+H15) -> 974.463 | I16: =G16-H16 -> 384.53695 | J16: =H16/G16 -> 0.71704418
B18: Folio DEXE | C18: N°259/2025
B21: CONTROL CUOTA GLOBAL LANGOSTINO AMARILLO PEP V-VIII AÑO 2025
B22: =B3 -> 46324
B24: UNIDAD DE PESQUERIA | C24: SECTOR | D24: FRACCIONAMIENTO | E24: CUOTA ASIGNADA (TON) | F24: MOVIMIENTO (TON) | G24: CUOTA EFECTIVA (TON) | H24: CAPTURA (TON) | I24: SALDO (TON) | J24: % CONSUMIDO
B25: LANGOSTINO AMARILLO PEP V-VIII | C25: ARTESANAL-INDUSTRIAL | D25: LICITADA PEP V-VI | E25: =SUM('CUOTA LICITADA PEP'!F13:F52) -> 1094.305 | F25: =SUM('CUOTA LICITADA PEP'!$G$13:$G$52) -> 0 | G25: =E25+F25 -> 1094.305 | H25: =SUM('CUOTA LICITADA PEP'!O13:O42) -> 684.783 | I25: =G25-H25 -> 409.52197 | J25: =H25/G25 -> 0.6257698
D26: LICITADA PEP VII-VIII | E26: =SUM('CUOTA LICITADA PEP'!F53:F92) -> 1337.9003 | F26: =SUM('CUOTA LICITADA PEP'!$G$53:$G$92) -> 0 | G26: =E26+F26 -> 1337.9003 | H26: =SUM('CUOTA LICITADA PEP'!O53:O82) -> 271.911 | I26: =G26-H26 -> 1065.9893 | J26: =H26/G26 -> 0.20323712
D27: FAUNA ACOMPAÑANTE V-VIII | E27: 25 | F27: 0 | G27: =E27+F27 -> 25 | H27: 0 | I27: =G27-H27 -> 25 | J27: =H27/G27 -> 0
D28: INVESTIGACIÓN V-VIII | E28: 35 | F28: 0 | G28: =E28+F28 -> 35 | H28: 0 | I28: =G28-H28 -> 35 | J28: =H28/G28 -> 0
C29: TOTALES | E29: =SUM(E25:E28) -> 2492.2052 | F29: =SUM(F25:F28) -> 0 | G29: =E29+F29 -> 2492.2052 | H29: =SUM(H25:H28) -> 956.694 | I29: =G29-H29 -> 1535.5112 | J29: =H29/G29 -> 0.38387449
B31: Folio DEXE | C31: 253/2025
A38: FUERA UNIDAD DE PESQUERIA
A40: SECTOR | B40: FRACCIONAMIENTO | C40: CUOTA ASIGNADA (TON) | D40: MOVIMIENTO (TON) | E40: CUOTA EFECTIVA (TON) | F40: CAPTURA (TON) | G40: SALDO (TON) | H40: % CONSUMO
A41: ARTESANAL-INDUSTRIAL | B41: FUERA UNIDAD DE PESQUERIA (XV-I-IX-XIV-X) | C41: 5 | E41: =C41+D41 -> 5 | G41: =E41-F41 -> 5 | H41: =F41/E41 -> 0
B42: FAUNA ACOMPAÑANTE CAMARON NAILON (XV-I-IX-XIV-X) | C42: 2 | E42: =C42+D42 -> 2 | G42: =E42-F42 -> 2 | H42: =F42/E42 -> 0
B43: FAUNA ACOMPAÑANTE L.COLORADO (XV-I-IX-XIV-X) | C43: 2 | E43: =C43+D43 -> 2 | G43: =E43-F43 -> 2 | H43: =F43/E43 -> 0
B44: FAUNA ACOMPAÑANTE GAMBA (XV-I-IX-XIV-X) | C44: 4 | E44: =C44+D44 -> 4 | G44: =E44-F44 -> 4 | H44: =F44/E44 -> 0
B45: FAUNA ACOMPAÑANTE OTRAS PESQUERIA(XV-I-IX-XIV-X) | C45: 7 | E45: =C45+D45 -> 7 | G45: =E45-F45 -> 7 | H45: =F45/E45 -> 0
A46: TOTALES | C46: =SUM(C41:C45) -> 20 | D46: =SUM(D41:D45) -> 0 | E46: =SUM(E41:E45) -> 20 | F46: =SUM(F41:F45) -> 0 | G46: =SUM(G41:G45) -> 20 | H46: =F46/E46 -> 0

Sheet CUOTA ARTESANAL
B2: CONTROL CUOTA LANGOSTINO AMARILLO FRACCION ARTESANAL AÑO 2026
B3: ='RESUMEN '!B3 -> 46324
B5: REGIÓN | C5: ASIGNATARIO | D5: PERIODO | E5: CUOTA ASIGNADA (TON) | F5: MOVIMIENTO (TON) | G5: CUOTA EFECTIVA (TON) | H5: CAPTURA (TON) | I5: SALDO (TON) | J5: % CONSUMIDO | K5: FECHA CIERRE | L5: CUOTA ASIGNADA (TON) | M5: MOVIMIENTO (TON) | N5: CUOTA EFECTIVA (TON) | O5: CAPTURA (TON) | P5: SALDO (TON) | Q5: % CONSUMO
B6: III REGION DE ATACAMA | C6: REGIÓN | D6: MAR-AGO | E6: 8 | G6: =E6+F6 -> 8 | I6: =G6-H6 -> 8 | J6: =H6/G6 -> 0 | K6: - | L6: =E6+E7 -> 9 | M6: =F6+F7 -> 0 | N6: =L6+M6 -> 9 | O6: =H6+H7 -> 0 | P6: =N6-O6 -> 9 | Q6: =O6/N6 -> 0
D7: OCT-DIC | E7: 1 | G7: =E7+F7+I6 -> 9 | I7: =G7-H7 -> 9 | J7: =H7/G7 -> 0 | K7: -
B8: IV REGION DE COQUIMBO | C8: PUNTA TALCA | D8: MAR-AGO | E8: 106.314 | F8: =-59.079 -> -59.079 | G8: =E8+F8 -> 47.235 | H8: 46.289 | I8: =G8-H8 -> 0.946 | J8: =H8/G8 -> 0.97997248 | K8: 46119 | L8: =E8+E9 -> 118.158 | M8: =F8+F9 -> -59.079 | N8: =L8+M8 -> 59.079 | O8: =H8+H9 -> 58.087 | P8: =N8-O8 -> 0.992 | Q8: =O8/N8 -> 0.98320892
D9: OCT-DIC | E9: 11.844 | G9: =E9+F9+I8 -> 12.79 | H9: 11.798 | I9: =G9-H9 -> 0.992 | J9: =H9/G9 -> 0.92243941 | K9: 46300
C10: TRAUWUN I | D10: MAR-AGO | E10: 99.151 | G10: =E10+F10 -> 99.151 | H10: 78.17 | I10: =G10-H10 -> 20.981 | J10: =H10/G10 -> 0.78839346 | K10: - | L10: =E10+E11 -> 110.197 | M10: =F10+F11 -> 0 | N10: =L10+M10 -> 110.197 | O10: =H10+H11 -> 78.17 | P10: =N10-O10 -> 32.027 | Q10: =O10/N10 -> 0.70936595
D11: OCT-DIC | E11: 11.046 | G11: =E11+F11+I10 -> 32.027 | H11: 0 | I11: =G11-H11 -> 32.027 | J11: =H11/G11 -> 0 | K11: -
C12: CHAFIC I | D12: MAR-AGO | E12: 76.531 | G12: =E12+F12 -> 76.531 | H12: 73.274 | I12: =G12-H12 -> 3.257 | J12: =H12/G12 -> 0.95744208 | K12: - | L12: =E12+E13 -> 85.057 | M12: =F12+F13 -> 0 | N12: =L12+M12 -> 85.057 | O12: =H12+H13 -> 84.01 | P12: =N12-O12 -> 1.047 | Q12: =O12/N12 -> 0.98769061
D13: OCT-DIC | E13: 8.526 | G13: =E13+F13+I12 -> 11.783 | H13: 10.736 | I13: =G13-H13 -> 1.047 | J13: =H13/G13 -> 0.91114317 | K13: -
C14: ISLA TABON | D14: MAR-AGO | E14: 72.384 | F14: -70 | G14: =E14+F14 -> 2.384 | H14: 10.152 | I14: =G14-H14 -> -7.768 | J14: =H14/G14 -> 4.2583893 | K14: 46122 | L14: =E14+E15 -> 80.448 | M14: =F14+F15 -> -70 | N14: =L14+M14 -> 10.448 | O14: =H14+H15 -> 10.152 | P14: =N14-O14 -> 0.296 | Q14: =O14/N14 -> 0.97166922
D15: OCT-DIC | E15: 8.064 | G15: =E15+F15+I14 -> 0.296 | H15: 0 | I15: =G15-H15 -> 0.296 | J15: =H15/G15 -> 0 | K15: -
C16: RESIDUAL | D16: MAR-AGO | E16: 22.62 | G16: =E16+F16 -> 22.62 | H16: 22.664 | I16: =G16-H16 -> -0.044 | J16: =H16/G16 -> 1.0019452 | K16: 46150 | L16: =E16+E17 -> 25.14 | M16: =F16+F17 -> 0 | N16: =L16+M16 -> 25.14 | O16: =H16+H17 -> 22.664 | P16: =N16-O16 -> 2.476 | Q16: =O16/N16 -> 0.90151154
D17: OCT-DIC | E17: 2.52 | G17: =E17+F17+I16 -> 2.476 | H17: 0 | I17: =G17-H17 -> 2.476 | J17: =H17/G17 -> 0 | K17: -
B18: FAUNA ACOMPAÑANTE | C18: REGIONES III-IV | D18: ENE-DIC | E18: 15 | G18: =E18+F18 -> 15 | I18: =G18-H18 -> 15 | J18: =H18/G18 -> 0 | K18: - | L18: =E18 -> 15 | M18: =F18 -> 0 | N18: =G18 -> 15 | O18: =H18 -> 0 | P18: =I18 -> 15 | Q18: =J18 -> 0
B19: TOTALES | D19: ENE-DIC | E19: =SUM(E6:E18) -> 443 | F19: =SUM(F6:F18) -> -129.079 | G19: =E19+F19 -> 313.921 | H19: =SUM(H6:H18) -> 253.083 | I19: =G19-H19 -> 60.838 | J19: =H19/G19 -> 0.80619965 | K19: - | L19: =SUM(L6:L18) -> 443 | M19: =SUM(M6:M18) -> -129.079 | N19: =L19+M19 -> 313.921 | O19: =SUM(O6:O18) -> 253.083 | P19: =N19-O19 -> 60.838 | Q19: =O19/N19 -> 0.80619965
J20: 16.402
D22: CESIONES CUOTAS INDIVIDUALES
D23: N° Resolución | E23: RPA | F23: Embarcación | G23: Cuota | H23: Captura | I23: Saldo | J23: Consumo
D24: 541 | E24: 913399 | F24: Punta Talca | G24: 70 | H24: 69.989 | I24: =G24-H24 -> 0.011 | J24: =H24/G24 -> 0.99984286
D25: 1683 | E25: 913399 | F25: Punta Talca | G25: 120 | H25: 96.11 | I25: =G25-H25 -> 23.89 | J25: =H25/G25 -> 0.80091667
D27: TOTAL | G27: =SUM(G24:G26) -> 190 | H27: =SUM(H24:H26) -> 166.099 | I27: =G27-H27 -> 23.901 | J27: =H27/G27 -> 0.87420526

Sheet CUOTA LTP -INDUSTRIAL
B2: CONTROL CUOTA LANGOSTINO AMARILLO FRACCION INDUSTRIAL AÑO 2026
B3: ='RESUMEN '!B3 -> 46324
B5: UNIDAD DE PESQUERIA | C5: TITULAR DE CUOTA LTP | D5: PERIODO | E5: CUOTA ASIGNADA (TON) | F5: MOVIMIENTO (TON) | G5: CUOTA EFECTIVA (TON) | H5: CAPTURA (TON) | I5: SALDO (TON) | J5: % CONSUMIDO | K5: CUOTA ASIGNADA (TON) | L5: MOVIMIENTO (TON) | M5: CUOTA EFECTIVA (TON) | N5: CAPTURA (TON) | O5: SALDO (TON) | P5: % CONSUMO
B6: LANGOSTINO AMARILLO XV- III | C6: ANTARTIC SEAFOOD S.A. | D6: MAR-AGO | E6: 21.72559 | F6: -9.726 | G6: =E6+F6 -> 11.99959 | I6: =G6-H6 -> 11.99959 | J6: =H6/G6 -> 0 | K6: =E6+E7 -> 23.93497 | L6: =F6+F7 -> -9.726 | M6: =K6+L6 -> 14.20897 | N6: =H6+H7 -> 0 | O6: =M6-N6 -> 14.20897 | P6: =N6/M6 -> 0
D7: OCT-DIC | E7: 2.20938 | G7: =E7+F7+I6 -> 14.20897 | I7: =G7-H7 -> 14.20897 | J7: =H7/G7 -> 0
C8: QUINTERO S.A. PESQ. | D8: MAR-AGO | E8: 1.91603 | G8: =E8+F8 -> 1.91603 | I8: =G8-H8 -> 1.91603 | J8: =H8/G8 -> 0 | K8: =E8+E9 -> 2.11088 | L8: =F8+F9 -> 0 | M8: =K8+L8 -> 2.11088 | N8: =H8+H9 -> 0 | O8: =M8-N8 -> 2.11088 | P8: =N8/M8 -> 0
D9: OCT-DIC | E9: 0.19485 | G9: =E9+F9+I8 -> 2.11088 | I9: =G9-H9 -> 2.11088 | J9: =H9/G9 -> 0
C10: BAYCIC BAYCIC MARIA | D10: MAR-AGO | E10: 0.00177 | G10: =E10+F10 -> 0.00177 | I10: =G10-H10 -> 0.00177 | J10: =H10/G10 -> 0 | K10: =E10+E11 -> 0.00195 | L10: =F10+F11 -> 0 | M10: =K10+L10 -> 0.00195 | N10: =H10+H11 -> 0 | O10: =M10-N10 -> 0.00195 | P10: =N10/M10 -> 0
D11: OCT-DIC | E11: 0.00018 | G11: =E11+F11+I10 -> 0.00195 | I11: =G11-H11 -> 0.00195 | J11: =H11/G11 -> 0
C12: BRACPESCA S.A. | D12: MAR-AGO | E12: 22.59265 | G12: =E12+F12 -> 22.59265 | I12: =G12-H12 -> 22.59265 | J12: =H12/G12 -> 0 | K12: =E12+E13 -> 24.89021 | L12: =F12+F13 -> 0 | M12: =K12+L12 -> 24.89021 | N12: =H12+H13 -> 0 | O12: =M12-N12 -> 24.89021 | P12: =N12/M12 -> 0
D13: OCT-DIC | E13: 2.29756 | G13: =E13+F13+I12 -> 24.89021 | I13: =G13-H13 -> 24.89021 | J13: =H13/G13 -> 0
C14: GRIMAR S.A. PESQ. | D14: MAR-AGO | E14: 0.01021 | G14: =E14+F14 -> 0.01021 | I14: =G14-H14 -> 0.01021 | J14: =H14/G14 -> 0 | K14: =E14+E15 -> 0.01125 | L14: =F14+F15 -> 0 | M14: =K14+L14 -> 0.01125 | N14: =H14+H15 -> 0 | O14: =M14-N14 -> 0.01125 | P14: =N14/M14 -> 0
D15: OCT-DIC | E15: 0.00104 | G15: =E15+F15+I14 -> 0.01125 | I15: =G15-H15 -> 0.01125 | J15: =H15/G15 -> 0
C16: ISLADAMAS S.A. PESQ. | D16: MAR-AGO | E16: 6.24411 | G16: =E16+F16 -> 6.24411 | I16: =G16-H16 -> 6.24411 | J16: =H16/G16 -> 0 | K16: =E16+E17 -> 6.8791 | L16: =F16+F17 -> 0 | M16: =K16+L16 -> 6.8791 | N16: =H16+H17 -> 0 | O16: =M16-N16 -> 6.8791 | P16: =N16/M16 -> 0
D17: OCT-DIC | E17: 0.63499 | G17: =E17+F17+I16 -> 6.8791 | I17: =G17-H17 -> 6.8791 | J17: =H17/G17 -> 0
C18: MOROZIN BAYCIC MARIA ANA | D18: MAR-AGO | E18: 0.00591 | G18: =E18+F18 -> 0.00591 | I18: =G18-H18 -> 0.00591 | J18: =H18/G18 -> 0 | K18: =E18+E19 -> 0.00651 | L18: =F18+F19 -> 0 | M18: =K18+L18 -> 0.00651 | N18: =H18+H19 -> 0 | O18: =M18-N18 -> 0.00651 | P18: =N18/M18 -> 0
D19: OCT-DIC | E19: 0.0006 | G19: =E19+F19+I18 -> 0.00651 | I19: =G19-H19 -> 0.00651 | J19: =H19/G19 -> 0
C20: MOROZIN YURECIC MARIO | D20: MAR-AGO | E20: 0.00119 | G20: =E20+F20 -> 0.00119 | I20: =G20-H20 -> 0.00119 | J20: =H20/G20 -> 0 | K20: =E20+E21 -> 0.00131 | L20: =F20+F21 -> 0 | M20: =K20+L20 -> 0.00131 | N20: =H20+H21 -> 0 | O20: =M20-N20 -> 0.00131 | P20: =N20/M20 -> 0
D21: OCT-DIC | E21: 0.00012 | G21: =E21+F21+I20 -> 0.00131 | I21: =G21-H21 -> 0.00131 | J21: =H21/G21 -> 0
C22: NAKAL SPA INV. | D22: MAR-AGO | E22: 4.4392 | G22: =E22+F22 -> 4.4392 | I22: =G22-H22 -> 4.4392 | J22: =H22/G22 -> 0 | K22: =E22+E23 -> 4.89064 | L22: =F22+F23 -> 0 | M22: =K22+L22 -> 4.89064 | N22: =H22+H23 -> 0 | O22: =M22-N22 -> 4.89064 | P22: =N22/M22 -> 0
D23: OCT-DIC | E23: 0.45144 | G23: =E23+F23+I22 -> 4.89064 | I23: =G23-H23 -> 4.89064 | J23: =H23/G23 -> 0
C24: NORDIOMAR SPA SOC. PESQ. | D24: MAR-AGO | E24: 0.0236 | G24: =E24+F24 -> 0.0236 | I24: =G24-H24 -> 0.0236 | J24: =H24/G24 -> 0 | K24: =E24+E25 -> 0.026 | L24: =F24+F25 -> 0 | M24: =K24+L24 -> 0.026 | N24: =H24+H25 -> 0 | O24: =M24-N24 -> 0.026 | P24: =N24/M24 -> 0
D25: OCT-DIC | E25: 0.0024 | G25: =E25+F25+I24 -> 0.026 | I25: =G25-H25 -> 0.026 | J25: =H25/G25 -> 0
C26: ENFERMAR LTDA. SOC. PESQ. | D26: MAR-AGO | E26: 0.0242 | G26: =E26+F26 -> 0.0242 | I26: =G26-H26 -> 0.0242 | J26: =H26/G26 -> 0 | K26: =E26+E27 -> 0.02666 | L26: =F26+F27 -> 0 | M26: =K26+L26 -> 0.02666 | N26: =H26+H27 -> 0 | O26: =M26-N26 -> 0.02666 | P26: =N26/M26 -> 0
D27: OCT-DIC | E27: 0.00246 | G27: =E27+F27+I26 -> 0.02666 | I27: =G27-H27 -> 0.02666 | J27: =H27/G27 -> 0
C28: CADUCADOS | D28: MAR-AGO | E28: 2.01556 | G28: =E28+F28 -> 2.01556 | I28: =G28-H28 -> 2.01556 | J28: =H28/G28 -> 0 | K28: =E28+E29 -> 2.22053 | L28: =F28+F29 -> 0 | M28: =K28+L28 -> 2.22053 | N28: =H28+H29 -> 0 | O28: =M28-N28 -> 2.22053 | P28: =N28/M28 -> 0
D29: OCT-DIC | E29: 0.20497 | G29: =E29+F29+I28 -> 2.22053 | I29: =G29-H29 -> 2.22053 | J29: =H29/G29 -> 0
B30: LANGOSTINO AMARILLO IV | C30: ANTARTIC SEAFOOD S.A. | D30: MAR-AGO | E30: 244.50492 | F30: -110.274 | G30: =E30+F30 -> 134.23092 | H30: 141.672 | I30: =G30-H30 -> -7.44108 | J30: =H30/G30 -> 1.0554349 | K30: =E30+E31 -> 271.38573 | L30: =F30+F31 -> -110.274 | M30: =K30+L30 -> 161.11173 | N30: =H30+H31 -> 147.781 | O30: =M30-N30 -> 13.33073 | P30: =N30/M30 -> 0.91725786
D31: OCT-DIC | E31: 26.88081 | G31: =E31+F31+I30 -> 19.43973 | H31: 6.109 | I31: =G31-H31 -> 13.33073 | J31: =H31/G31 -> 0.31425334
C32: QUINTERO S.A. PESQ. | D32: MAR-AGO | E32: 25.84626 | G32: =E32+F32 -> 25.84626 | I32: =G32-H32 -> 25.84626 | J32: =H32/G32 -> 0 | K32: =E32+E33 -> 28.68779 | L32: =F32+F33 -> 0 | M32: =K32+L32 -> 28.68779 | N32: =H32+H33 -> 0 | O32: =M32-N32 -> 28.68779 | P32: =N32/M32 -> 0
D33: OCT-DIC | E33: 2.84153 | G33: =E33+F33+I32 -> 28.68779 | I33: =G33-H33 -> 28.68779 | J33: =H33/G33 -> 0
C34: BAYCIC BAYCIC MARIA | D34: MAR-AGO | E34: 0.01992 | G34: =E34+F34 -> 0.01992 | I34: =G34-H34 -> 0.01992 | J34: =H34/G34 -> 0 | K34: =E34+E35 -> 0.02211 | L34: =F34+F35 -> 0 | M34: =K34+L34 -> 0.02211 | N34: =H34+H35 -> 0 | O34: =M34-N34 -> 0.02211 | P34: =N34/M34 -> 0
D35: OCT-DIC | E35: 0.00219 | G35: =E35+F35+I34 -> 0.02211 | I35: =G35-H35 -> 0.02211 | J35: =H35/G35 -> 0
C36: BRACPESCA S.A. | D36: MAR-AGO | E36: 254.263 | F36: =59.079 -> 59.079 | G36: =E36+F36 -> 313.342 | H36: 316.352 | I36: =G36-H36 -> -3.01 | J36: =H36/G36 -> 1.0096061 | K36: =E36+E37 -> 282.21661 | L36: =F36+F37 -> 59.079 | M36: =K36+L36 -> 341.29561 | N36: =H36+H37 -> 333.236 | O36: =M36-N36 -> 8.05961 | P36: =N36/M36 -> 0.97638525
D37: OCT-DIC | E37: 27.95361 | G37: =E37+F37+I36 -> 24.94361 | H37: 16.884 | I37: =G37-H37 -> 8.05961 | J37: =H37/G37 -> 0.67688679
C38: GRIMAR S.A. PESQ. | D38: MAR-AGO | E38: 0.11494 | G38: =E38+F38 -> 0.11494 | I38: =G38-H38 -> 0.11494 | J38: =H38/G38 -> 0 | K38: =E38+E39 -> 0.12758 | L38: =F38+F39 -> 0 | M38: =K38+L38 -> 0.12758 | N38: =H38+H39 -> 0 | O38: =M38-N38 -> 0.12758 | P38: =N38/M38 -> 0
D39: OCT-DIC | E39: 0.01264 | G39: =E39+F39+I38 -> 0.12758 | I39: =G39-H39 -> 0.12758 | J39: =H39/G39 -> 0
C40: ISLADAMAS S.A. PESQ. | D40: MAR-AGO | E40: 70.27265 | G40: =E40+F40 -> 70.27265 | H40: 61.953 | I40: =G40-H40 -> 8.31965 | J40: =H40/G40 -> 0.88160899 | K40: =E40+E41 -> 77.9984 | L40: =F40+F41 -> 0 | M40: =K40+L40 -> 77.9984 | N40: =H40+H41 -> 74.264 | O40: =M40-N40 -> 3.7344 | P40: =N40/M40 -> 0.95212209
D41: OCT-DIC | E41: 7.72575 | G41: =E41+F41+I40 -> 16.0454 | H41: 12.311 | I41: =G41-H41 -> 3.7344 | J41: =H41/G41 -> 0.7672604
C42: MOROZIN BAYCIC MARIA ANA | D42: MAR-AGO | E42: 0.06647 | G42: =E42+F42 -> 0.06647 | I42: =G42-H42 -> 0.06647 | J42: =H42/G42 -> 0 | K42: =E42+E43 -> 0.07378 | L42: =F42+F43 -> 0 | M42: =K42+L42 -> 0.07378 | N42: =H42+H43 -> 0 | O42: =M42-N42 -> 0.07378 | P42: =N42/M42 -> 0
...

Sheet CUOTA LICITADA PEP
B2: Decreto N°253/2025
B3: PERIODO | C3: V-VI | D3: VII-VIII | E3: TOTAL
B4: MAR-AGO | C4: 1051 | D4: 1285 | E4: =SUM(C4+D4) -> 2336
B5: OCT-DIC | C5: 117 | D5: 143 | E5: =SUM(C5+D5) -> 260
B6: TOTAL | C6: =SUM(C4:C5) -> 1168 | D6: =SUM(D4:D5) -> 1428 | E6: =SUM(C6:D6) -> 2596
B9: CONTROL CUOTA LANGOSTINO AMARILLO PEP AÑO 2026
B10: ='RESUMEN '!B3 -> 46324
B12: UNIDAD DE PESQUERIA | C12: TITULAR DE CUOTA PEP | D12: PERIODO | E12: % | F12: CUOTA ASIGNADA (TON) | G12: MOVIMIENTO (TON) | H12: CUOTA EFECTIVA (TON) | I12: CAPTURA (TON) | J12: SALDO (TON) | K12: % CONSUMIDO | L12: CUOTA ASIGNADA (TON) | M12: MOVIMIENTO (TON) | N12: CUOTA EFECTIVA (TON) | O12: CAPTURA (TON) | P12: SALDO (TON) | Q12: % CONSUMO
B13: LANGOSTINO AMARILLO PEP V-VI | C13: ANTARTIC SEAFOOD S.A. | D13: MAR-AGO | E13: 22.039137 | F13: =E13/100*$C$4 -> 231.63133 | H13: =F13+G13 -> 231.63133 | I13: 228.706 | J13: =H13-I13 -> 2.9253299 | K13: =I13/H13 -> 0.98737075 | L13: =F13+F14 -> 257.41712 | M13: =G13+G14 -> 0 | N13: =L13+M13 -> 257.41712 | O13: =I13+I14 -> 228.706 | P13: =N13-O13 -> 28.71112 | Q13: =O13/N13 -> 0.88846461
D14: OCT-DIC | F14: =E13/100*$C$5 -> 25.78579 | H14: =F14+G14+J13 -> 28.71112 | J14: =H14-I14 -> 28.71112 | K14: 0.03
C15: QUINTERO S.A. PESQ. | D15: MAR-AGO | E15: 0 | F15: =E15/100*$C$4 -> 0 | H15: =F15+G15 -> 0 | J15: =H15-I15 -> 0 | K15: 0 | L15: =F15+F16 -> 0 | M15: =G15+G16 -> 0 | N15: =L15+M15 -> 0 | O15: =I15+I16 -> 0 | P15: =N15-O15 -> 0 | Q15: 0
D16: OCT-DIC | F16: =E15/100*$C$5 -> 0 | H16: =F16+G16+J15 -> 0 | J16: =H16-I16 -> 0 | K16: 0
C17: BRACPESCA S.A. | D17: MAR-AGO | E17: 29.26 | F17: =E17/100*$C$4 -> 307.5226 | H17: =F17+G17 -> 307.5226 | I17: 301.562 | J17: =H17-I17 -> 5.9606 | K17: =I17/H17 -> 0.98061736 | L17: =F17+F18 -> 341.7568 | M17: =G17+G18 -> 0 | N17: =L17+M17 -> 341.7568 | O17: =I17+I18 -> 322.95 | P17: =N17-O17 -> 18.8068 | Q17: =O17/N17 -> 0.94497022
D18: OCT-DIC | F18: =E17/100*$C$5 -> 34.2342 | H18: =F18+G18+J17 -> 40.1948 | I18: 21.388 | J18: =H18-I18 -> 18.8068 | K18: =I18/H18 -> 0.53210863
C19: ANTONIO CRUZ CORDOVA NAKOUZI E.I.R.L. | D19: MAR-AGO | E19: 0 | F19: =E19/100*$C$4 -> 0 | H19: =F19+G19 -> 0 | J19: =H19-I19 -> 0 | K19: 0 | L19: =F19+F20 -> 0 | M19: =G19+G20 -> 0 | N19: =L19+M19 -> 0 | O19: =I19+I20 -> 0 | P19: =N19-O19 -> 0 | Q19: 0
D20: OCT-DIC | F20: =E19/100*$C$5 -> 0 | H20: =F20+G20+J19 -> 0 | J20: =H20-I20 -> 0 | K20: 0
C21: GRIMAR S.A. PESQ. | D21: MAR-AGO | E21: 0.036373 | F21: =E21/100*$C$4 -> 0.38228023 | H21: =F21+G21 -> 0.38228023 | J21: =H21-I21 -> 0.38228023 | K21: =I21/H21 -> 0 | L21: =F21+F22 -> 0.42483664 | M21: =G21+G22 -> 0 | N21: =L21+M21 -> 0.42483664 | O21: =I21+I22 -> 0 | P21: =N21-O21 -> 0.42483664 | Q21: =O21/N21 -> 0
D22: OCT-DIC | F22: =E21/100*$C$5 -> 0.04255641 | H22: =F22+G22+J21 -> 0.42483664 | J22: =H22-I22 -> 0.42483664 | K22: =I22/H22 -> 0
C23: ISLADAMAS S.A. PESQ. | D23: MAR-AGO | E23: 10.23349 | F23: =E23/100*$C$4 -> 107.55398 | G23: =17.52 -> 17.52 | H23: =F23+G23 -> 125.07398 | I23: 120.646 | J23: =H23-I23 -> 4.4279799 | K23: =I23/H23 -> 0.96459711 | L23: =F23+F24 -> 119.52716 | M23: =G23+G24 -> 17.52 | N23: =L23+M23 -> 137.04716 | O23: =I23+I24 -> 133.127 | P23: =N23-O23 -> 3.9201632 | Q23: =O23/N23 -> 0.97139552
D24: OCT-DIC | F24: =E23/100*$C$5 -> 11.973183 | H24: =F24+G24+J23 -> 16.401163 | I24: 12.481 | J24: =H24-I24 -> 3.9201632 | K24: =I24/H24 -> 0.76098261
C25: LANDES S.A. PESQ. | D25: MAR-AGO | E25: 0.1 | F25: =E25/100*$C$4 -> 1.051 | H25: =F25+G25 -> 1.051 | J25: =H25-I25 -> 1.051 | K25: =I25/H25 -> 0 | L25: =F25+F26 -> 1.168 | M25: =G25+G26 -> 0 | N25: =L25+M25 -> 1.168 | O25: =I25+I26 -> 0 | P25: =N25-O25 -> 1.168 | Q25: =O25/N25 -> 0
D26: OCT-DIC | F26: =E25/100*$C$5 -> 0.117 | H26: =F26+G26+J25 -> 1.168 | J26: =H26-I26 -> 1.168 | K26: =I26/H26 -> 0
C27: JUAN RUBIO VALENZUELA | D27: MAR-AGO | E27: 2.27 | F27: =E27/100*$C$4 -> 23.8577 | G27: =-26.514 -> -26.514 | H27: =F27+G27 -> -2.6563 | J27: =H27-I27 -> -2.6563 | K27: =I27/H27 -> 0 | L27: =F27+F28 -> 26.5136 | M27: =G27+G28 -> -26.514 | N27: =L27+M27 -> -0.0004 | O27: =I27+I28 -> 0 | P27: =N27-O27 -> -0.0004 | Q27: =O27/N27 -> 0
D28: OCT-DIC | F28: =E27/100*$C$5 -> 2.6559 | H28: =F28+G28+J27 -> -0.0004 | J28: =H28-I28 -> -0.0004 | K28: =I28/H28 -> 0
C29: PACIFICBLU SPA. | D29: MAR-AGO | E29: 3.192 | F29: =E29/100*$C$4 -> 33.54792 | H29: =F29+G29 -> 33.54792 | J29: =H29-I29 -> 33.54792 | K29: =I29/H29 -> 0 | L29: =F29+F30 -> 37.28256 | M29: =G29+G30 -> 0 | N29: =L29+M29 -> 37.28256 | O29: =I29+I30 -> 0 | P29: =N29-O29 -> 37.28256 | Q29: =O29/N29 -> 0
D30: OCT-DIC | F30: =E29/100*$C$5 -> 3.73464 | H30: =F30+G30+J29 -> 37.28256 | J30: =H30-I30 -> 37.28256 | K30: =I30/H30 -> 0
C31: ERIC ARAVENA ARAVENA | D31: MAR-AGO | E31: 0.0504 | F31: =E31/100*$C$4 -> 0.529704 | H31: =F31+G31 -> 0.529704 | J31: =H31-I31 -> 0.529704 | K31: =I31/H31 -> 0 | L31: =F31+F32 -> 0.588672 | M31: =G31+G32 -> 0 | N31: =L31+M31 -> 0.588672 | O31: =I31+I32 -> 0 | P31: =N31-O31 -> 0.588672 | Q31: =O31/N31 -> 0
D32: OCT-DIC | F32: =E31/100*$C$5 -> 0.058968 | H32: =F32+G32+J31 -> 0.588672 | J32: =H32-I32 -> 0.588672 | K32: =I32/H32 -> 0
C33: ENFEMAR LTDA. SOC. PESQ. | D33: MAR-AGO | E33: 0.406005 | F33: =E33/100*$C$4 -> 4.2671126 | H33: =F33+G33 -> 4.2671126 | J33: =H33-I33 -> 4.2671126 | K33: =I33/H33 -> 0 | L33: =F33+F34 -> 4.7421384 | M33: =G33+G34 -> 0 | N33: =L33+M33 -> 4.7421384 | O33: =I33+I34 -> 0 | P33: =N33-O33 -> 4.7421384 | Q33: =O33/N33 -> 0
D34: OCT-DIC | F34: =E33/100*$C$5 -> 0.47502585 | H34: =F34+G34+J33 -> 4.7421384 | J34: =H34-I34 -> 4.7421384 | K34: =I34/H34 -> 0
C35: INVERSIONES NAKAL SPA. | D35: MAR-AGO | E35: 0 | F35: =E35/100*$C$4 -> 0 | G35: 26.514 | H35: =F35+G35 -> 26.514 | J35: =H35-I35 -> 26.514 | K35: 0 | L35: =F35+F36 -> 0 | M35: =G35+G36 -> 26.514 | N35: =L35+M35 -> 26.514 | O35: =I35+I36 -> 0 | P35: =N35-O35 -> 26.514 | Q35: 0
D36: OCT-DIC | F36: =E35/100*$C$5 -> 0 | H36: =F36+G36+J35 -> 26.514 | J36: =H36-I36 -> 26.514 | K36: 0
C37: SOC. PESQ. NORDIOMAR SPA. | D37: MAR-AGO | E37: 0.995 | F37: =E37/100*$C$4 -> 10.45745 | H37: =F37+G37 -> 10.45745 | J37: =H37-I37 -> 10.45745 | K37: =I37/H37 -> 0 | L37: =F37+F38 -> 11.6216 | M37: =G37+G38 -> 0 | N37: =L37+M37 -> 11.6216 | O37: =I37+I38 -> 0 | P37: =N37-O37 -> 11.6216 | Q37: =O37/N37 -> 0
D38: OCT-DIC | F38: =E37/100*$C$5 -> 1.16415 | H38: =F38+G38+J37 -> 11.6216 | J38: =H38-I38 -> 11.6216 | K38: =I38/H38 -> 0
C39: PESQUERA SUR AUSTRAL | D39: MAR-AGO | E39: 0.004828 | F39: =E39/100*$C$4 -> 0.05074228 | H39: =F39+G39 -> 0.05074228 | J39: =H39-I39 -> 0.05074228 | K39: =I39/H39 -> 0 | L39: =F39+F40 -> 0.05639104 | M39: =G39+G40 -> 0 | N39: =L39+M39 -> 0.05639104 | O39: =I39+I40 -> 0 | P39: =N39-O39 -> 0.05639104 | Q39: =O39/N39 -> 0
D40: OCT-DIC | F40: =E39/100*$C$5 -> 0.00564876 | H40: =F40+G40+J39 -> 0.05639104 | J40: =H40-I40 -> 0.05639104 | K40: =I40/H40 -> 0
C41: COMERCIALIZADORA SIMON SEAFOOD LTDA. | D41: MAR-AGO | E41: 0 | F41: =E41/100*$C$4 -> 0 | H41: =F41+G41 -> 0 | J41: =H41-I41 -> 0 | K41: 0 | L41: =F41+F42 -> 0 | M41: =G41+G42 -> 0 | N41: =L41+M41 -> 0 | O41: =I41+I42 -> 0 | P41: =N41-O41 -> 0 | Q41: 0
D42: OCT-DIC | F42: =E41/100*$C$5 -> 0 | H42: =F42+G42+J41 -> 0 | J42: =H42-I42 -> 0 | K42: 0
C43: WILLIAMS MAUAD MEZA | D43: MAR-AGO | E43: 0 | F43: =E43/100*$C$4 -> 0 | H43: =F43+G43 -> 0 | J43: =H43-I43 -> 0 | K43: 0 | L43: =F43+F44 -> 0 | M43: =G43+G44 -> 0 | N43: =L43+M43 -> 0 | O43: =I43+I44 -> 0 | P43: =N43-O43 -> 0 | Q43: 0
D44: OCT-DIC | F44: =E43/100*$C$5 -> 0 | H44: =F44+G44+J43 -> 0 | J44: =H44-I44 -> 0 | K44: 0
...

Sheet LEY 21.752 CRUC
B2: CONTROL CUOTA LANGOSTINO AMARILLO FRACCION ARTESANAL AÑO 2026
B3: ='RESUMEN '!B3 -> 46324
B5: REGIÓN | C5: ASIGNATARIO | D5: PERIODO | E5: CUOTA ASIGNADA (TON) | F5: MOVIMIENTO (TON) | G5: CUOTA EFECTIVA (TON) | H5: CAPTURA (TON) | I5: SALDO (TON) | J5: % CONSUMIDO | K5: FECHA CIERRE | L5: CUOTA ASIGNADA (TON) | M5: MOVIMIENTO (TON) | N5: CUOTA EFECTIVA (TON) | O5: CAPTURA (TON) | P5: SALDO (TON) | Q5: % CONSUMO
B6: XV ARICA PARINACOTA | C6: REGIÓN | D6: MAR-AGO | E6: 0.819 | G6: =E6+F6 -> 0.819 | I6: =G6-H6 -> 0.819 | J6: =H6/G6 -> 0 | K6: - | L6: =E6+E7 -> 0.91 | M6: =F6+F7 -> 0 | N6: =L6+M6 -> 0.91 | O6: =H6+H7 -> 0 | P6: =N6-O6 -> 0.91 | Q6: =O6/N6 -> 0
D7: OCT-DIC | E7: 0.091 | G7: =E7+F7 -> 0.091 | I7: =G7-H7 -> 0.091 | J7: =H7/G7 -> 0 | K7: -
B8: I TARAPACÁ | C8: REGIÓN | D8: MAR-AGO | E8: 0.819 | G8: =E8+F8 -> 0.819 | I8: =G8-H8 -> 0.819 | J8: =H8/G8 -> 0 | K8: - | L8: =E8+E9 -> 0.91 | M8: =F8+F9 -> 0 | N8: =L8+M8 -> 0.91 | O8: =H8+H9 -> 0 | P8: =N8-O8 -> 0.91 | Q8: =O8/N8 -> 0
D9: OCT-DIC | E9: 0.091 | G9: =E9+F9 -> 0.091 | I9: =G9-H9 -> 0.091 | J9: =H9/G9 -> 0 | K9: -
B10: II ANTOFAGASTA | C10: REGIÓN | D10: MAR-AGO | E10: 0.819 | G10: =E10+F10 -> 0.819 | I10: =G10-H10 -> 0.819 | J10: =H10/G10 -> 0 | K10: - | L10: =E10+E11 -> 0.91 | M10: =F10+F11 -> 0 | N10: =L10+M10 -> 0.91 | O10: =H10+H11 -> 0 | P10: =N10-O10 -> 0.91 | Q10: =O10/N10 -> 0
D11: OCT-DIC | E11: 0.091 | G11: =E11+F11 -> 0.091 | I11: =G11-H11 -> 0.091 | J11: =H11/G11 -> 0 | K11: -
B12: III REGION DE ATACAMA | C12: REGIÓN | D12: MAR-AGO | E12: 1.143 | G12: =E12+F12 -> 1.143 | I12: =G12-H12 -> 1.143 | J12: =H12/G12 -> 0 | K12: - | L12: =E12+E13 -> 1.27 | M12: =F12+F13 -> 0 | N12: =L12+M12 -> 1.27 | O12: =H12+H13 -> 0 | P12: =N12-O12 -> 1.27 | Q12: =O12/N12 -> 0
D13: OCT-DIC | E13: 0.127 | G13: =E13+F13+I12 -> 1.27 | I13: =G13-H13 -> 1.27 | J13: =H13/G13 -> 0 | K13: -
B14: IV REGION DE COQUIMBO | C14: REGIÓN | D14: MAR-AGO | E14: 78.3 | G14: =E14+F14 -> 78.3 | H14: 77.294 | I14: =G14-H14 -> 1.006 | J14: =H14/G14 -> 0.98715198 | K14: 46156 | L14: =E14+E15 -> 87 | M14: =F14+F15 -> 0 | N14: =L14+M14 -> 87 | O14: =H14+H15 -> 77.294 | P14: =N14-O14 -> 9.706 | Q14: =O14/N14 -> 0.88843678
D15: OCT-DIC | E15: 8.7 | G15: =E15+F15+I14 -> 9.706 | I15: =G15-H15 -> 9.706 | J15: =H15/G15 -> 0 | K15: -
B16: TOTALES | D16: ENE-DIC | E16: =SUM(E6:E15) -> 91 | F16: =SUM(F12:F15) -> 0 | G16: =E16+F16 -> 91 | H16: =SUM(H6:H15) -> 77.294 | I16: =G16-H16 -> 13.706 | J16: =H16/G16 -> 0.84938462 | K16: - | L16: =SUM(L12:L15) -> 88.27 | M16: =SUM(M12:M15) -> 0 | N16: =L16+M16 -> 88.27 | O16: =SUM(O12:O15) -> 77.294 | P16: =N16-O16 -> 10.976 | Q16: =O16/N16 -> 0.87565424
B19: RES N°160/2026

Sheet PESCA DE INVESTIGACION
B4: CONTROL PESCA DE INVESTIGACION
B7: CONTROL PESCA DE INVESTIGACION
B8: N° RESOLUCION | C8: EMBARCACION TITULAR | D8: CUOTA | E8: CAPTURA | F8: CAPTURA TOTAL | G8: SALDO | H8: CONSUMO

Sheet CESIONES INDIVIDUALES
B3: CESIONES CUOTAS INDIVIDUALES
B4: N° Resolución | C4: RPA | D4: Embarcación | E4: Cuota | F4: Captura | G4: Saldo | H4: Consumo

Sheet MOVIMIENTOS
C1: LTPA | D1: LTPB | E1: A+B | F1: TON | G1: 98 | X1: LTP
A2: LANGOSTINO AMARILLO III | B2: ANTARTIC SEAFOOD S.A. | C2: 0.3324803 | D2: =0.00975+0.00975+0.002+0.01425 -> 0.03575 | E2: =C2+D2 -> 0.3682303 | F2: =E2*$G$1 -> 36.086569 | G2: 36.08657 | H2: =F2-G2 -> -6e-07 | K2: EMPRESAS | L2: 2022 | N2: PERIODO | O2: V-VI | P2: VII-VIII | Q2: TOTAL | S2: PERIODO | T2: III | U2: IV | V2: TOTAL | X2: XV-III | Y2: 65
K3: CAMANCHACA PESCA SUR | L3: 20.604256 | N3: MAR-AGO | S3: MAR-AGO | X3: IV | Y3: 737
B4: QUINTERO S.A. PESQ. | C4: =0.0239553+0.0058632+0.0026566+0.027652 -> 0.0601271 | D4: =0.00645 -> 0.00645 | E4: =C4+D4 -> 0.0665771 | F4: =E4*$G$1 -> 6.5245558 | G4: 6.52456 | H4: =F4-G4 -> -4.2e-06 | K4: QUINTERO | L4: 3.33742 | N4: OCT-DIC | S4: OCT-DIC
K5: BRACPESCA | L5: 20.39454 | N5: TOTAL | O5: =SUM(O3:O4) -> 0 | P5: =SUM(P3:P4) -> 0 | Q5: =SUM(O5:P5) -> 0 | S5: TOTAL | T5: =SUM(T3:T4) -> 0 | U5: =SUM(U3:U4) -> 0 | V5: =SUM(V3:V4) -> 0
B6: BAYCIC BAYCIC MARIA | C6: 3e-05 | E6: =C6+D6 -> 3e-05 | F6: =E6*$G$1 -> 0.00294 | G6: 0.00294 | H6: =F6-G6 -> 0 | K6: ISLADAMAS | L6: 16.65462 | X6: Coeficiente | Y6: XV-III | Z6: IV | AA6: Total
K7: ANTARTIC SEAFOOD | L7: 7.59 | X7: 0.1496259 | Y7: =X7*Y2 -> 9.7256835 | Z7: =X7*Y3 -> 110.27429 | AA7: =Y7+Z7 -> 119.99997
B8: BRACPESCA S.A. | C8: 0.3462262 | D8: =0.00775+0.00026+0.01125+0.01425 -> 0.03351 | E8: =C8+D8 -> 0.3797362 | F8: =E8*$G$1 -> 37.214148 | G8: 37.21415 | H8: =F8-G8 -> -2.4e-06 | K8: GRIMAR S.A. | L8: 0.008 | N8: Detalle Negocios Langostino Amarillo
K9: PESQ. ANTONIO CRUZ CORDOVA | L9: 0.268772 | N9: N° doc | O9: Fecha | P9: DE - | Q9: A+ | R9: Coeficiente | S9: V-VI | T9: VII-VIII | U9: Total
B10: ZUÑIGA ROMERO GONZALO | C10: 6e-05 | E10: =C10+D10 -> 6e-05 | F10: =E10*$G$1 -> 0.00588 | G10: 0.00588 | H10: =F10-G10 -> 0 | K10: TOTAL | L10: 80.0003
B12: RUBIO Y MAUAD LTDA. | C12: 0.0224406 | D12: =0.00075+0.00375+0.00375+0.00525+0.00525+0.00675+0.00825+0.00405+0.00006+0.00069+0.01425 -> 0.0528 | E12: =C12+D12 -> 0.0752406 | F12: =E12*$G$1 -> 7.3735788 | G12: 7.37357 | H12: =F12-G12 -> 8.8e-06
B15: QUINTERO S.A. PESQ. | C15: =0.0239553+0.0058632+0.0026566+0.027652 -> 0.0601271 | D15: =0.00645 -> 0.00645 | E15: =C15+D15 -> 0.0665771 | F15: =E15*#REF! -> #REF! | G15: 58.85416 | H15: =F15-G15 -> #REF!
B17: BAYCIC BAYCIC MARIA | C17: 3e-05 | E17: =C17+D17 -> 3e-05 | F17: =E17*#REF! -> #REF! | G17: 0.02652 | H17: =F17-G17 -> #REF!
B19: BRACPESCA S.A. | C19: 0.3462262 | D19: =0.00775+0.00026+0.01125+0.01425 -> 0.03351 | E19: =C19+D19 -> 0.3797362 | F19: =E19*#REF! -> #REF! | G19: 338.50677 | H19: =F19-G19 -> #REF!
B21: GRIMAR S.A. PESQ. | C21: 0.0001731 | E21: =C21+D21 -> 0.0001731 | F21: =E21*#REF! -> #REF! | G21: 0.15302 | H21: =F21-G21 -> #REF!
B23: ISLADAMAS S.A. PESQ. | C23: =0.0438706+0.022+0.0216617 -> 0.0875323 | D23: =0.00225+0.009+0.00705 -> 0.0183 | E23: =C23+D23 -> 0.1058323 | F23: =E23*#REF! -> #REF! | G23: 93.55575 | H23: =F23-G23 -> #REF!
B25: MOROZIN BAYCIC MARIA ANA | C25: 0.0001001 | E25: =C25+D25 -> 0.0001001 | F25: =E25*#REF! -> #REF! | G25: 0.08849 | H25: =F25-G25 -> #REF!
B27: MOROZIN YURECIC MARIO | C27: 2.01e-05 | E27: =C27+D27 -> 2.01e-05 | F27: =E27*#REF! -> #REF! | G27: 0.01777 | H27: =F27-G27 -> #REF!
B29: ZUÑIGA ROMERO GONZALO | C29: 6e-05 | E29: =C29+D29 -> 6e-05 | F29: =E29*#REF! -> #REF! | G29: 0.05304 | H29: =F29-G29 -> #REF!
B31: RUBIO Y MAUAD LTDA. | C31: 0.0224406 | D31: =0.00075+0.00375+0.00375+0.00525+0.00525+0.00675+0.00825+0.00405+0.00006+0.00069+0.01425 -> 0.0528 | E31: =C31+D31 -> 0.0752406 | F31: =E31*#REF! -> #REF! | G31: 66.51109 | H31: =F31-G31 -> #REF!
B33: ENFERMAR LTDA. SOC. PESQ. | C33: 0.0008101 | E33: =C33+D33 -> 0.0008101 | F33: =E33*#REF! -> #REF! | G33: 0.71613 | H33: =F33-G33 -> #REF!
C35: =SUM(C14:C34) -> 0.5175196 | D35: =SUM(D14:D34) -> 0.11106 | E35: =SUM(E14:E34) -> 0.6285796 | F35: =SUM(F14:F34) -> #REF! | G35: =SUM(G14:G34) -> 558.48274 | H35: =SUM(H14:H34) -> #REF!

Sheet PAG. WEB
A1: unidad | B1: recurso | C1: zona | D1: tipo_asignatario | E1: organizacion_titular_area | F1: periodo_inicio | G1: periodo_final | H1: cuota | I1: cesiones_descuentos | J1: cuota_efectiva | K1: captura | L1: saldo | M1: consumo_porcentaje | N1: cierre | O1: preliminar | P1: año | Q1: mensaje
A2: LANGOSTINO AMARILLO III-IV | B2: LANGOSTINO AMARILLO | C2: III | D2: REGION | E2: REGION | F2: 46082 | G2: 46265 | H2: ='CUOTA ARTESANAL'!E6 -> 8 | I2: ='CUOTA ARTESANAL'!F6 -> 0 | J2: ='CUOTA ARTESANAL'!G6 -> 8 | K2: ='CUOTA ARTESANAL'!H6 -> 0 | L2: ='CUOTA ARTESANAL'!I6 -> 8 | M2: ='CUOTA ARTESANAL'!J6 -> 0 | N2: ='CUOTA ARTESANAL'!K6 -> - | O2: ='RESUMEN '!$B$3 -> 46324 | P2: 2026
A3: LANGOSTINO AMARILLO III-IV | B3: LANGOSTINO AMARILLO | C3: III | D3: REGION | E3: REGION | F3: 46296 | G3: 46387 | H3: ='CUOTA ARTESANAL'!E7 -> 1 | I3: ='CUOTA ARTESANAL'!F7 -> 0 | J3: ='CUOTA ARTESANAL'!G7 -> 9 | K3: ='CUOTA ARTESANAL'!H7 -> 0 | L3: ='CUOTA ARTESANAL'!I7 -> 9 | M3: ='CUOTA ARTESANAL'!J7 -> 0 | N3: ='CUOTA ARTESANAL'!K7 -> - | O3: ='RESUMEN '!$B$3 -> 46324 | P3: 2026
A4: LANGOSTINO AMARILLO III-IV | B4: LANGOSTINO AMARILLO | C4: III | D4: REGION | E4: total region III | F4: 46023 | G4: 46387 | H4: ='CUOTA ARTESANAL'!L6 -> 9 | I4: ='CUOTA ARTESANAL'!M6 -> 0 | J4: ='CUOTA ARTESANAL'!N6 -> 9 | K4: ='CUOTA ARTESANAL'!O6 -> 0 | L4: ='CUOTA ARTESANAL'!P6 -> 9 | M4: ='CUOTA ARTESANAL'!Q6 -> 0 | N4: - | O4: ='RESUMEN '!$B$3 -> 46324 | P4: 2026
A5: LANGOSTINO AMARILLO III-IV | B5: LANGOSTINO AMARILLO | C5: IV | D5: EMBARCACIÓN | E5: ='CUOTA ARTESANAL'!C8 -> PUNTA TALCA | F5: 46082 | G5: 46265 | H5: ='CUOTA ARTESANAL'!E8 -> 106.314 | I5: ='CUOTA ARTESANAL'!F8 -> -59.079 | J5: ='CUOTA ARTESANAL'!G8 -> 47.235 | K5: ='CUOTA ARTESANAL'!H8 -> 46.289 | L5: ='CUOTA ARTESANAL'!I8 -> 0.946 | M5: ='CUOTA ARTESANAL'!J8 -> 0.97997248 | N5: ='CUOTA ARTESANAL'!K8 -> 46119 | O5: ='RESUMEN '!$B$3 -> 46324 | P5: 2026
A6: LANGOSTINO AMARILLO III-IV | B6: LANGOSTINO AMARILLO | C6: IV | D6: EMBARCACIÓN | E6: ='CUOTA ARTESANAL'!C8 -> PUNTA TALCA | F6: 46296 | G6: 46387 | H6: ='CUOTA ARTESANAL'!E9 -> 11.844 | I6: ='CUOTA ARTESANAL'!F9 -> 0 | J6: ='CUOTA ARTESANAL'!G9 -> 12.79 | K6: ='CUOTA ARTESANAL'!H9 -> 11.798 | L6: ='CUOTA ARTESANAL'!I9 -> 0.992 | M6: ='CUOTA ARTESANAL'!J9 -> 0.92243941 | N6: ='CUOTA ARTESANAL'!K9 -> 46300 | O6: ='RESUMEN '!$B$3 -> 46324 | P6: 2026
A7: LANGOSTINO AMARILLO III-IV | B7: LANGOSTINO AMARILLO | C7: IV | D7: EMBARCACIÓN | E7: PUNTA TALCA | F7: 46023 | G7: 46387 | H7: ='CUOTA ARTESANAL'!L8 -> 118.158 | I7: ='CUOTA ARTESANAL'!M8 -> -59.079 | J7: ='CUOTA ARTESANAL'!N8 -> 59.079 | K7: ='CUOTA ARTESANAL'!O8 -> 58.087 | L7: ='CUOTA ARTESANAL'!P8 -> 0.992 | M7: ='CUOTA ARTESANAL'!Q8 -> 0.98320892 | N7: - | O7: ='RESUMEN '!$B$3 -> 46324 | P7: 2026
A8: LANGOSTINO AMARILLO III-IV | B8: LANGOSTINO AMARILLO | C8: IV | D8: EMBARCACIÓN | E8: ='CUOTA ARTESANAL'!C10 -> TRAUWUN I | F8: 46082 | G8: 46265 | H8: ='CUOTA ARTESANAL'!E10 -> 99.151 | I8: ='CUOTA ARTESANAL'!F10 -> 0 | J8: ='CUOTA ARTESANAL'!G10 -> 99.151 | K8: ='CUOTA ARTESANAL'!H10 -> 78.17 | L8: ='CUOTA ARTESANAL'!I10 -> 20.981 | M8: ='CUOTA ARTESANAL'!J10 -> 0.78839346 | N8: ='CUOTA ARTESANAL'!K10 -> - | O8: ='RESUMEN '!$B$3 -> 46324 | P8: 2026
A9: LANGOSTINO AMARILLO III-IV | B9: LANGOSTINO AMARILLO | C9: IV | D9: EMBARCACIÓN | E9: ='CUOTA ARTESANAL'!C10 -> TRAUWUN I | F9: 46296 | G9: 46387 | H9: ='CUOTA ARTESANAL'!E11 -> 11.046 | I9: ='CUOTA ARTESANAL'!F11 -> 0 | J9: ='CUOTA ARTESANAL'!G11 -> 32.027 | K9: ='CUOTA ARTESANAL'!H11 -> 0 | L9: ='CUOTA ARTESANAL'!I11 -> 32.027 | M9: ='CUOTA ARTESANAL'!J11 -> 0 | N9: ='CUOTA ARTESANAL'!K11 -> - | O9: ='RESUMEN '!$B$3 -> 46324 | P9: 2026
A10: LANGOSTINO AMARILLO III-IV | B10: LANGOSTINO AMARILLO | C10: IV | D10: EMBARCACIÓN | E10: TRAUWUN I | F10: 46023 | G10: 46387 | H10: ='CUOTA ARTESANAL'!L10 -> 110.197 | I10: ='CUOTA ARTESANAL'!M10 -> 0 | J10: ='CUOTA ARTESANAL'!N10 -> 110.197 | K10: ='CUOTA ARTESANAL'!O10 -> 78.17 | L10: ='CUOTA ARTESANAL'!P10 -> 32.027 | M10: ='CUOTA ARTESANAL'!Q10 -> 0.70936595 | O10: ='RESUMEN '!$B$3 -> 46324 | P10: 2026
A11: LANGOSTINO AMARILLO III-IV | B11: LANGOSTINO AMARILLO | C11: IV | D11: EMBARCACIÓN | E11: ='CUOTA ARTESANAL'!C12 -> CHAFIC I | F11: 46082 | G11: 46265 | H11: ='CUOTA ARTESANAL'!E12 -> 76.531 | I11: ='CUOTA ARTESANAL'!F12 -> 0 | J11: ='CUOTA ARTESANAL'!G12 -> 76.531 | K11: ='CUOTA ARTESANAL'!H12 -> 73.274 | L11: ='CUOTA ARTESANAL'!I12 -> 3.257 | M11: ='CUOTA ARTESANAL'!J12 -> 0.95744208 | N11: ='CUOTA ARTESANAL'!K12 -> - | O11: ='RESUMEN '!$B$3 -> 46324 | P11: 2026
A12: LANGOSTINO AMARILLO III-IV | B12: LANGOSTINO AMARILLO | C12: IV | D12: EMBARCACIÓN | E12: ='CUOTA ARTESANAL'!C12 -> CHAFIC I | F12: 46296 | G12: 46387 | H12: ='CUOTA ARTESANAL'!E13 -> 8.526 | I12: ='CUOTA ARTESANAL'!F13 -> 0 | J12: ='CUOTA ARTESANAL'!G13 -> 11.783 | K12: ='CUOTA ARTESANAL'!H13 -> 10.736 | L12: ='CUOTA ARTESANAL'!I13 -> 1.047 | M12: ='CUOTA ARTESANAL'!J13 -> 0.91114317 | N12: ='CUOTA ARTESANAL'!K13 -> - | O12: ='RESUMEN '!$B$3 -> 46324 | P12: 2026
A13: LANGOSTINO AMARILLO III-IV | B13: LANGOSTINO AMARILLO | C13: IV | D13: EMBARCACIÓN | E13: CHAFIC I | F13: 46023 | G13: 46387 | H13: ='CUOTA ARTESANAL'!L12 -> 85.057 | I13: ='CUOTA ARTESANAL'!M12 -> 0 | J13: ='CUOTA ARTESANAL'!N12 -> 85.057 | K13: ='CUOTA ARTESANAL'!O12 -> 84.01 | L13: ='CUOTA ARTESANAL'!P12 -> 1.047 | M13: ='CUOTA ARTESANAL'!Q12 -> 0.98769061 | N13: - | O13: ='RESUMEN '!$B$3 -> 46324 | P13: 2026
A14: LANGOSTINO AMARILLO III-IV | B14: LANGOSTINO AMARILLO | C14: IV | D14: EMBARCACIÓN | E14: ='CUOTA ARTESANAL'!C14 -> ISLA TABON | F14: 46082 | G14: 46265 | H14: ='CUOTA ARTESANAL'!E14 -> 72.384 | I14: ='CUOTA ARTESANAL'!F15 -> 0 | J14: ='CUOTA ARTESANAL'!G15 -> 0.296 | K14: ='CUOTA ARTESANAL'!H15 -> 0 | L14: ='CUOTA ARTESANAL'!I15 -> 0.296 | M14: ='CUOTA ARTESANAL'!J15 -> 0 | N14: ='CUOTA ARTESANAL'!K15 -> - | O14: ='RESUMEN '!$B$3 -> 46324 | P14: 2026
A15: LANGOSTINO AMARILLO III-IV | B15: LANGOSTINO AMARILLO | C15: IV | D15: EMBARCACIÓN | E15: ='CUOTA ARTESANAL'!C14 -> ISLA TABON | F15: 46296 | G15: 46387 | H15: ='CUOTA ARTESANAL'!E15 -> 8.064 | I15: ='CUOTA ARTESANAL'!M14 -> -70 | J15: ='CUOTA ARTESANAL'!N14 -> 10.448 | K15: ='CUOTA ARTESANAL'!O14 -> 10.152 | L15: ='CUOTA ARTESANAL'!P14 -> 0.296 | M15: ='CUOTA ARTESANAL'!Q14 -> 0.97166922 | N15: - | O15: ='RESUMEN '!$B$3 -> 46324 | P15: 2026
A16: LANGOSTINO AMARILLO III-IV | B16: LANGOSTINO AMARILLO | C16: IV | D16: EMBARCACIÓN | E16: ISLA TABON | F16: 46023 | G16: 46387 | H16: ='CUOTA ARTESANAL'!L14 -> 80.448 | I16: ='CUOTA ARTESANAL'!M15 -> 0 | J16: ='CUOTA ARTESANAL'!N15 -> 0 | K16: ='CUOTA ARTESANAL'!O15 -> 0 | L16: ='CUOTA ARTESANAL'!P15 -> 0 | M16: ='CUOTA ARTESANAL'!Q15 -> 0 | N16: - | O16: ='RESUMEN '!$B$3 -> 46324 | P16: 2026
A17: LANGOSTINO AMARILLO III-IV | B17: LANGOSTINO AMARILLO | C17: IV | D17: EMBARCACIÓN | E17: ='CUOTA ARTESANAL'!C16 -> RESIDUAL | F17: 46082 | G17: 46265 | H17: ='CUOTA ARTESANAL'!E16 -> 22.62 | I17: ='CUOTA ARTESANAL'!F16 -> 0 | J17: ='CUOTA ARTESANAL'!G16 -> 22.62 | K17: ='CUOTA ARTESANAL'!H16 -> 22.664 | L17: ='CUOTA ARTESANAL'!I16 -> -0.044 | M17: ='CUOTA ARTESANAL'!J16 -> 1.0019452 | N17: ='CUOTA ARTESANAL'!K16 -> 46150 | O17: ='RESUMEN '!$B$3 -> 46324 | P17: 2026
A18: LANGOSTINO AMARILLO III-IV | B18: LANGOSTINO AMARILLO | C18: IV | D18: EMBARCACIÓN | E18: ='CUOTA ARTESANAL'!C16 -> RESIDUAL | F18: 46296 | G18: 46387 | H18: ='CUOTA ARTESANAL'!E17 -> 2.52 | I18: ='CUOTA ARTESANAL'!F17 -> 0 | J18: ='CUOTA ARTESANAL'!G17 -> 2.476 | K18: ='CUOTA ARTESANAL'!H17 -> 0 | L18: ='CUOTA ARTESANAL'!I17 -> 2.476 | M18: ='CUOTA ARTESANAL'!J17 -> 0 | N18: ='CUOTA ARTESANAL'!K17 -> - | O18: ='RESUMEN '!$B$3 -> 46324 | P18: 2026
A19: LANGOSTINO AMARILLO III-IV | B19: LANGOSTINO AMARILLO | C19: IV | D19: EMBARCACIÓN | E19: RESIDUAL | F19: 46023 | G19: 46387 | H19: ='CUOTA ARTESANAL'!L16 -> 25.14 | I19: ='CUOTA ARTESANAL'!F18 -> 0 | J19: ='CUOTA ARTESANAL'!G18 -> 15 | K19: ='CUOTA ARTESANAL'!H18 -> 0 | L19: ='CUOTA ARTESANAL'!I18 -> 15 | M19: ='CUOTA ARTESANAL'!J18 -> 0 | N19: ='CUOTA ARTESANAL'!K18 -> - | O19: ='RESUMEN '!$B$3 -> 46324 | P19: 2026
A20: LANGOSTINO AMARILLO III-IV | B20: LANGOSTINO AMARILLO | C20: III-IV | D20: ARTESANAL | E20: FAUNA ACOMPAÑANTE | F20: 46023 | G20: 46387 | H20: ='CUOTA ARTESANAL'!E18 -> 15 | I20: ='CUOTA ARTESANAL'!F18 -> 0 | J20: ='CUOTA ARTESANAL'!G18 -> 15 | K20: ='CUOTA ARTESANAL'!H18 -> 0 | L20: ='CUOTA ARTESANAL'!I18 -> 15 | M20: ='CUOTA ARTESANAL'!J18 -> 0 | N20: ='CUOTA ARTESANAL'!K18 -> - | O20: ='RESUMEN '!$B$3 -> 46324 | P20: 2026
A21: LANGOSTINO AMARILLO III-IV | B21: LANGOSTINO AMARILLO | C21: III-IV | D21: TOTAL ARTESANAL | E21: TOTAL ASIGNATARIO ARTESANAL | F21: 46023 | G21: 46387 | H21: ='CUOTA ARTESANAL'!E19 -> 443 | I21: ='CUOTA ARTESANAL'!F19 -> -129.079 | J21: ='CUOTA ARTESANAL'!G19 -> 313.921 | K21: ='CUOTA ARTESANAL'!H19 -> 253.083 | L21: ='CUOTA ARTESANAL'!I19 -> 60.838 | M21: ='CUOTA ARTESANAL'!J19 -> 0.80619965 | N21: ='CUOTA ARTESANAL'!K19 -> - | O21: ='RESUMEN '!$B$3 -> 46324 | P21: 2026
A22: LANGOSTINO AMARILLO III-IV | B22: LANGOSTINO AMARILLO | C22: III | D22: TITULAR LTP | E22: ='CUOTA LTP -INDUSTRIAL'!C6 -> ANTARTIC SEAFOOD S.A. | F22: 46082 | G22: 46265 | H22: ='CUOTA LTP -INDUSTRIAL'!E6 -> 21.72559 | I22: ='CUOTA LTP -INDUSTRIAL'!F6 -> -9.726 | J22: ='CUOTA LTP -INDUSTRIAL'!G6 -> 11.99959 | K22: ='CUOTA LTP -INDUSTRIAL'!H6 -> 0 | L22: ='CUOTA LTP -INDUSTRIAL'!I6 -> 11.99959 | M22: ='CUOTA LTP -INDUSTRIAL'!J6 -> 0 | N22: - | O22: ='RESUMEN '!$B$3 -> 46324 | P22: 2026
A23: LANGOSTINO AMARILLO III-IV | B23: LANGOSTINO AMARILLO | C23: III | D23: TITULAR LTP | E23: ='CUOTA LTP -INDUSTRIAL'!C6 -> ANTARTIC SEAFOOD S.A. | F23: 46296 | G23: 46387 | H23: ='CUOTA LTP -INDUSTRIAL'!E7 -> 2.20938 | I23: ='CUOTA LTP -INDUSTRIAL'!F7 -> 0 | J23: ='CUOTA LTP -INDUSTRIAL'!G7 -> 14.20897 | K23: ='CUOTA LTP -INDUSTRIAL'!H7 -> 0 | L23: ='CUOTA LTP -INDUSTRIAL'!I7 -> 14.20897 | M23: ='CUOTA LTP -INDUSTRIAL'!J7 -> 0 | N23: - | O23: ='RESUMEN '!$B$3 -> 46324 | P23: 2026
A24: LANGOSTINO AMARILLO III-IV | B24: LANGOSTINO AMARILLO | C24: III | D24: TITULAR LTP | E24: ='CUOTA LTP -INDUSTRIAL'!C6 -> ANTARTIC SEAFOOD S.A. | F24: 46023 | G24: 46387 | H24: ='CUOTA LTP -INDUSTRIAL'!K6 -> 23.93497 | I24: ='CUOTA LTP -INDUSTRIAL'!L6 -> -9.726 | J24: ='CUOTA LTP -INDUSTRIAL'!M6 -> 14.20897 | K24: ='CUOTA LTP -INDUSTRIAL'!N6 -> 0 | L24: ='CUOTA LTP -INDUSTRIAL'!O6 -> 14.20897 | M24: ='CUOTA LTP -INDUSTRIAL'!P6 -> 0 | N24: - | O24: ='RESUMEN '!$B$3 -> 46324 | P24: 2026
A25: LANGOSTINO AMARILLO III-IV | B25: LANGOSTINO AMARILLO | C25: III | D25: TITULAR LTP | E25: ='CUOTA LTP -INDUSTRIAL'!C8 -> QUINTERO S.A. PESQ. | F25: 46082 | G25: 46265 | H25: ='CUOTA LTP -INDUSTRIAL'!E8 -> 1.91603 | I25: ='CUOTA LTP -INDUSTRIAL'!F8 -> 0 | J25: ='CUOTA LTP -INDUSTRIAL'!G8 -> 1.91603 | K25: ='CUOTA LTP -INDUSTRIAL'!H8 -> 0 | L25: ='CUOTA LTP -INDUSTRIAL'!I8 -> 1.91603 | M25: ='CUOTA LTP -INDUSTRIAL'!J8 -> 0 | N25: - | O25: ='RESUMEN '!$B$3 -> 46324 | P25: 2026
A26: LANGOSTINO AMARILLO III-IV | B26: LANGOSTINO AMARILLO | C26: III | D26: TITULAR LTP | E26: ='CUOTA LTP -INDUSTRIAL'!C8 -> QUINTERO S.A. PESQ. | F26: 46296 | G26: 46387 | H26: ='CUOTA LTP -INDUSTRIAL'!E9 -> 0.19485 | I26: ='CUOTA LTP -INDUSTRIAL'!F9 -> 0 | J26: ='CUOTA LTP -INDUSTRIAL'!G9 -> 2.11088 | K26: ='CUOTA LTP -INDUSTRIAL'!H9 -> 0 | L26: ='CUOTA LTP -INDUSTRIAL'!I9 -> 2.11088 | M26: ='CUOTA LTP -INDUSTRIAL'!J9 -> 0 | N26: - | O26: ='RESUMEN '!$B$3 -> 46324 | P26: 2026
A27: LANGOSTINO AMARILLO III-IV | B27: LANGOSTINO AMARILLO | C27: III | D27: TITULAR LTP | E27: ='CUOTA LTP -INDUSTRIAL'!C8 -> QUINTERO S.A. PESQ. | F27: 46023 | G27: 46387 | H27: ='CUOTA LTP -INDUSTRIAL'!K8 -> 2.11088 | I27: ='CUOTA LTP -INDUSTRIAL'!L8 -> 0 | J27: ='CUOTA LTP -INDUSTRIAL'!M8 -> 2.11088 | K27: ='CUOTA LTP -INDUSTRIAL'!N8 -> 0 | L27: ='CUOTA LTP -INDUSTRIAL'!O8 -> 2.11088 | M27: ='CUOTA LTP -INDUSTRIAL'!P8 -> 0 | N27: - | O27: ='RESUMEN '!$B$3 -> 46324 | P27: 2026
A28: LANGOSTINO AMARILLO III-IV | B28: LANGOSTINO AMARILLO | C28: III | D28: TITULAR LTP | E28: ='CUOTA LTP -INDUSTRIAL'!C10 -> BAYCIC BAYCIC MARIA | F28: 46082 | G28: 46265 | H28: ='CUOTA LTP -INDUSTRIAL'!E10 -> 0.00177 | I28: ='CUOTA LTP -INDUSTRIAL'!F10 -> 0 | J28: ='CUOTA LTP -INDUSTRIAL'!G10 -> 0.00177 | K28: ='CUOTA LTP -INDUSTRIAL'!H10 -> 0 | L28: ='CUOTA LTP -INDUSTRIAL'!I10 -> 0.00177 | M28: ='CUOTA LTP -INDUSTRIAL'!J10 -> 0 | N28: - | O28: ='RESUMEN '!$B$3 -> 46324 | P28: 2026
A29: LANGOSTINO AMARILLO III-IV | B29: LANGOSTINO AMARILLO | C29: III | D29: TITULAR LTP | E29: ='CUOTA LTP -INDUSTRIAL'!C10 -> BAYCIC BAYCIC MARIA | F29: 46296 | G29: 46387 | H29: ='CUOTA LTP -INDUSTRIAL'!E11 -> 0.00018 | I29: ='CUOTA LTP -INDUSTRIAL'!F11 -> 0 | J29: ='CUOTA LTP -INDUSTRIAL'!G11 -> 0.00195 | K29: ='CUOTA LTP -INDUSTRIAL'!H11 -> 0 | L29: ='CUOTA LTP -INDUSTRIAL'!I11 -> 0.00195 | M29: ='CUOTA LTP -INDUSTRIAL'!J11 -> 0 | N29: - | O29: ='RESUMEN '!$B$3 -> 46324 | P29: 2026
A30: LANGOSTINO AMARILLO III-IV | B30: LANGOSTINO AMARILLO | C30: III | D30: TITULAR LTP | E30: ='CUOTA LTP -INDUSTRIAL'!C10 -> BAYCIC BAYCIC MARIA | F30: 46023 | G30: 46387 | H30: ='CUOTA LTP -INDUSTRIAL'!K10 -> 0.00195 | I30: ='CUOTA LTP -INDUSTRIAL'!L10 -> 0 | J30: ='CUOTA LTP -INDUSTRIAL'!M10 -> 0.00195 | K30: ='CUOTA LTP -INDUSTRIAL'!N10 -> 0 | L30: ='CUOTA LTP -INDUSTRIAL'!O10 -> 0.00195 | M30: ='CUOTA LTP -INDUSTRIAL'!P10 -> 0 | N30: - | O30: ='RESUMEN '!$B$3 -> 46324 | P30: 2026
A31: LANGOSTINO AMARILLO III-IV | B31: LANGOSTINO AMARILLO | C31: III | D31: TITULAR LTP | E31: ='CUOTA LTP -INDUSTRIAL'!C12 -> BRACPESCA S.A. | F31: 46082 | G31: 46265 | H31: ='CUOTA LTP -INDUSTRIAL'!E12 -> 22.59265 | I31: ='CUOTA LTP -INDUSTRIAL'!F12 -> 0 | J31: ='CUOTA LTP -INDUSTRIAL'!G12 -> 22.59265 | K31: ='CUOTA LTP -INDUSTRIAL'!H12 -> 0 | L31: ='CUOTA LTP -INDUSTRIAL'!I12 -> 22.59265 | M31: ='CUOTA LTP -INDUSTRIAL'!J12 -> 0 | N31: - | O31: ='RESUMEN '!$B$3 -> 46324 | P31: 2026
A32: LANGOSTINO AMARILLO III-IV | B32: LANGOSTINO AMARILLO | C32: III | D32: TITULAR LTP | E32: ='CUOTA LTP -INDUSTRIAL'!C12 -> BRACPESCA S.A. | F32: 46296 | G32: 46387 | H32: ='CUOTA LTP -INDUSTRIAL'!E13 -> 2.29756 | I32: ='CUOTA LTP -INDUSTRIAL'!F13 -> 0 | J32: ='CUOTA LTP -INDUSTRIAL'!G13 -> 24.89021 | K32: ='CUOTA LTP -INDUSTRIAL'!H13 -> 0 | L32: ='CUOTA LTP -INDUSTRIAL'!I13 -> 24.89021 | M32: ='CUOTA LTP -INDUSTRIAL'!J13 -> 0 | N32: - | O32: ='RESUMEN '!$B$3 -> 46324 | P32: 2026
A33: LANGOSTINO AMARILLO III-IV | B33: LANGOSTINO AMARILLO | C33: III | D33: TITULAR LTP | E33: ='CUOTA LTP -INDUSTRIAL'!C12 -> BRACPESCA S.A. | F33: 46023 | G33: 46387 | H33: ='CUOTA LTP -INDUSTRIAL'!K12 -> 24.89021 | I33: ='CUOTA LTP -INDUSTRIAL'!L12 -> 0 | J33: ='CUOTA LTP -INDUSTRIAL'!M12 -> 24.89021 | K33: ='CUOTA LTP -INDUSTRIAL'!N12 -> 0 | L33: ='CUOTA LTP -INDUSTRIAL'!O12 -> 24.89021 | M33: ='CUOTA LTP -INDUSTRIAL'!P12 -> 0 | N33: - | O33: ='RESUMEN '!$B$3 -> 46324 | P33: 2026
A34: LANGOSTINO AMARILLO III-IV | B34: LANGOSTINO AMARILLO | C34: III | D34: TITULAR LTP | E34: ='CUOTA LTP -INDUSTRIAL'!C14 -> GRIMAR S.A. PESQ. | F34: 46082 | G34: 46265 | H34: ='CUOTA LTP -INDUSTRIAL'!E14 -> 0.01021 | I34: ='CUOTA LTP -INDUSTRIAL'!F14 -> 0 | J34: ='CUOTA LTP -INDUSTRIAL'!G14 -> 0.01021 | K34: ='CUOTA LTP -INDUSTRIAL'!H14 -> 0 | L34: ='CUOTA LTP -INDUSTRIAL'!I14 -> 0.01021 | M34: ='CUOTA LTP -INDUSTRIAL'!J14 -> 0 | N34: - | O34: ='RESUMEN '!$B$3 -> 46324 | P34: 2026
A35: LANGOSTINO AMARILLO III-IV | B35: LANGOSTINO AMARILLO | C35: III | D35: TITULAR LTP | E35: ='CUOTA LTP -INDUSTRIAL'!C14 -> GRIMAR S.A. PESQ. | F35: 46296 | G35: 46387 | H35: ='CUOTA LTP -INDUSTRIAL'!E15 -> 0.00104 | I35: ='CUOTA LTP -INDUSTRIAL'!F15 -> 0 | J35: ='CUOTA LTP -INDUSTRIAL'!G15 -> 0.01125 | K35: ='CUOTA LTP -INDUSTRIAL'!H15 -> 0 | L35: ='CUOTA LTP -INDUSTRIAL'!I15 -> 0.01125 | M35: ='CUOTA LTP -INDUSTRIAL'!J15 -> 0 | N35: - | O35: ='RESUMEN '!$B$3 -> 46324 | P35: 2026
A36: LANGOSTINO AMARILLO III-IV | B36: LANGOSTINO AMARILLO | C36: III | D36: TITULAR LTP | E36: ='CUOTA LTP -INDUSTRIAL'!C14 -> GRIMAR S.A. PESQ. | F36: 46023 | G36: 46387 | H36: ='CUOTA LTP -INDUSTRIAL'!K14 -> 0.01125 | I36: ='CUOTA LTP -INDUSTRIAL'!L14 -> 0 | J36: ='CUOTA LTP -INDUSTRIAL'!M14 -> 0.01125 | K36: ='CUOTA LTP -INDUSTRIAL'!N14 -> 0 | L36: ='CUOTA LTP -INDUSTRIAL'!O14 -> 0.01125 | M36: ='CUOTA LTP -INDUSTRIAL'!P14 -> 0 | N36: - | O36: ='RESUMEN '!$B$3 -> 46324 | P36: 2026
A37: LANGOSTINO AMARILLO III-IV | B37: LANGOSTINO AMARILLO | C37: III | D37: TITULAR LTP | E37: ='CUOTA LTP -INDUSTRIAL'!C16 -> ISLADAMAS S.A. PESQ. | F37: 46082 | G37: 46265 | H37: ='CUOTA LTP -INDUSTRIAL'!E16 -> 6.24411 | I37: ='CUOTA LTP -INDUSTRIAL'!F16 -> 0 | J37: ='CUOTA LTP -INDUSTRIAL'!G16 -> 6.24411 | K37: ='CUOTA LTP -INDUSTRIAL'!H16 -> 0 | L37: ='CUOTA LTP -INDUSTRIAL'!I16 -> 6.24411 | M37: ='CUOTA LTP -INDUSTRIAL'!J16 -> 0 | N37: - | O37: ='RESUMEN '!$B$3 -> 46324 | P37: 2026
A38: LANGOSTINO AMARILLO III-IV | B38: LANGOSTINO AMARILLO | C38: III | D38: TITULAR LTP | E38: ='CUOTA LTP -INDUSTRIAL'!C16 -> ISLADAMAS S.A. PESQ. | F38: 46296 | G38: 46387 | H38: ='CUOTA LTP -INDUSTRIAL'!E17 -> 0.63499 | I38: ='CUOTA LTP -INDUSTRIAL'!F17 -> 0 | J38: ='CUOTA LTP -INDUSTRIAL'!G17 -> 6.8791 | K38: ='CUOTA LTP -INDUSTRIAL'!H17 -> 0 | L38: ='CUOTA LTP -INDUSTRIAL'!I17 -> 6.8791 | M38: ='CUOTA LTP -INDUSTRIAL'!J17 -> 0 | N38: - | O38: ='RESUMEN '!$B$3 -> 46324 | P38: 2026
A39: LANGOSTINO AMARILLO III-IV | B39: LANGOSTINO AMARILLO | C39: III | D39: TITULAR LTP | E39: ='CUOTA LTP -INDUSTRIAL'!C16 -> ISLADAMAS S.A. PESQ. | F39: 46023 | G39: 46387 | H39: ='CUOTA LTP -INDUSTRIAL'!K16 -> 6.8791 | I39: ='CUOTA LTP -INDUSTRIAL'!L16 -> 0 | J39: ='CUOTA LTP -INDUSTRIAL'!M16 -> 6.8791 | K39: ='CUOTA LTP -INDUSTRIAL'!N16 -> 0 | L39: ='CUOTA LTP -INDUSTRIAL'!O16 -> 6.8791 | M39: ='CUOTA LTP -INDUSTRIAL'!P16 -> 0 | N39: - | O39: ='RESUMEN '!$B$3 -> 46324 | P39: 2026
A40: LANGOSTINO AMARILLO III-IV | B40: LANGOSTINO AMARILLO | C40: III | D40: TITULAR LTP | E40: ='CUOTA LTP -INDUSTRIAL'!C18 -> MOROZIN BAYCIC MARIA ANA | F40: 46082 | G40: 46265 | H40: ='CUOTA LTP -INDUSTRIAL'!E18 -> 0.00591 | I40: ='CUOTA LTP -INDUSTRIAL'!F18 -> 0 | J40: ='CUOTA LTP -INDUSTRIAL'!G18 -> 0.00591 | K40: ='CUOTA LTP -INDUSTRIAL'!H18 -> 0 | L40: ='CUOTA LTP -INDUSTRIAL'!I18 -> 0.00591 | M40: ='CUOTA LTP -INDUSTRIAL'!J18 -> 0 | N40: - | O40: ='RESUMEN '!$B$3 -> 46324 | P40: 2026
...
